Workbook
Name _9._기타의_사업: '1212급여-상여달'!$E$26
Name _9._기타의_사업: '1213급여-산출기초 (2)'!$E$26
Name _9._기타의_사업: '1212급여-산출기초'!$E$26
Name bizforms: "bizforms.co.kr"
Name 가족수: '[1]소득세 2011'!#REF!
Name 가족수: '[1]소득세 2011'!#REF!
Name 가족수: '[1]소득세 2011'!#REF!
Name 가족수: '[1]소득세 2011'!#REF!
Name 가족수: '[1]소득세 2011'!#REF!
Name 가족수: '[1]소득세 2011'!#REF!
Name 가족수: '[1]소득세 2011'!#REF!
Name 갑근세: '[1]소득세 2011'!$A$8:$M$654
Name 급여대장: '1212급여-상여달'!$B$10:$X$307
Name 급여대장: '1213급여-산출기초 (2)'!$B$10:$X$307
Name 급여대장: '1212급여-산출기초'!$B$10:$X$307
Name 성명: '1212급여-상여달'!$B$10:$B$307
Name 성명: '1213급여-산출기초 (2)'!$B$10:$B$307
Name 성명: '1212급여-산출기초'!$B$10:$B$307
Name 성명목록: OFFSET('1212급여-상여달'!$B$10,0,0,COUNTA('1212급여-상여달'!$B$10:$B$39),1)
Name 성명목록: OFFSET('1213급여-산출기초 (2)'!$B$10,0,0,COUNTA('1213급여-산출기초 (2)'!$B$10:$B$39),1)
Name 성명목록: OFFSET('[2]1212급여-산출기초'!$B$10,0,0,COUNTA('[2]1212급여-산출기초'!$B$10:$B$39),1)
Name 성명목록: OFFSET('[2]1212급여-산출기초'!$B$10,0,0,COUNTA('[2]1212급여-산출기초'!$B$10:$B$39),1)
Name 성명목록: OFFSET('1212급여-산출기초'!$B$10,0,0,COUNTA('1212급여-산출기초'!$B$10:$B$39),1)

Sheet 예결심의
A1: 5) 재정보고(8월)
A2: 가. 총수입 :5,032,500 / 총지출 : 10,145,256원(이월금: 16,023,880원) 나. 9월 CMS집금 : 241건 4,333,000원) 9월 4회차 10월로 이월
A4: 관 | B4: 항 | C4: 목 | D4: 사무국 | E4: 가정방문 | F4: 공부방 | G4: 동남아시아 | H4: 교육 연구 | I4: 북녘 | J4: 계 | K4: 예산대비누적 | L4: 누적액 | M4: 1-2월 | N4: 2 | O4: 3 | P4: 4 | Q4: 5 | R4: 6 | S4: 7 | T4: 8 | U4: 9 | V4: 10 | W4: 11 | X4: 12 | Y4: 예산 | Z4: 비고
A5: 전월이월금 | J5: 23740120 | P5: 11202996 | Q5: 14538965 | R5: 14538965 | S5: 13447606 | Y5: 12099250 | AA5: 3) 2013년 예산(안) | AF5: < 수입계 >
A6: 사업외수익 | J6: 1600 | L6: 0 | M6: 0 | P6: - | Q6: - | R6: 5433 | V6: 1600 | Y6: 100000 | AA6: 순수입 | AB6: 예산대비 누적(%) | AC6: 2012'1-10월 결산(원) | AD6: 2012'예산(원) | AE6: 2013'예산(원) | AF6: 비고
A7: 회비 | J7: =J8+J9 -> 4978000 | K7: =L7/Y7 -> 0.76590278 | L7: =SUM(M7:X7) -> 44116000 | M7: 6671000 | O7: 7167000 | P7: 4773000 | Q7: 2245000 | R7: 4443000 | S7: 7961000 | T7: 4683000 | U7: 1195000 | V7: 4978000 | Y7: =Y8+Y9 -> 57600000 | AA7: 정기후원금 (개인후원금,회비,단체 정기후원) | AB7: =AC7/AD7*100 -> 84.615385 | AC7: 110000000 | AD7: 130000000 | AE7: 135000000 | AF7: 고정수입(월1,250만원) | AH7: 정기후원금 | AI7: =AE7 -> 135000000
B8: 회비 | C8: 개인회비 | J8: 4078000 | K8: =L8/Y8 -> 0.75585185 | L8: =SUM(M8:X8) -> 40816000 | M8: 6071000 | O8: 6867000 | P8: 4473000 | Q8: 1945000 | R8: 4143000 | S8: 7661000 | T8: 4383000 | U8: 1195000 | V8: 4078000 | Y8: 54000000 | AA8: 기타후원금 (개인,기업&단체 비정기, 목적 후원) | AB8: =AC8/AD8*100 -> 100 | AC8: 10000000 | AD8: 10000000 | AE8: 10000000 | AF8: 비정기 수입 | AH8: 기타후원금 | AI8: =AE8 -> 10000000
C9: 단체회비 | J9: 900000 | K9: =L9/Y9 -> 0.91666667 | L9: =SUM(M9:X9) -> 3300000 | M9: 600000 | O9: 300000 | P9: 300000 | Q9: 300000 | R9: 300000 | S9: 300000 | T9: 300000 | V9: 900000 | Y9: 3600000 | Z9: 한국누가회 정기후원 | AA9: 보조금 (서울시,강북구,모금회 등 외부사업비) | AB9: =AC9/AD9*100 -> 88.235294 | AC9: 15000000 | AD9: 17000000 | AE9: 15000000 | AF9: 서울시 공익사업 | AH9: 보조금 | AI9: =AE9 -> 15000000
AA10: 순수입 총계 | AB10: =AC10/AD10*100 -> 85.987261 | AC10: =SUM(AC7:AC9) -> 135000000 | AD10: =SUM(AD7:AD9) -> 157000000 | AE10: =SUM(AE7:AE9) -> 160000000 | AF10: 순수입 : 1억6천만
AA11: 기타수입(동남아) | AB11: =AC11/AD11*100 -> 75 | AC11: 22500000 | AD11: 30000000 | AE11: 30000000
AA12: 기타수입(치과 치료비 기부금처리) | AB12: =AC12/AD12*100 -> 0 | AD12: 20000000 | AE12: 14000000
AA13: 기타수입(북녘) | AB13: =AC13/AD13*100 -> 0 | AD13: 10000000 | AE13: 6000000
AA14: 기타수입 총계 | AB14: =AC14/AD14*100 -> 37.5 | AC14: =SUM(AC11:AC13) -> 22500000 | AD14: =SUM(AD11:AD13) -> 60000000 | AE14: =SUM(AE11:AE13) -> 50000000 | AF14: 기타수입 : 5천만
A15: 후원금 | J15: =SUM(J16:J22) -> 6232000 | K15: =L15/Y15 -> 0.74549442 | L15: =SUM(M15:X15) -> 93485000 | M15: 10123090 | O15: 10706620 | P15: 9394300 | Q15: 16861500 | R15: 15606690 | S15: 10510730 | T15: 10212570 | U15: 3837500 | V15: 6232000 | Y15: =Y16+Y17+Y18+Y19+Y20+Y21+Y22 -> 125400000 | AA15: 수입 총계 | AB15: =AC15/AD15*100 -> 72.580645 | AC15: =AC14+AC10 -> 157500000 | AD15: =AD14+AD10 -> 217000000 | AE15: =AE14+AE10 -> 210000000 | AF15: 총수입 : 2억1천만
B16: 후원금 | C16: 개인후원금 | J16: 5860000 | K16: =L16/Y16 -> 1.026467 | L16: =SUM(M16:X16) -> 56045100 | M16: 8031000 | O16: 8322000 | P16: 5495000 | Q16: 3042600 | R16: 6387000 | S16: 8645000 | T16: 6795000 | U16: 3467500 | V16: 5860000 | Y16: 54600000
C17: 후원저금통 | K17: =L17/Y17 -> 0.53692708 | L17: =SUM(M17:X17) -> 515450 | M17: 118090 | O17: 83240 | P17: 75400 | R17: 178990 | S17: 59730 | Y17: 960000 | Z17: 김실,강충원
C18: 목적후원금 | J18: 70000 | K18: =L18/Y18 -> 0.11098 | L18: =SUM(M18:X18) -> 2219600 | M18: 900000 | P18: 247000 | Q18: 22900 | R18: 839700 | T18: 70000 | U18: 70000 | V18: 70000 | Y18: 20000000
C19: 동남아후원 | K19: =L19/Y19 -> 0.75 | L19: =SUM(M19:X19) -> 22500000 | Q19: 13200000 | R19: 8200000 | S19: 1100000 | Y19: 30000000 | Z19: 캄보디아 항공비 추가 입금분 포함
C20: 북한분유보내기 | L20: =SUM(M20:X20) -> 46570 | T20: 46570 | Y20: 10000000 | Z20: 김예은
C21: 기타후원금 | J21: 2000 | K21: =L21/Y21 -> 1.7682372 | L21: =SUM(M21:X21) -> 11033800 | M21: 1074000 | O21: 3276900 | P21: 3276900 | Q21: 296000 | R21: 1000 | S21: 106000 | T21: 3001000 | V21: 2000 | Y21: 6240000 | Z21: 김재철님 후원(300만원), 싸이월드 모금함
C22: 단체후원금 | J22: 300000 | K22: =L22/Y22 -> 0.91666667 | L22: =SUM(M22:X22) -> 3300000 | M22: 900000 | O22: 300000 | P22: 300000 | Q22: 300000 | S22: 600000 | T22: 300000 | U22: 300000 | V22: 300000 | Y22: 3600000 | Z22: 서경누가회 정기후원 | AF22: < 지출계 >
A23: 보조금 | J23: =J24 -> 0 | K23: =L23/Y23 -> 0.88235294 | L23: =SUM(M23:X23) -> 15000000 | Q23: 10500000 | R23: - | S23: - | T23: 4500000 | V23: - | Y23: =Y24+Y25 -> 17000000
B24: 지원금 | C24: 서울시정 | K24: =L24/Y24 -> 1 | L24: =SUM(M24:X24) -> 15000000 | Q24: 10500000 | T24: 4500000 | Y24: 15000000
C25: 강북구청 | J25: - | L25: =SUM(M25:X25) -> 0 | M25: - | P25: - | Q25: - | R25: - | S25: - | T25: - | V25: - | Y25: 2000000
A26: 계 | J26: =SUM(J15,J7,J23,J6) -> 11211600 | K26: =L26/Y26 -> 0.71914015 | L26: =L23+L15+L7 -> 152601000 | M26: =M23+M15+M7 -> 16794090 | O26: 17873620 | P26: 14167300 | Q26: 29606500 | R26: 20055123 | S26: 18471730 | T26: 19395570 | Y26: =Y23+Y15+Y7+Y6+Y5 -> 212199250
S27: 10468430
A28: 사업 운영비 | J28: =J29 -> 2745390 | K28: =L28/Y28 -> 0.73452953 | L28: =SUM(M28:X28) -> 74892631 | M28: 1595620 | O28: 5967895 | P28: 4877630 | Q28: 23737890 | R28: 14872730 | S28: 10468430 | T28: 4675876 | U28: 6175170 | V28: 2521390 | Y28: =Y29 -> 101960000 | AA28: 지출 (순지출 중심으로 표시) | AB28: 예산대비 누적(%) | AC28: 2012'1-10월 결산(원) | AD28: 예산(원) | AE28: 2013'예산(원) | AF28: 비고
B29: 진행비 | J29: =SUM(J30:J54) -> 2745390 | K29: =L29/Y29 -> 0.65200089 | L29: =SUM(M29:X29) -> 66478011 | M29: 3649430 | O29: 5967895 | P29: 4877630 | Q29: 23737890 | R29: 14872730 | T29: 4675876 | U29: 6175170 | V29: 2521390 | Y29: =SUM(Y30:Y54) -> 101960000 | AA29: 인건비 (급여/퇴직금/보험금/복리후생) | AB29: =AC29/AD29*100 -> 64.705882 | AC29: 55000000 | AD29: 85000000 | AE29: 57000000 | AF29: 3명예산/1명분 축소 | AH29: 인건비 | AI29: =AE29 -> 57000000
C30: 치과의료지원비 | J30: =SUM(D30:I30) -> 0 | K30: =L30/Y30 -> 0.5596 | L30: =SUM(M30:X30) -> 5596000 | M30: 63000 | O30: 2980000 | P30: - | Q30: - | R30: 2100500 | S30: 452500 | T30: - | U30: - | V30: - | Y30: 10000000 | AA30: 관리비 (임차료,공공요금,차량,비품,우편통신) | AB30: =AC30/AD30*100 -> 81.818182 | AC30: 18000000 | AD30: 22000000 | AE30: 22000000 | AH30: 관리비 | AI30: =AE30 -> 22000000
C31: 의과의료지원비 | E31: 24000 | J31: =SUM(D31:I31) -> 24000 | K31: =L31/Y31 -> 0.25970571 | L31: =SUM(M31:X31) -> 1817940 | M31: 1341890 | O31: 119100 | P31: - | Q31: 151600 | R31: - | S31: - | T31: 161230 | U31: 20120 | V31: 24000 | Y31: 7000000 | AA31: 사업비 (1. 지역보건 및 주요사업비) | AB31: =AC31/AD31*100 -> 66.530612 | AC31: =AC34 -> 32600000 | AD31: =AD34 -> 49000000 | AE31: =AE34 -> 81000000 | AF31: 2. 기타사업비 제외 | AH31: 사업비 | AI31: =AE31 -> 81000000
C32: 영양보충비 | E32: 224000 | J32: =SUM(D32:I32) -> 224000 | K32: =L32/Y32 -> 0.42693333 | L32: =SUM(M32:X32) -> 768480 | M32: - | O32: - | P32: - | Q32: 102400 | R32: - | S32: 237200 | T32: - | U32: 204880 | V32: 224000 | Y32: 1800000 | AA32: 순지출 총계 | AB32: =AC32/AD32*100 -> 67.692308 | AC32: =SUM(AC29:AC31) -> 105600000 | AD32: =SUM(AD29:AD31) -> 156000000 | AE32: =SUM(AE29:AE31) -> 160000000 | AF32: 1억6천만
AA34: 1. 지역보건 및 주요 사업비 세부 | AB34: =AC34/AD34*100 -> 66.530612 | AC34: =SUM(AC35:AC41) -> 32600000 | AD34: =SUM(AD35:AD41) -> 49000000 | AE34: =SUM(AE35:AE41) -> 81000000
C35: 안과의료지원비 | F35: 149800 | J35: =SUM(D35:I35) -> 149800 | K35: =L35/Y35 -> 0.70356 | L35: =SUM(M35:X35) -> 703560 | M35: - | O35: 20200 | P35: 44360 | Q35: - | R35: - | S35: 120400 | T35: 348300 | U35: 20500 | V35: 149800 | Y35: 1000000 | Z35: 공부방아동 안경맞춤비 | AA35: 치과치료비(순지출) | AB35: =AC35/AD35*100 -> 84 | AC35: 4200000 | AD35: 5000000 | AE35: 8000000 | AF35: 어르신380만원/비키50만원
C36: 심리검사및치료 | J36: =SUM(D36:I36) -> 0 | K36: =L36/Y36 -> 1.2550185 | L36: =SUM(M36:X36) -> 13554200 | M36: - | O36: 986200 | P36: 3984600 | Q36: 75600 | R36: - | S36: 5430300 | T36: - | U36: 3077500 | V36: - | Y36: 10800000 | AA36: 공부방 정서치료비 | AB36: =AC36/AD36*100 -> 100 | AC36: 10000000 | AD36: 10000000 | AE36: 8000000 | AH36: 치과치료 | AI36: =AE35 -> 8000000
C37: 재가의료용품지원비 | J37: =SUM(D37:I37) -> 0 | L37: =SUM(M37:X37) -> 0 | M37: - | O37: - | P37: - | Q37: - | R37: - | S37: - | T37: - | U37: - | V37: - | Y37: 360000 | AA37: 공부방 기타지출(의과,안과 외) | AB37: =AC37/AD37*100 -> 60 | AC37: 600000 | AD37: 1000000 | AE37: 2000000 | AH37: 공부방정서치료 | AI37: =AE36 -> 8000000
C38: 재가복지용품지원비 | J38: =SUM(D38:I38) -> 0 | K38: =L38/Y38 -> 0.2 | L38: =SUM(M38:X38) -> 60000 | M38: 60000 | O38: - | P38: - | Q38: - | R38: - | S38: - | T38: - | U38: - | V38: - | Y38: 300000 | AA38: 독거노인(의료비,영양보충제/밝누모/사례자문) | AB38: =AC38/AD38*100 -> 50 | AC38: 7000000 | AD38: 14000000 | AE38: 15000000 | AF38: 의료비:100만원 | AH38: 공부방기타 | AI38: =AE37 -> 2000000
C39: 가정환경지원비 | E39: 64800 | J39: =SUM(D39:I39) -> 64800 | K39: =L39/Y39 -> 0.42309524 | L39: =SUM(M39:X39) -> 355400 | M39: 150000 | O39: 70300 | P39: 70300 | Q39: - | R39: - | S39: - | T39: - | U39: - | V39: 64800 | Y39: 840000 | AA39: 홍보,행사(후원자의밤,홍보물,달력,홈페이지,외) | AB39: =AC39/AD39*100 -> 46.153846 | AC39: 6000000 | AD39: 13000000 | AE39: 12000000 | AF39: 후원자의밤,홈페이지,달력미결제 | AH39: 독거노인 | AI39: =AE38 -> 15000000
AA40: 활동비(활동가식사,기관선물,운영회의비,MT 외) | AB40: =AC40/AD40*100 -> 80 | AC40: 4800000 | AD40: 6000000 | AE40: 6000000 | AF40: 동남아,의료학교제외 | AH40: 홍보행사 | AI40: =AE39 -> 12000000
AA41: 예비비(간사1인인건비,치과&정신보건 외) | AE41: 30000000 | AF41: 인건비 및 사업비 유동성 | AH41: 활동비 | AI41: =AE40 -> 6000000
AH42: 예비비 | AI42: =AE41 -> 30000000
...

Sheet 2012-13'세입예결산(안)
A6: 2012-2013년 예·결산서
A9: (* 결산 회계년도: 2012. 1. 1 - 2012. 12. 31)
A10: (* 예산 회계년도: 2013. 1. 1 - 2013. 12. 31)
A11: * 결산총액 : 207,824,464 (이억칠백팔십이만사천사백육십사원정)
K12: 사업수익 | L12: 195709928 | M12: (일금 일억구천오백칠십만구천구백이십팔원정)
K13: 사업외수익 | L13: 12114536 | M13: (일금 일천이백십일반사천오백삼십육원정)
K14: (전년도 이월금,이자수익 포함)
A15: * 예산총액 : 232,400,000원 (이억삼천이백사십만원정)
K16: 사업수익 | L16: 213000000 | M16: (일금 이억천삼백만원)
K17: 사업외수익 | L17: 19400000 | M17: (일금 일천구백사십만원정)
K18: (전년도 이월금,이자수익 포함)
J20: ▣ 예산(안) 심의 1차 : 2012.12.8. 정기이사회 ▣ 예·결산(안) 심의 2차 : 2013.1.13. 정기이사회 ▣예·결산(안) 승인일 : 2013.1.13. 정기총회
BD33: 순수입 | BE33: =BE74 -> 169166304
BD34: 기타수입 | BE34: =BE36 -> 26528910
BD36: 기타수입 | BE36: =J124 -> 26528910
C37: 올해 총 예산은 1억5천만원으로 전년도 대비 약 50%정도로 책정될 계획입니다. 예산 감소의 이유는 우선 외부지원금 - 모금회 지원금 7천만원감소 그리고 올해 예산에서 사업확대 및 후원금 증액 등을 계획해서 예산을 공격적으로 상향해서 잡아놓았던 부분을 올해 실제 들어온 수입에 준해서 내년도 예산으로 잡으셨다고 보면 됩니다 | J37: 자부담과 외부 보조금 비율 측면을 보시면 자체 수입이 1억3천정도 되고 보조금이 천칠백만원정도 됩니다. | P37: 수입항목별 구성비를 보시면 후원금 중 고정수입(개이,단체) 1억1천만원, 기타 비정기 수입이 1천팔백만원 그리고 1천 7백원원이 보조금으로 내년도 예산은 고정적으로 들어오는 정기 후원액 중심으로 운영이 될 예정입니다. 현 예산에 포함되지는 않았지만 보조금의 경우 사업별로 지원가능한 기회가 있으면 지원받아서 예산이 충원될 수도 있습니다.
AJ39: 자부담 | AK39: 보조금 | AL39: 2011년결산 | AM39: 2012년예산 | AN39: 후원금(정기CMS및 계좌) 고정수입 | AO39: 비정기 | AP39: 보조금 | AQ39: 동남아후원 | AR39: 북한분유
AJ40: =AJ41/AA41 -> 0.92380099 | AK40: =AK41/AA41 -> 0.076199014 | AL40: =M51 -> 189492347 | AM40: =I51 -> 223100000 | AN40: =X54+X55+X64+X58 -> 0 | AO40: 27200000 | AP40: 17000000 | AQ40: 30000000 | AR40: 10000000 | AS40: =SUM(AN40:AR40) -> 84200000
AA41: =AJ41+AK41 -> 223100000 | AJ41: =I53+I57+I69 -> 206100000 | AK41: 17000000 | AL41: =AL42+AL57 -> 0 | AM41: 299770000 | AN41: =AN40/AS40 -> 0 | AO41: =AO40/AS40 -> 0.32304038 | AP41: =AP40/AS40 -> 0.20190024 | AQ41: =AQ40/AS40 -> 0.35629454 | AR41: =AR40/AS40 -> 0.11876485
AA42: =AJ42+AK42 -> 189492347 | AJ42: =M53+M57+M69 -> 174492347 | AK42: =M65 -> 15000000
C43: 1-2) 2013 세입예산 세부
K48: =K51/J51 -> 0.051370351 | O48: =N51/I51 -> 0.15063941 | X48: (단위:원)
B49: 개인회비 | C49: 과 목 | I49: 2013년예산 | J49: 2012년예산 | K49: 예산대비 증감(A)-(B) | M49: 2012'1~11월결산 | N49: 결산대비 증감 (A)-© | P49: 예산산출내역 | AL49: =I53+I57+I70+I71+#REF! -> #REF! | AM49: =AL49/AL51 -> #REF!
A50: 2009예산 | B50: 54000 | C50: 관 | E50: 항 | G50: 목 | I50: (A) | J50: (B) | K50: 금액 | L50: 비율(%) | M50: (C) | N50: 금액 | O50: 비율(%) | AJ50: =AJ42/AA42 -> 0.92084113 | AK50: =AK42/AA42 -> 0.07915887 | AL50: =I65 -> 17000000 | AM50: =AL50/AL51 -> #REF! | AN50: cms,계좌 고정후원금 | AO50: 비정기 | AP50: 보조금 | AQ50: 동남아후원 | AR50: 북한분유후원
A51: 2009결산 | B51: 48424 | C51: 총 계 | I51: =I52+I69 -> 223100000 | J51: 212199250 | K51: =I51-J51 -> 10900750 | L51: =K51/J51 -> 0.051370351 | M51: =SUM(M53+M57+M65+M70+M72) -> 189492347 | N51: =I51-M51 -> 33607653 | O51: =N51/I51 -> 0.15063941 | AL51: =SUM(AL49:AL50) -> #REF! | AN51: 0.579 | AO51: 0.136 | AP51: 0.085 | AQ51: 0.15 | AR51: 0.05
C52: 사업수익 | I52: =I53+I57+I65 -> 213000000 | J52: =J53+J57+J65 -> 212000000 | K52: =I52-J52 -> 1000000 | L52: =K52/J52 -> 0.0047169811 | M52: =SUM(M53,M57,M65) -> 182903728 | N52: =SUM(N53,N57,N65) -> 30096272 | O52: =N52/I52 -> 0.14129705 | AA52: 298000000
C53: 410 | D53: 회 비 | E53: 411 | F53: 회 비 | G53: 소계 | I53: =I54+I55 -> 61400000 | J53: =J54+J55 -> 57600000 | K53: =SUM(I53-J53) -> 3800000 | L53: =K53/J53 -> 0.065972222 | M53: =SUM(M54:M55) -> 52308840 | N53: =I53-M53 -> 9091160 | O53: =I53/M53 -> 1.1737978 | AA53: =I51-AA52 -> -74900000 | AK53: 개인후원475명 | AN53: cms,계좌 고정후원금 | AO53: 비정기 | AP53: 보조금 | AQ53: 동남아후원
G54: 411-01-00 | H54: 개인회비 | I54: 57800000 | J54: 54000000 | K54: =SUM(I54-J54) -> 3800000 | L54: =K54/J54 -> 0.07037037 | M54: 49008840 | N54: =I54-M54 -> 8791160 | O54: =I54/M54 -> 1.1793791 | AA54: =X54/12 -> 0 | AJ54: 자부담 | AK54: 보조금 | AN54: =M54+M55+M58+M64 -> 122796100 | AO54: =M59+M60 -> 14044150 | AP54: =M65 -> 15000000 | AQ54: =M61 -> 22500000 | AR54: =SUM(AN54:AQ54) -> 174340250
G55: 411-01-01 | H55: 단체회비 | I55: 3600000 | J55: 3600000 | K55: =J55-I55 -> 0 | L55: =K55/J55 -> 0 | M55: 3300000 | N55: =I55-M55 -> 300000 | O55: =I55/M55 -> 1.0909091 | P55: 한국누가회 | Q55: 월30만원 | AJ55: 0.688 | AK55: 0.312 | AN55: =AN54/AR54 -> 0.70434739 | AO55: =AO54/AR54 -> 0.080555982 | AP55: =AP54/AR54 -> 0.086038651 | AQ55: =AQ54/AR54 -> 0.12905798
C57: 420 | D57: 후원금 | E57: 421 | F57: 후원금 | G57: 소계 | I57: =I58+I59+I60+I61+I62+I63+I64 -> 134600000 | J57: =J58+J59+J60+J61+J62+J63+J64 -> 137400000 | K57: =SUM(I57-J57) -> -2800000 | L57: =K57/J57 -> -0.020378457 | M57: =SUM(M58:M64) -> 115594888 | N57: =I57-M57 -> 19005112 | O57: =I57/M57 -> 1.1644114 | AN57: cms,계좌 고정후원금 | AO57: 비정기 | AP57: 보조금 | AQ57: 동남아후원
G58: 421-01-00 | H58: 개인후원금 | I58: 70000000 | J58: 68800000 | K58: =SUM(I58-J58) -> 1200000 | L58: =K58/J58 -> 0.01744186 | M58: 67187260 | N58: =I58-M58 -> 2812740 | O58: =I58/M58 -> 1.0418642 | AA58: =X58/12 -> 0 | AK58: =X54+X58 -> 0 | AL58: =AK58/12 -> 0 | AN58: 50.7 | AO58: 8.7 | AP58: 34.3 | AQ58: 6.3
G59: 421-01-01 | H59: 후원저금통 | I59: 1000000 | J59: 1000000 | K59: =SUM(I59-J59) -> 0 | L59: =K59/J59 -> 0 | M59: 644150 | N59: =I59-M59 -> 355850 | O59: =I59/M59 -> 1.5524334 | P59: 후원저금통 모금 | AK59: =X55+X64 -> 0
G60: 421-01-02 | H60: 치과치료후원금 | I60: 15000000 | J60: 15000000 | K60: =SUM(I60-J60) -> 0 | L60: =K60/J60 -> 0 | M60: 13400000 | N60: =I60-M60 -> 1600000 | O60: =I60/M60 -> 1.119403 | P60: 목적후원(치료병원 연계시 치료비 후 기부금 처리 금액 ) | AL60: =AK58+AK59 -> 0 | AM60: =AL60/12 -> 0
H61: 동남아후원 | I61: 30000000 | J61: 30000000 | K61: =SUM(I61-J61) -> 0 | L61: 신규 | M61: 22500000 | N61: =I61-M61 -> 7500000 | O61: =I61/M61 -> 1.3333333
H62: 북한분유보내기 | I62: 6000000 | J62: 10000000 | K62: =SUM(I62-J62) -> -4000000 | L62: 신규
G63: 421-01-03 | H63: 기타후원금 | I63: 9000000 | J63: 9000000 | K63: =SUM(I63-J63) -> 0 | L63: =K63/J63 -> 0 | M63: 8563478 | N63: =I63-M63 -> 436522 | O63: =I63/M63 -> 1.0509748 | P63: 5주년,달력판매,기업후원 외
G64: 421-01-04 | H64: 단체후원금 | I64: 3600000 | J64: 3600000 | K64: =SUM(I64-J64) -> 0 | L64: =K64/J64 -> 0 | M64: 3300000 | N64: =I64-M64 -> 300000 | O64: =I64/M64 -> 1.0909091 | P64: 서경누가회 | Q64: 월30만원 | AA64: =AA58+AA54 -> 0
E65: 460 | F65: 보조금 | G65: 소계 | I65: =I66+I67+I68 -> 17000000 | J65: 17000000 | K65: =SUM(I65-J65) -> 0 | L65: =I65/J65 -> 1 | M65: =M67 -> 15000000 | N65: =I65-M65 -> 2000000 | O65: =I65/M65 -> 1.1333333 | AA65: 8500000
G66: 461-01-00 | H66: 공동모금회 | K66: =SUM(I66-J66) -> 0 | L66: 미신청 | N66: =I66-M66 -> 0 | O66: =I66/M66 -> #DIV/0! | AA66: =AA64-AA65 -> -8500000
G67: 461-01-01 | H67: 서울시정사업 | I67: 15000000 | J67: 15000000 | K67: =SUM(I67-J67) -> 0 | L67: =K67/J67 -> 0 | M67: 15000000 | N67: =I67-M67 -> 0 | O67: =I67/M67 -> 1
...

Sheet 2012-13'세출예결산개요
A2: 2)-3. 2012-2013 세출예·결산 세부
A3: 1. 총예산 150,000,000 (일억오천만원정) -------------------------------------- 자부담 216,154,000 (약 2억1천6백만) / 72.1% 보조금 83,616,000 (약 8천4백만) / 27.9% | E3: 2. 금년도(2010)예산 대비 104,025,683원 (약 1억4백만원) 증액/ 53.1% 3. 금년도(2010)결산 대비 60,674,209원 (약 7천1백만원) 증액/ 24%
AN5: 2012결산 | AO5: 2012결산
AM6: 치과치료 | AN6: =AO6/AO16 -> 0.05866648 | AO6: 6323500
AM7: 공부방정서치료 | AN7: =AO7/AO16 -> 0.12345799 | AO7: 13307200
AM8: 공부방기타치료 | AN8: =AO8/AO16 -> 0.027242084 | AO8: 2936350
AM9: 독거노인 | AN9: =AO9/AO16 -> 0.099934153 | AO9: 10771630
AM10: 홍보,행사 | AN10: =AO10/AO16 -> 0.088720213 | AO10: 9562910
AM11: 활동비 | AN11: =AO11/AO16 -> 0.070376443 | AO11: 7585685
AM12: 기타-치과치료 | AN12: =AO12/AO16 -> 0.13266872 | AO12: 14300000
AM13: 기타-동남아 | AN13: =AO13/AO16 -> 0.27832599 | AO13: 30000000
AM14: 기타-교육연구 | AN14: =AO14/AO16 -> 0.027832599 | AO14: 3000000
AM15: 기타-북녘 | AN15: =AO15/AO16 -> 0.09277533 | AO15: 10000000
AN16: =SUM(AN6:AN15) -> 1 | AO16: =SUM(AO6:AO15) -> 107787275
A31: ※ 항목별 구성비 변화 | B31: ※ 2011-2012년 세출 개요 | K31: ※ 사업단위별 구성비 변화 | Q31: ※ 항목별 구성비 변화
B32: 1)사무국 | C32: 인원감소로 인건비 외 예산 감소 29.3% | K32: 1)사무국 | L32: 인원감소로 인건비 외 예산 감소 29.3% | R32: 1)진행비: 금년 대비 34% ▼(약 4천9백만원 감소)
C33: 회원/ 연대 사업단위를 사무국으로 예산 통합(홍보,후원자의 밤 외) | L33: 회원/ 연대 사업단위를 사무국으로 예산 통합(홍보,후원자의 밤 외)
B34: 2)가정방문 | C34: 금년 대비 31.7%▼ | K34: 2)가정방문 | L34: 금년 대비 31.7%▼ | R34: 2)인건비:금년 대비 37.4% ▼(약 4천8백만원 감소) 간사 2인 사직으로 인건비 감소
B35: 3)공부방 | C35: 금년 대비 54.7%▼(모금회 3차 사업 미신청) | K35: 3)공부방 | L35: 금년 대비 54.7%▼(모금회 3차 사업 미신청)
B36: 4)동남아시아 | C36: 캄보디아 사업 진행 및 예산확대로 3천만원 증액 | K36: 4)동남아시아 | L36: 캄보디아 사업 진행 및 예산확대로 3천만원 증액
B37: 5)교육/연구 | C37: 금년도 사업 예산 기준 | K37: 5)교육/연구 | L37: 금년도 사업 예산 기준 | R37: 3)관리비: 금년 대비 8.2% ▼(약 2백만원 감소) 사무실 유지에 필요한 기본경비 금년과 유사
B38: 6)북한분유 보내기사업 | C38: 2012신규 사업으로 1천만원 신규 | K38: 6)북한분유 보내기사업 | L38: 2012신규 사업으로 1천만원 신규 | AE38: =AE39+AE40+AE41 -> 182400000 | AF38: =AF39+AF40+AF41 -> 154255858 | AJ38: 2013예산 | AK38: 2012결산
AD39: 인건비 | AE39: =M42 -> 58448686 | AF39: =I42 -> 61549121 | AG39: =AE39/AF39 -> 0.94962666 | AH39: =AE39-AF39 -> -3100435 | AI39: 인건비 | AJ39: 58448686 | AK39: 61549121
B40: 지출 (순지출 중심으로 표시) | G40: 2012결산대비증감 | I40: 2012결산(원) | K40: 2012예산(원) | M40: 2013예산(원) | P40: 비 고 | AD40: 관리비 | AE40: =M43 -> 20608000 | AF40: =I43 -> 22823277 | AG40: =AE40/AF40 -> 0.90293782 | AH40: =AE40-AF40 -> -2215277 | AI40: 관리비 | AJ40: 20608000 | AK40: 22823277
G41: (%) | H41: (원) | AD41: 사업비 | AE41: =M44 -> 103343314 | AF41: =I44 -> 69883460 | AG41: =AE41/AF41 -> 1.478795 | AH41: =AE41-AF41 -> 33459854 | AI41: 사업비 | AJ41: 103343314 | AK41: 69883460
B42: 인건비 (급여/퇴직금/보험금/복리후생) | G42: =M42/I42 -> 0.94962666 | H42: =M42-I42 -> -3100435 | I42: =H70 -> 61549121 | K42: =D70 -> 80746827 | M42: =E121 -> 58448686 | P42: 예산의 32%, 결산대비 5%(300만원) 감소, 2명활동가 기준 예산(전년 예산대비 1명분 축소) | AD42: 치과치료 | AE42: =AF42/AF49 -> 0.077411878 | AF42: =M45 -> 8000000 | AJ42: 2013예산 | AK42: 2012결산 | AN42: 2013예산 | AO42: 2013예산
B43: 관리비 (임차료,공공요금,차량,비품,우편통신) | G43: =M43/I43 -> 0.90293782 | H43: =M43-I43 -> -2215277 | I43: =H73 -> 22823277 | K43: =D73 -> 22936000 | M43: =E137 -> 20608000 | P43: 예산의 11%, 결산대비 10%(220만원) 감소, 금년예산 기준으로 책정 | AD43: 공부방정서치료 | AE43: =AF43/AF49 -> 0.096764847 | AF43: =M46 -> 10000000 | AI43: 치과치료 | AJ43: 8000000 | AK43: 6323500 | AM43: 치과치료 | AN43: =AO43/AO53 -> 0.076277651 | AO43: 8000000
B44: 사업비 (지역보건 및 주요사업비) | G44: =M44/I44 -> 1.478795 | H44: =M44-I44 -> 33459854 | I44: =SUM(I45:J51) -> 69883460 | K44: =SUM(K45:L51) -> 55516423 | M44: =SUM(M45:O52) -> 103343314 | P44: 예산의 57%, 결산대비 48%(3,300만원) 증액, 기타사업비 제외한 사업비 | AD44: 공부방기타치료 | AE44: =AF44/AF49 -> 0.038705939 | AF44: =M47 -> 4000000 | AI44: 공부방정서치료 | AJ44: 10000000 | AK44: 13307200 | AM44: 공부방정서치료 | AN44: =AO44/AO53 -> 0.095347063 | AO44: 10000000
B45: 치과치료비1. | G45: =M45/I45 -> 1.2651222 | H45: =M45-I45 -> 1676500 | I45: 6323500 | K45: 5000000 | M45: 8000000 | P45: 사업비중 15%, 결산대비 27%(168만원) 증액, 치과 치료비중 병의원 무료치료 지원이 아닌 자부담 지출분 | AD45: 독거노인 | AE45: =AF45/AF49 -> 0.14398609 | AF45: =M48 -> 14880000 | AI45: 공부방기타치료 | AJ45: 4000000 | AK45: 2936350 | AM45: 공부방기타치료 | AN45: =AO45/AO53 -> 0.038138825 | AO45: 4000000
B46: 공부방 정서치료비 | G46: =M46/I46 -> 0.75147289 | H46: =M46-I46 -> -3307200 | I46: 13307200 | K46: 10000000 | M46: 10000000 | P46: 사업비중 18%, 결산대비 25%(330만원) 감소, 심리정서치료 40회기(10개월)기준 8~10명/결산 환급예정(3,007,200원) | AD46: 홍보,행사 | AE46: =AF46/AF49 -> 0.10644133 | AF46: =M49 -> 11000000 | AI46: 독거노인 | AJ46: 14880000 | AK46: 10771630 | AM46: 독거노인 | AN46: =AO46/AO53 -> 0.14187643 | AO46: 14880000
B47: 공부방 기타지출 (의과/ 안과 외) | G47: =M47/I47 -> 1.3622354 | H47: =M47-I47 -> 1063650 | I47: 2936350 | K47: 1000000 | M47: 4000000 | P47: 사업비중 6%, 결산대비 36%(100만원) 증액, 안경 교체사업 확대 예정 | AD47: 활동비 | AE47: =AF47/AF49 -> 0.067735393 | AF47: =M50 -> 7000000 | AI47: 홍보,행사 | AJ47: 11000000 | AK47: 9562910 | AM47: 홍보,행사 | AN47: =AO47/AO53 -> 0.10488177 | AO47: 11000000
B48: 독거노인 (의료비/ 영양보충제/ 밝누모/ 사례자문) | G48: =M48/I48 -> 1.3814065 | H48: =M48-I48 -> 4108370 | I48: 10771630 | K48: 14000000 | M48: 14880000 | P48: 사업비중 27%, 결산대비 38%(410만원) 증액 | AE48: =AF48/AF49 -> 0.32380725 | AF48: =M51 -> 33463314 | AI48: 활동비 | AJ48: 7000000 | AK48: 7585685 | AM48: 활동비 | AN48: =AO48/AO53 -> 0.066742944 | AO48: 7000000
B49: 홍보,행사(후원자의밤/ 홍보물/ 달력/ 홈페이지 외) | G49: =M49/I49 -> 1.1502775 | H49: =M49-I49 -> 1437090 | I49: 9562910 | K49: 10000000 | M49: 11000000 | P49: 사업비중 20%, 결산대비 15%(140만원) 증액, 홈페이지 리뉴얼 2013년 사업으로 진행 예정 | AC49: =M51/M44 -> 0.32380725 | AF49: =M44 -> 103343314 | AI49: 기타-치과치료 | AJ49: 10000000 | AK49: 14300000 | AM49: 기타-치과치료 | AN49: =AO49/AO53 -> 0.095347063 | AO49: 10000000
B50: 활동비(활동가식사/ 기관선물/ 운영회의비/ MT 외) | G50: =M50/I50 -> 0.92279076 | H50: =M50-I50 -> -585685 | I50: 7585685 | K50: 7400000 | M50: 7000000 | P50: 사업비중 13%, 결산대비 28%(58만원) 감소, 동남아 및 의료학교제외(기타사업비에 포함) | AC50: =M51/M53 -> 0.18346115 | AD50: 치과치료 | AE50: =M45 -> 8000000 | AF50: =I45 -> 6323500 | AI50: 기타-동남아 | AJ50: 30000000 | AK50: =I57 -> 33320496 | AM50: 기타-동남아 | AN50: =AO50/AO53 -> 0.28604119 | AO50: 30000000
B51: 예비비 | G51: =M51/I51 -> 1.7252524 | H51: =M51-I51 -> 14067129 | I51: 19396185 | K51: 8116423 | M51: 33463314 | P51: 결산대비 73%(1,400만원) 증액, 인건비(활동가 1인 채용시) 및 공부방치과사업비(서울시지원금 미정) 등 예산의 유동성 및 적립금 | AC51: 182400000 | AD51: 공부방정서치료 | AE51: =M46 -> 10000000 | AF51: =I46 -> 13307200 | AI51: 기타-교육연구 | AJ51: 4000000 | AK51: =I58 -> 5205110 | AM51: 기타-교육연구 | AN51: =AO51/AO53 -> 0.038138825 | AO51: 4000000
B52: 2012년 예치금(법인적립금) | G52: 신규 | M52: 15000000 | P52: 2012년 적립금 금년으로 이월되어 예치함 | AC52: 50000000 | AD52: 공부방기타치료 | AE52: =M47 -> 4000000 | AF52: =I47 -> 2936350 | AI52: 기타-북녘 | AJ52: 6000000 | AK52: =I59 -> 713000 | AM52: 기타-북녘 | AN52: =AO52/AO53 -> 0.057208238 | AO52: 6000000
B53: 순지출 총계 | G53: =M53/K53 -> 1.145734 | H53: =M53-K53 -> 23200750 | I53: =SUM(I42:J44) -> 154255858 | K53: =SUM(K42:L44) -> 159199250 | M53: =SUM(M42:O44) -> 182400000 | P53: 총예산의 78.5%, 결산대비 14.6%(2,320만원) 증액 | AC53: 232400000 | AD53: 독거노인 | AE53: =M48 -> 14880000 | AF53: =I48 -> 10771630 | AN53: =SUM(AN43:AN52) -> 1 | AO53: =SUM(AO43:AO52) -> 104880000
AC54: =AC51/AC53 -> 0.7848537 | AD54: 홍보,행사 | AE54: =M49 -> 11000000 | AF54: =I49 -> 9562910
B55: 기타사업비 | G55: =M55/I55 -> 0.93390553 | H55: =M55-K55 -> -3000000 | I55: =SUM(I56:J59) -> 53538606 | K55: =SUM(K56:L59) -> 53000000 | M55: =SUM(M56:O59) -> 50000000 | P55: 총예산의 21.5%, 결산대비 7%(300만원) 감소 | AC55: =AC52/AC53 -> 0.2151463 | AD55: 활동비 | AE55: =M50 -> 7000000 | AF55: =I50 -> 7585685
B56: 기타사업1 치과치료비2. | G56: =M56/I56 -> 0.6993007 | H56: =M56-I56 -> -4300000 | I56: 14300000 | K56: 10000000 | M56: 10000000 | P56: 결산대비 30%(430만원) 감소, 사례에 따라 유동성있는 예산으로 결산기준으로 증액하지 않고 전년 예산에 준하여 잭청 | AD56: 기타-치과치료 | AE56: =M56 -> 10000000 | AF56: =I56 -> 14300000
...

Sheet 2013세출예산(산출기초)
AD1: 2-2) 2013년 세출 예산서( 산출기초 )
B4: 2)-4. 2013 세출예산 세부 | N4: (단위:원) | U4: (단위:원) | AB4: (단위:원) | AG4: (단위:원) | AL4: (단위:원) | AT4: (단위:원)
A5: 과 목 | G5: 2013년예산 | H5: 사무국 | O5: 가정방문 보건의료 | V5: 공부방아동 건강검진 | AC5: 동남아시아 보건의료사업 | AH5: 생명사랑의료 교육·연구사업 | AP5: 북한분유보내기사업
A6: 관 | C6: 항 | E6: 목 | G6: (A) | AM6: 298000000
A7: 총 계 | G7: =SUM(G8,G73,G98,G141,G142) -> 2.324e+08 | N7: =SUM(N8,N73,N98,N141,N142) -> 94056686 | U7: =SUM(U8,U73,U98,U141,U142) -> 25380000 | AB7: =SUM(AB8,AB73,AB98,AB141,AB142) -> 25500000 | AG7: =SUM(AG8,AG73,AG98,AG141,AG142) -> 30000000 | AL7: =SUM(AL8,AL73,AL98,AL141,AL142) -> 3000000 | AM7: =SUM(AL7,AG7,AB7,U7,N7) -> 1.7793669e+08 | AN7: =AM7-AM6 -> -1.2006331e+08 | AT7: =SUM(AT8,AT73,AT98,AT141,AT142) -> 6000000
A8: 730 | B8: 사업 운영비 | C8: 732 | D8: 진행비 | E8: 소 계 | G8: =SUM(G9:G72) -> 104880000 | N8: =SUM(N9,N13,N17,N20,N24,N27,N31,N34,N41,N44,N47,N50,N53,N61,N68) -> 15000000 | U8: =U9+U13+U17+U24+U27+U34+U41+U47+U53+U68 -> 25380000 | AB8: =SUM(AB9,AB13,AB17,AB20,AB24,AB27,AB31,AB34,AB2,AB41,AB44,AB47,AB50,AB53,AB61,AB68) -> 25500000 | AG8: =SUM(AG9,AG13,AG17,AG20,AG24,AG27,AG31,AG34,AG41,AG44,AG47,AG50,AG53,AG61,AG68) -> 30000000 | AL8: =SUM(AL9,AL13,AL17,AL20,AL24,AL27,AL31,AL34,AL41,AL44,AL47,AL50,AL53,AL61,AL68) -> 3000000 | AM8: =SUM(AL8,AG8,AB8,U8,N8) -> 98880000 | AT8: =SUM(AT9,AT13,AT17,AT20,AT24,AT27,AT31,AT34,AT41,AT44,AT47,AT50,AT53,AT61,AT68) -> 6000000 | AU8: =N8+U8+AB8+AG8+AL8+AT8 -> 104880000
E9: 732-01-00 | F9: 치과의료지원비 | G9: =SUM(N9,U9,AB9,AG9,AL9) -> 18000000 | N9: =SUM(N10:N11) -> 0 | U9: =SUM(U10:U11) -> 8000000 | AB9: =SUM(AB10:AB11) -> 10000000 | AG9: =SUM(AG10:AG11) -> 0 | AL9: =SUM(AL10:AL11) -> 0 | AM9: =SUM(AL9,AG9,AB9,U9,N9) -> 18000000 | AT9: =SUM(AT10:AT11) -> 0
O10: 치지원1 | P10: 1000000 | Q10: × | R10: 3 | U10: =SUM(P10*R10) -> 3000000 | V10: 치지원1 | W10: 500000 | X10: × | Y10: 10 | AB10: =SUM(W10*Y10) -> 5000000 | AM10: =SUM(AL10,AG10,AB10,U10,N10) -> 8000000
O11: 치지원2 | P11: 1000000 | Q11: × | R11: 5 | U11: =SUM(P11*R11) -> 5000000 | V11: 치지원2 | W11: 1000000 | X11: × | Y11: 5 | AB11: =SUM(W11*Y11) -> 5000000 | AM11: =SUM(AL11,AG11,AB11,U11,N11) -> 10000000
E13: 732-02-00 | F13: 의과의료지원비 | G13: =SUM(N13,U13,AB13,AG13,AL13) -> 7000000 | N13: =SUM(N14:N15) -> 0 | U13: =SUM(U14:U16) -> 6000000 | AB13: =SUM(AB14:AB15) -> 1000000 | AG13: =SUM(AG14:AG15) -> 0 | AL13: =SUM(AL14:AL15) -> 0 | AM13: =SUM(AL13,AG13,AB13,U13,N13) -> 7000000 | AT13: =SUM(AT14:AT15) -> 0
O14: 외래치료및검사 | P14: 300000 | Q14: × | R14: 20 | U14: =SUM(P14*R14) -> 6000000 | V14: 아동및 가족원 | W14: 100000 | X14: × | Y14: 10 | AB14: =SUM(W14*Y14) -> 1000000 | AG14: =SUM(AD14*AF14) -> 0 | AM14: =SUM(AL14,AG14,AB14,U14,N14) -> 7000000
AB15: =SUM(W15*Y15) -> 0 | AM15: =SUM(AL15,AG15,AB15,U15,N15) -> 0
AM16: =SUM(AL16,AG16,AB16,U16,N16) -> 0
E17: 732-03-00 | F17: 안과의료지원비 | G17: =SUM(N17,U17,AB17,AG17,AL17) -> 4000000 | N17: =SUM(N18) -> 0 | U17: =SUM(U18) -> 1000000 | AB17: =SUM(AB18:AB19) -> 3000000 | AG17: =SUM(AG18) -> 0 | AL17: =SUM(AL18) -> 0 | AM17: =SUM(AL17,AG17,AB17,U17,N17) -> 4000000 | AT17: =SUM(AT18) -> 0
O18: 안과의료비 | P18: 200000 | Q18: × | R18: 5 | U18: =SUM(P18*R18) -> 1000000 | V18: 아동및 가족원 | W18: 20000 | X18: × | Y18: 150 | AB18: =SUM(W18*Y18) -> 3000000 | AM18: =SUM(AL18,AG18,AB18,U18,N18) -> 4000000
E20: 732-04-00 | F20: 심리검사및치료 | G20: =SUM(N20,U20,AB20,AG20,AL20) -> 10000000 | N20: =SUM(N22:N25) -> 0 | U20: =SUM(U21:U22) -> 0 | AB20: =AB21+AB22 -> 10000000 | AG20: =SUM(AG22:AG22) -> 0 | AL20: =SUM(AL22:AL22) -> 0 | AM20: =SUM(AL20,AG20,AB20,U20,N20) -> 10000000 | AT20: =SUM(AT22:AT22) -> 0
V21: 심리상담 및 치료 | AB21: 10000000 | AM21: =SUM(AL21,AG21,AB21,U21,N21) -> 10000000
AM22: =SUM(AL22,AG22,AB22,U22,N22) -> 0
E24: 732-05-00 | F24: 재가의료용품지원비 | G24: =SUM(N24,U24,AB24,AG24,AL24) -> 500000 | N24: =SUM(N25:N28) -> 0 | U24: =SUM(U25) -> 500000 | AB24: =SUM(AB25) -> 0 | AG24: =SUM(AG25) -> 0 | AL24: =SUM(AL25) -> 0 | AM24: =SUM(AL24,AG24,AB24,U24,N24) -> 500000 | AT24: =SUM(AT25) -> 0
O25: 지팡이외 | U25: 500000 | AM25: =SUM(AL25,AG25,AB25,U25,N25) -> 500000
E27: 732-06-00 | F27: 재가복지용품지원비 | G27: =SUM(N27,U27,AB27,AG27,AL27) -> 150000 | N27: =SUM(N28:N31) -> 0 | U27: =SUM(U28:U29) -> 150000 | AG27: =SUM(AG28:AG29) -> 0 | AL27: =SUM(AL28:AL29) -> 0 | AM27: =SUM(AL27,AG27,AB27,U27,N27) -> 150000 | AT27: =SUM(AT28:AT29) -> 0
O28: 생필품외 | P28: 30000 | Q28: × | R28: 5 | U28: =SUM(P28*R28) -> 150000 | AM28: =SUM(AL28,AG28,AB28,U28,N28) -> 150000
AM29: =SUM(AL29,AG29,AB29,U29,N29) -> 0
E31: 732-07-00 | F31: 가정환경지원비 | N31: =SUM(N32:N35) -> 0 | U31: =SUM(U32) -> 0 | AB31: =SUM(AB32) -> 0 | AG31: =SUM(AG32) -> 0 | AL31: =SUM(AL32) -> 0 | AM31: =SUM(AL31,AG31,AB31,U31,N31) -> 0 | AT31: =SUM(AT32) -> 0
AB32: =SUM(W32*Y32) -> 0 | AM32: =SUM(AL32,AG32,AB32,U32,N32) -> 0
E34: 732-08-00 | F34: 건강교육용품구입비 | G34: =SUM(N34,U34,AB34,AG34,AL34) -> 330000 | N34: =SUM(N35:N40) -> 0 | U34: =U35 -> 330000 | AB34: =AB35 -> 0 | AG34: =SUM(AG35:AG40) -> 0 | AM34: =SUM(AL34,AG34,AB34,U34,N34) -> 330000
O35: 건강교육용품관련 | P35: 330000 | Q35: × | R35: 1 | U35: =SUM(P35*R35) -> 330000 | AM35: =SUM(AL35,AG35,AB35,U35,N35) -> 330000
AM36: =SUM(AL36,AG36,AB36,U36,N36) -> 0
AL37: =SUM(AI37*AK37) -> 0 | AM37: =SUM(AL37,AG37,AB37,U37,N37) -> 0 | AT37: =SUM(AQ37*AS37) -> 0
AM38: =SUM(AL38,AG38,AB38,U38,N38) -> 0
AM39: =SUM(AL39,AG39,AB39,U39,N39) -> 0
AL40: =SUM(AI40*AK40) -> 0 | AM40: =SUM(AL40,AG40,AB40,U40,N40) -> 0 | AT40: =SUM(AQ40*AS40) -> 0
E41: 732-09-00 | F41: 영양보충비 | G41: =SUM(N41,U41,AB41,AG41,AL41) -> 1200000 | N41: =SUM(N42) -> 0 | U41: =U44 -> 1200000 | AG41: =SUM(AG42) -> 0 | AL41: =SUM(AL42) -> 0 | AM41: =SUM(AL41,AG41,AB41,U41,N41) -> 1200000 | AT41: =SUM(AT42) -> 0
O42: 영양보충제 | P42: 60000 | Q42: × | R42: 12 | U42: =SUM(P42*R42) -> 720000 | AM42: =SUM(AL42,AG42,AB42,U42,N42) -> 720000
E44: 732-10-00 | N44: =SUM(N45) -> 0 | O44: 영양보충제 | P44: 100000 | Q44: × | R44: 12 | U44: =SUM(P44*R44) -> 1200000 | AM44: =SUM(AL44,AG44,AB44,U44,N44) -> 1200000
AM45: =SUM(AL45,AG45,AB45,U45,N45) -> 0
E47: 732-11-00 | F47: 의료물품비 | G47: =SUM(N47,U47,AB47,AG47,AL47) -> 2500000 | N47: =SUM(N48) -> 0 | U47: =SUM(U48:U49) -> 2500000 | AB47: =SUM(AB48) -> 0 | AG47: =SUM(AG48) -> 0 | AL47: =SUM(AL48) -> 0 | AM47: =SUM(AL47,AG47,AB47,U47,N47) -> 2500000 | AT47: =SUM(AT48) -> 0
O48: 방문진료용품구입 | P48: 500000 | Q48: × | R48: 5 | U48: =SUM(P48*R48) -> 2500000 | AM48: =SUM(AL48,AG48,AB48,U48,N48) -> 2500000
AM49: =SUM(AL49,AG49,AB49,U49,N49) -> 0
E50: 732-12-00 | F50: 도서인쇄비 | G50: =SUM(N50,U50,AB50,AG50,AL50) -> 0 | N50: =SUM(N51) -> 0 | U50: =SUM(U51:U52) -> 0 | AB50: =SUM(AB51:AB52) -> 0 | AG50: =SUM(AG51) -> 0 | AM50: =SUM(AL50,AG50,AB50,U50,N50) -> 0
...

Sheet 2012-수입내역서
A1: 결의번호 | B1: 작성일 | C1: 수입일 | D1: 제목 | E1: 관 | F1: 항 | G1: 목 | H1: 수입금액 | I1: 수입방법 | J1: 수입계좌 | K1: 내역 | L1: 비고
A2: P1201-001 | B2: 2012.01.01 | C2: 2012.01.01 | D2: 기타후원금 | E2: 후원금 | F2: 후원금 | G2: 기타후원금 | H2: 90000 | I2: 예금 | J2: 284001-04-030606 | K2: 백수정 | M2: 전자금융
A3: P1201-002 | B3: 2012.01.02 | C3: 2012.01.02 | D3: 단체후원금 | E3: 후원금 | F3: 후원금 | G3: 단체후원금 | H3: 300000 | I3: 예금 | J3: 284001-04-030606 | K3: 서경누가회 | M3: 전자금융
A4: P1201-003 | B4: 2012.01.02 | C4: 2012.01.02 | D4: 김지하님 개인후원금 | E4: 후원금 | F4: 후원금 | G4: 개인후원금 | H4: 20000 | I4: 예금 | J4: 284001-04-030606 | K4: 김지하 | M4: 납부입금
A5: P1201-004 | B5: 2012.01.02 | C5: 2012.01.02 | D5: 임영근님 개인후원금 | E5: 후원금 | F5: 후원금 | G5: 개인후원금 | H5: 10000 | I5: 예금 | J5: 284001-04-030606 | K5: 임영근 | M5: 납부입금
A6: P1201-005 | B6: 2012.01.02 | C6: 2012.01.02 | D6: 최용민님 개인후원금 | E6: 후원금 | F6: 후원금 | G6: 개인후원금 | H6: 100000 | I6: 예금 | J6: 284001-04-030606 | K6: 지인마취통증의학과의원 | M6: 납부입금
A7: P1201-006 | B7: 2012.01.03 | C7: 2012.01.03 | D7: 기타후원금 | E7: 후원금 | F7: 후원금 | G7: 기타후원금 | H7: 10000 | I7: 예금 | J7: 284001-04-030606 | K7: 조하나 | M7: 전자금융
A8: P1201-007 | B8: 2012.01.05 | C8: 2012.01.05 | D8: 기타후원금 | E8: 후원금 | F8: 후원금 | G8: 기타후원금 | H8: 50000 | I8: 예금 | J8: 284001-04-030606 | K8: 고옥희 | M8: 납부입금
A9: P1201-008 | B9: 2012.01.05 | C9: 2012.01.05 | D9: 기타후원금 | E9: 후원금 | F9: 후원금 | G9: 기타후원금 | H9: 10000 | I9: 예금 | J9: 284001-04-030606 | K9: 임주현 | M9: 전자금융
A10: P1201-009 | B10: 2012.01.06 | C10: 2012.01.06 | D10: 기타후원금 | E10: 후원금 | F10: 후원금 | G10: 기타후원금 | H10: 2000 | I10: 예금 | J10: 284001-04-030606 | K10: 해피빈 | M10: 전자금융
A11: P1201-010 | B11: 2012.01.09 | C11: 2012.01.09 | D11: 개인후원금 CMS집금 | E11: 후원금 | F11: 후원금 | G11: 개인후원금 | H11: 313000 | I11: 예금 | J11: 284001-04-030606 | K11: CMS집금 | M11: 전자금융
A12: P1201-011 | B12: 2012.01.09 | C12: 2012.01.09 | D12: 개인회비 CMS집금 | E12: 회비 | F12: 회비 | G12: 개인회비 | H12: 310000 | I12: 예금 | J12: 284001-04-030606 | K12: CMS집금
A13: P1201-012 | B13: 2012.01.09 | C13: 2012.01.09 | D13: 기타후원금 | E13: 후원금 | F13: 후원금 | G13: 기타후원금 | H13: 10000 | I13: 예금 | J13: 284001-04-030606 | K13: 류태훈 | M13: 전자금융
A14: P1201-013 | B14: 2012.01.12 | C14: 2012.01.12 | D14: 안경맞춤 후원-이호철 | E14: 후원금 | F14: 후원금 | G14: 목적후원금 | H14: 300000 | I14: 예금 | J14: 284001-04-030606 | K14: 이호철 | L14: 안경사회 | M14: CD 공동
A15: P1201-014 | B15: 2012.01.17 | C15: 2012.01.17 | D15: 기타후원금 | E15: 후원금 | F15: 후원금 | G15: 기타후원금 | H15: 20000 | I15: 예금 | J15: 284001-04-030606 | K15: 황희연 | M15: ATM입금
A16: P1201-015 | B16: 2012.01.18 | C16: 2012.01.18 | D16: 기타후원금 | E16: 후원금 | F16: 후원금 | G16: 기타후원금 | H16: 1000 | I16: 예금 | J16: 284001-04-030606 | K16: 에스케이커뮤니티 | M16: 전자금융
A17: P1201-016 | B17: 2012.01.18 | C17: 2012.01.18 | D17: 목적후원금 | E17: 후원금 | F17: 후원금 | G17: 목적후원금 | H17: 500000 | I17: 예금 | J17: 284001-04-030606 | K17: 서울우리내과의원 | M17: 전자금융
A18: P1201-017 | B18: 2012.01.18 | C18: 2012.01.18 | D18: 이경진님 개인후원금 | E18: 후원금 | F18: 후원금 | G18: 개인후원금 | H18: 50000 | I18: 예금 | J18: 284001-04-030606 | K18: 이경진 | M18: 납부입금
A19: P1201-018 | B19: 2012.01.19 | C19: 2012.01.19 | D19: 개인후원금 CMS집금 | E19: 후원금 | F19: 후원금 | G19: 개인후원금 | H19: 1300000 | I19: 예금 | J19: 284001-04-030606 | K19: CMS집금 | M19: 전자금융
A20: P1201-019 | B20: 2012.01.19 | C20: 2012.01.19 | D20: 개인회비 CMS집금 | E20: 회비 | F20: 회비 | G20: 개인회비 | H20: 915000 | I20: 예금 | J20: 284001-04-030606 | K20: CMS집금
A21: P1201-020 | B21: 2012.01.19 | C21: 2012.01.19 | D21: 김정아 개인후원금 | E21: 후원금 | F21: 후원금 | G21: 개인후원금 | H21: 10000 | I21: 예금 | J21: 284001-04-030606 | K21: 김정아 | M21: 전자금융
A22: P1201-021 | B22: 2012.01.20 | C22: 2012.01.20 | D22: 후원저금통 | E22: 후원금 | F22: 후원금 | G22: 후원저금통 | H22: 22420 | I22: 예금 | J22: 284001-04-030606 | K22: 강충원 | M22: ATM입금
A23: P1201-022 | B23: 2012.01.20 | C23: 2012.01.20 | D23: 김미연님 개인후원금 환급 | E23: 후원금 | F23: 후원금 | G23: 개인후원금 | H23: -50000 | I23: 예금 | J23: 284001-04-030606 | K23: 손달형(김미연님환급) | L23: 김미연님환급 | M23: 인터넷출금이체
A24: P1201-023 | B24: 2012.01.20 | C24: 2012.01.20 | D24: 임헌영 개인후원금 환급 | E24: 후원금 | F24: 후원금 | G24: 개인후원금 | H24: -160000 | I24: 예금 | J24: 284001-04-030606 | K24: 임헌영후원자 환급 | L24: 임헌영환급 | M24: 인터넷출금이체
A25: P1201-024 | B25: 2012.01.20 | C25: 2012.01.20 | D25: 후원저금통 | E25: 후원금 | F25: 후원금 | G25: 후원저금통 | H25: 30780 | I25: 예금 | J25: 284001-04-030606 | K25: 김환희,김진혁 | M25: ATM입금
A26: P1201-025 | B26: 2012.01.24 | C26: 2012.01.24 | D26: 기타후원금 | E26: 후원금 | F26: 후원금 | G26: 기타후원금 | H26: 10000 | I26: 예금 | J26: 284001-04-030606 | K26: 김종수 | M26: ATM입금
A27: P1201-026 | B27: 2012.01.25 | C27: 2012.01.25 | D27: 개인후원금CMS집금 | E27: 후원금 | F27: 후원금 | G27: 개인후원금 | H27: 985000 | I27: 예금 | J27: 284001-04-030606 | K27: CMS집금 | M27: 전자금융
A28: P1201-027 | B28: 2012.01.25 | C28: 2012.01.25 | D28: 개인회비 CMS집금 | E28: 회비 | F28: 회비 | G28: 개인회비 | H28: 590000 | I28: 예금 | J28: 284001-04-030606 | K28: CMS집금
A29: P1201-028 | B29: 2012.01.25 | C29: 2012.01.25 | D29: 김태현님 개인후원금 | E29: 후원금 | F29: 후원금 | G29: 개인후원금 | H29: 100000 | I29: 예금 | J29: 284001-04-030606 | K29: 김태현(M) | M29: 전자금융
A30: P1201-029 | B30: 2012.01.26 | C30: 2012.01.26 | D30: 김연희님 개인후원금 | E30: 후원금 | F30: 후원금 | G30: 개인후원금 | H30: 40000 | I30: 예금 | J30: 284001-04-030606 | K30: 김연희 | M30: 납부입금
A31: P1201-030 | B31: 2012.01.27 | C31: 2012.01.27 | D31: 유명희님 개인후원금 | E31: 후원금 | F31: 후원금 | G31: 개인후원금 | H31: 30000 | I31: 예금 | J31: 284001-04-030606 | K31: 유명희 | M31: 납부입금
A32: P1201-031 | B32: 2012.01.30 | C32: 2012.01.30 | D32: 단체회비 | E32: 회비 | F32: 회비 | G32: 단체회비 | H32: 300000 | I32: 예금 | J32: 284001-04-030606 | K32: 한국누가회 | M32: 납부입금
A33: P1201-032 | B33: 2012.01.30 | C33: 2012.01.30 | D33: 개인후원금CMS집금 | E33: 후원금 | F33: 후원금 | G33: 개인후원금 | H33: 2302000 | I33: 예금 | J33: 284001-04-030606 | K33: CMS집금 | M33: 전자금융
A34: P1201-033 | B34: 2012.01.30 | C34: 2012.01.30 | D34: 개인회비 CMS집금 | E34: 회비 | F34: 회비 | G34: 개인회비 | H34: 2621000 | I34: 예금 | J34: 284001-04-030606 | K34: CMS집금
A35: P1201-034 | B35: 2012.01.30 | C35: 2012.01.30 | D35: 후원저금통 | E35: 후원금 | F35: 후원금 | G35: 후원저금통 | H35: 29180 | I35: 예금 | J35: 284001-04-030606 | K35: 장원모 | M35: ATM입금
A36: P1201-035 | B36: 2012.01.31 | C36: 2012.01.31 | D36: 김지하님 개인후원금 | E36: 후원금 | F36: 후원금 | G36: 개인후원금 | H36: 20000 | I36: 예금 | J36: 284001-04-030606 | K36: 김지하 | M36: 납부입금
A37: P1201-036 | B37: 2012.01.31 | C37: 2012.01.31 | D37: 임영근님 개인후원금 | E37: 후원금 | F37: 후원금 | G37: 개인후원금 | H37: 10000 | I37: 예금 | J37: 284001-04-030606 | K37: 임영근 | M37: 납부입금
A38: P1202-001 | B38: 2012.02.01 | C38: 2012.02.01 | D38: 단체후원금 | E38: 후원금 | F38: 후원금 | G38: 단체후원금 | H38: 300000 | I38: 예금 | J38: 284001-04-030606 | K38: 서경누가회 | M38: 전자금융
A39: P1202-002 | B39: 2012.02.01 | C39: 2012.02.01 | D39: 최용민님 개인후원금 | E39: 후원금 | F39: 후원금 | G39: 개인후원금 | H39: 100000 | I39: 예금 | J39: 284001-04-030606 | K39: 지인마취통증의학과의원 | M39: 납부입금
A40: P1202-003 | B40: 2012.02.02 | C40: 2012.02.02 | D40: 이나영님 개인(달력)후원금 | E40: 후원금 | F40: 후원금 | G40: 개인후원금 | H40: 50000 | I40: 예금 | J40: 284001-04-030606 | K40: 이나영 | M40: 전자금융
...

Sheet 2012-지출내역서
A1: 결의번호 | B1: 작성일 | C1: 지출일 | D1: 제목 | E1: 관 | F1: 항 | G1: 목 | H1: 세목 | I1: 프로젝트 | J1: 지원금구분 | K1: 지출금액 | L1: 지출방법 | M1: 증빙종류 | N1: 증빙자료 | O1: 추가증빙 | P1: 비고 | Q1: 거래처명 | R1: 내역
A2: 1201-0001 | B2: 2012-01-01 | C2: 2012-01-01 | D2: 이사회 다과비 | E2: 사업비 | F2: 진행비 | G2: 행사준비비 | I2: 사무국 | J2: 자부담 | K2: 32720 | L2: 예금 | M2: 카드 | N2: 카드전표 | Q2: (주)파리크라상파리바게트 | R2: ○제 목 : 이사회의 간식비 ○내역 : 김영진 외 9명 빵, 과자류 ○채 주 :(주)파리크라상파리바게트 ○금 액 :32,720
A3: 1201-0002 | B3: 2012-01-01 | C3: 2012-01-01 | D3: 이사회 식비 | E3: 사업비 | F3: 진행비 | G3: 행사준비비 | I3: 사무국 | J3: 자부담 | K3: 79000 | L3: 예금 | M3: 카드 | N3: 카드전표 | Q3: 진부령황태촌 | R3: ○제 목 : 이사회의 식비 ○내역 : 김영진 외 9명 빵, 과자류 ○채 주 :(주)파리크라상파리바게트 ○금 액 :79,000
A4: 1201-0003 | B4: 2012-01-02 | C4: 2012-01-02 | D4: 1월급여 지급 홍두호 | E4: 운영비 | F4: 인건비 | G4: 급여 | I4: 사무국 | J4: 자부담 | K4: 1664300 | L4: 예금 | M4: 계좌 | N4: 이체확인증 | Q4: 홍두호 | R4: ○제 목 : 홍두호사무총장 1월 급여지급 ○급여총액 : 1,820,000원 ○예수금 :155,700원 국민연금 81,900 장기요양 3,360 건강보험 51,320 소득세 17,390 주민세 800 ○예수금 공제 후 지급액 1,664,300원 *원천징수영수증 - 반기납부 사업장으로 반기분 합산영수증 첨부
A5: 1201-0004 | B5: 2012-01-02 | C5: 2012-01-02 | D5: 1월상여금 홍두호 | E5: 운영비 | F5: 인건비 | G5: 상여금 | I5: 사무국 | J5: 자부담 | K5: 600000 | L5: 예금 | M5: 계좌 | N5: 이체확인증 | Q5: 홍두호 | R5: ○제 목 : 홍두호사무총장 1월 상여금 지급 ○상여금액 : 600,000원
A6: 1201-0005 | B6: 2012-01-02 | C6: 2012-01-02 | D6: 1월급여 지급 조아라 | E6: 운영비 | F6: 인건비 | G6: 급여 | I6: 사무국 | J6: 자부담 | K6: 1267580 | L6: 예금 | M6: 계좌 | N6: 이체확인증 | Q6: 조아라 | R6: ○제 목 : 조아라간사 1월 급여지급 ○급여총액 : 1,380,000원 ○예수금 :112,420원 국민연금 62,100 장기요양2,540 건강보험 38,910 소득세 8,070 주민세 800 ○예수금 공제 후 지급액 1,267,580원 *원천징수영수증 - 반기납부 사업장으로 반기분 합산영수증 첨부
A7: 1201-0006 | B7: 2012-01-02 | C7: 2012-01-02 | D7: 1월상여금 조아라 | E7: 운영비 | F7: 인건비 | G7: 상여금 | I7: 사무국 | J7: 자부담 | K7: 600000 | L7: 예금 | M7: 계좌 | N7: 이체확인증 | Q7: 조아라 | R7: ○제 목 : 조아라간사 1월 상여금 지급 ○상여금액 : 600,000원
A8: 1201-0007 | B8: 2012-01-02 | C8: 2012-01-02 | D8: 1월급여 지급 진혜료 | E8: 운영비 | F8: 인건비 | G8: 급여 | I8: 사무국 | J8: 자부담 | K8: 1483940 | L8: 예금 | M8: 계좌 | N8: 이체확인증 | Q8: 진혜료 | R8: ○제 목 : 진혜료사무국장 1월 급여지급 ○급여총액 : 1,620,000원 ○예수금 :136,060원 국민연금 72,900 장기요양2,990 건강보험 45,680 소득세 13,810 주민세 1,310 ○예수금 공제 후 지급액 1,483,940원 *원천징수영수증 - 반기납부 사업장으로 반기분 합산영수증 첨부
A9: 1201-0008 | B9: 2012-01-02 | C9: 2012-01-02 | D9: 1월상여금 진혜료 | E9: 운영비 | F9: 인건비 | G9: 상여금 | I9: 사무국 | J9: 자부담 | K9: 600000 | L9: 예금 | M9: 계좌 | N9: 이체확인증 | Q9: 진혜료 | R9: ○제 목 : 진혜료사무국장 1월 상여금 지급 ○상여금액 : 600,000원
A10: 1201-0009 | B10: 2012-01-02 | C10: 2012-01-02 | D10: 활동비 | E10: 사업비 | F10: 진행비 | G10: 활동비 | I10: 가정방문보건의료 | J10: 자부담 | K10: 8500 | L10: 예금 | M10: 카드 | N10: 카드전표 | Q10: 김밥천국 | R10: ○제 목 : 활동비 ○채 주 : 김밥천국 ○내 역 : 조아라 외 2명 ○금 액 : 8,500원
A11: 1201-0010 | B11: 2012-01-02 | C11: 2012-01-02 | D11: 지역사회NGO실습 교제 구입 | E11: 사업비 | F11: 진행비 | G11: 행사준비비 | I11: 생명사랑 교육연구 | J11: 자부담 | K11: 24300 | L11: 예금 | M11: 카드 | N11: 카드전표 | Q11: 옥션(1588-0184) | R11: 지역사회NGO실습 교제 구입
A12: 1201-0011 | B12: 2012-01-02 | C12: 2012-01-02 | D12: 2011-12월전기료 | E12: 운영비 | F12: 관리비 | G12: 공공요금 | I12: 사무국 | J12: 자부담 | K12: 92010 | L12: 예금 | M12: 계좌 | N12: 이체확인증,영수증(공과금 별도화일 보관) | Q12: 12월전기료 | R12: ○제 목 : 12월 전기료 납부 ○채 주 : 한국전력공사 ○내 역 : 전기료 2011.12월 사용료 ○금 액 : 92,010원
A13: 1201-0012 | B13: 2012-01-02 | C13: 2012-01-02 | D13: 지역사회복지네트워크 분당금 | E13: 사업비 | F13: 진행비 | G13: 사업홍보/네트워크비 | I13: 사무국 | J13: 자부담 | K13: 100300 | L13: 예금 | M13: 계좌 | N13: 이체확인증 | Q13: #088110258690582/신한/김성훈 | R13: ○제 목 : 지역사회복지네트워크 분당금 ○채 주 : 김성훈(강북지역복지네트워크 대표) ○내 역 : 지역사회복지네트워크 분당금 2월 ○금 액 : 100,300원
... A204: 1203-0051 | B204: 2012.03.26 | C204: 2012.03.26 | D204: 삼성에스디에스 요금 | E204: 운영비 | F204: 관리비 | G204: 우편통신비 | I204: 사무국 | J204: 자부담 | K204: 64510 | L204: 예금 | M204: 계좌 | N204: 영수증 | Q204: 03삼성에스디에 | R204: ○제 목 : 2월 삼성에스디에스 요금 납부 ○채 주 : 삼성에스디에스 ○내 역 : 2월 삼성에스디에스 요금 ○금 액 : 66,100원
A205: 1203-0052 | B205: 2012.03.27 | C205: 2012.03.27 | D205: 활동비 지출 | E205: 사업비 | F205: 진행비 | G205: 활동비 | I205: 공부방어린이보건의료 | J205: 자부담 | K205: 15000 | L205: 예금 | M205: 카드 | N205: 카드전표 | Q205: 전주기사식당 | R205: ○제 목 : 활동비 ○채 주 : 전주기사식당 ○내 역 : 조아라 외 2명 ○금 액 : 15,000원 | S205: ○제 목 : 2월 전기료 납부 ○채 주 : 한국전력공사 ○내 역 : 전기료 2월 사용료 ○금 액 : 101,870원
A206: 1203-0053 | B206: 2012.03.27 | C206: 2012.03.27 | D206: 활동비 지출 | E206: 사업비 | F206: 진행비 | G206: 활동비 | I206: 공부방어린이보건의료 | J206: 자부담 | K206: 37880 | L206: 예금 | M206: 카드 | N206: 카드전표 | Q206: 강북농수산물유통센터 | R206: ○제 목 : 활동비 ○채 주 : 강북농수산물유통센터 ○내 역 : 봉사자 다과비 ○금 액 : 37,880원
A207: 1203-0054 | B207: 2012.03.27 | C207: 2012.03.27 | D207: 이후연 봉사자 감사선물 | E207: 사업비 | F207: 진행비 | G207: 활동비 | I207: 사무국 | J207: 자부담 | K207: 50000 | L207: 예금 | M207: 카드 | N207: 카드전표 | Q207: 교보핫트랙스(주) | R207: ○제 목 : 활동비 ○채 주 : 강북농수산물유통센터 ○내 역 : 봉사자 선물비(이후연) 도서상품권 ○금 액 : 50,000원
A208: 1203-0055 | B208: 2012.03.28 | C208: 2012.03.28 | D208: 활동비 지출 | E208: 사업비 | F208: 진행비 | G208: 활동비 | I208: 공부방어린이보건의료 | J208: 자부담 | K208: 39600 | L208: 예금 | M208: 카드 | N208: 카드전표 | Q208: 홈플러스테스코(주)방 | R208: ○제 목 : 활동비 ○채 주 : 강북농수산물유통센터 ○내 역 : 봉사자식사비 ○금 액 : 39,600원
A209: 1203-0056 | B209: 2012.03.28 | C209: 2012.03.28 | D209: 활동비 지출 | E209: 사업비 | F209: 진행비 | G209: 활동비 | I209: 공부방어린이보건의료 | J209: 자부담 | K209: 23000 | L209: 예금 | M209: 카드 | N209: 카드전표 | Q209: 영이네농장 | R209: ○제 목 : 활동비 ○채 주 : 전주기사식당 ○내 역 : 조아라 외 3명 ○금 액 : 23,000원
A210: 1203-0057 | B210: 2012.03.28 | C210: 2012.03.28 | D210: 우편비 지출 | E210: 운영비 | F210: 관리비 | G210: 우편통신비 | I210: 사무국 | J210: 자부담 | K210: 13740 | L210: 예금 | M210: 카드 | N210: 카드전표 | Q210: 서울강북우체국 | R210: ○제 목 : 우편비 지출 ○채 주 : 서울강북우체국 ○내 역 : 봉사활동 확인서 ○금 액 : 13,740원
A211: 1203-0058 | B211: 2012.03.29 | C211: 2012.03.29 | D211: 활동비 지출 | E211: 사업비 | F211: 진행비 | G211: 활동비 | I211: 공부방어린이보건의료 | J211: 자부담 | K211: 29000 | L211: 예금 | M211: 카드 | N211: 카드전표 | Q211: 백운맛집식당 | R211: ○제 목 : 활동비 ○채 주 : 백운맛집식당 ○내 역 : 진혜료 외 3명 ○금 액 : 29,000원
A212: 1203-0059 | B212: 2012.03.29 | C212: 2012.03.29 | D212: 활동비 지출 | E212: 사업비 | F212: 진행비 | G212: 활동비 | I212: 공부방어린이보건의료 | J212: 자부담 | K212: 4500 | L212: 예금 | M212: 카드 | N212: 카드전표 | Q212: 강북농수산물유통센터 | R212: ○제 목 : 활동비 ○채 주 : 강북농수산물유통센터 ○내 역 : 봉사자 다과비 ○금 액 : 4,500원
A213: 1203-0060 | B213: 2012.03.29 | C213: 2012.03.29 | D213: 1월 정서치료비 | E213: 사업비 | F213: 진행비 | G213: 심리검사및 치료 | I213: 공부방어린이보건의료 | J213: 자부담 | K213: 835200 | L213: 예금 | M213: 계좌 | N213: 이체확인증/치료내역서, 공문 - 별도철 보관 | Q213: 제일서울사이버대학교 | R213: ○제 목 : 공부방아동 정서치료비 ○채 주 : 서울사이버대학교 심리상담센터 ○내 역 : 공부방 아동12명 심리정서 치료비(4주) ○금 액 : 835,200원
A214: 1203-0061 | B214: 2012.03.29 | C214: 2012.03.29 | D214: 우편비 지출 | E214: 운영비 | F214: 관리비 | G214: 우편통신비 | I214: 사무국 | J214: 자부담 | K214: 3900 | L214: 예금 | M214: 카드 | N214: 카드전표 | Q214: 서울강북우체국 | R214: ○제 목 : 우편비 지출 ○채 주 : 서울강북우체국 ○내 역 : 봉사활동 확인서 ○금 액 : 3,900원
A215: 1203-0062 | B215: 2012.03.29 | C215: 2012.03.29 | D215: 신발장 구입 | E215: 운영비 | F215: 관리비 | G215: 소모품비 | I215: 사무국 | J215: 자부담 | K215: 53500 | L215: 예금 | M215: 카드 | N215: 카드전표 | Q215: 11번가(1599-0110) | R215: ○제 목 : 사무실 용품 구입 ○채 주 : 11번가 ○내 역 : 사무실신발장 구입 1개 ○금 액 : 101,800원
A216: 1203-0063 | B216: 2012.03.30 | C216: 2012.03.30 | D216: 활동비 지출 | E216: 사업비 | F216: 진행비 | G216: 활동비 | I216: 공부방어린이보건의료 | J216: 자부담 | K216: 12000 | L216: 예금 | M216: 카드 | N216: 카드전표 | Q216: 원할머니보삼미아역점 | R216: ○제 목 : 활동비 ○채 주 : 백운맛집식당 ○내 역 : 김영진 외 1명 ○금 액 : 12,000원
A217: 1203-0064 | B217: 2012.03.30 | C217: 2012.03.30 | D217: 외장하드 구입 | E217: 운영비 | F217: 관리비 | G217: 소모품비 | I217: 사무국 | J217: 자부담 | K217: 160000 | L217: 예금 | M217: 카드 | N217: 카드전표 | Q217: 교보핫트랙스(주) | R217: ○제 목 : 사무실 용품 구입 ○채 주 : 교보핫트랙스(주) ○내 역 : 외장하드 구입 1개 ○금 액 : 160,000원
... A264: 1204-0042 | B264: 2012.04.25 | C264: 2012.04.25 | D264: 우편비 지출 | E264: 운영비 | F264: 관리비 | G264: 우편통신비 | I264: 사무국 | J264: 자부담 | K264: 1860 | L264: 예금 | M264: 카드 | N264: 카드전표 | Q264: 서울강북우체국 | R264: ○제 목 : 기부금영수증 발송 ○채 주 : 서울강북우체국 ○내 역 : 기부금영수증 발송
A265: 1204-0043 | B265: 2012.04.25 | C265: 2012.04.25 | D265: 가정방문 교통비 | E265: 운영비 | F265: 관리비 | G265: 여비교통비 | I265: 가정방문보건의료 | J265: 자부담 | K265: 3000 | L265: 예금 | M265: 카드 | N265: 카드전표 | P265: 체크카드 | Q265: 티머니택시(서울) | R265: ○제 목 : 가정방문 교통비 ○채 주 : 티머니택시(서울) ○내 역 : 박순례님댁 방문
A266: 1204-0044 | B266: 2012.04.25 | C266: 2012.04.25 | D266: 활동비 지출 | E266: 사업비 | F266: 진행비 | G266: 활동비 | I266: 공부방어린이보건의료 | J266: 자부담 | K266: 10600 | L266: 예금 | M266: 카드 | N266: 카드전표 | Q266: 한아름슈퍼 | R266: ○제 목 : 활동비 지출 ○채 주 : 동북민우회생협 ○내 역 : 사무실 반찬류
A267: 1204-0045 | B267: 2012.04.25 | C267: 2012.04.25 | D267: 정수기 관리비 | E267: 운영비 | F267: 관리비 | G267: 정수기관리비 | I267: 사무국 | J267: 자부담 | K267: 33900 | L267: 예금 | M267: 계좌 | N267: 세금계산서(공과금 영수증철 별도 보관) | Q267: 웅진렌탈02 | R267: ○제 목 : 정수기관리비 ○채 주 : 웅진렌탈 ○내 역 : 4월정수기관리비
A268: 1204-0046 | B268: 2012.04.25 | C268: 2012.04.25 | D268: 삼성에스디에스 요금 | E268: 운영비 | F268: 관리비 | G268: 우편통신비 | I268: 사무국 | J268: 자부담 | K268: 73340 | L268: 예금 | M268: 계좌 | N268: 영수증(공과금 별도화일 보관) | Q268: 04삼성에스디에스 | R268: ○제 목 : 4월 삼성에스디에스 요금 납부 ○채 주 : 삼성에스디에스 ○내 역 : 4월 삼성에스디에스 요금
A269: 1204-0047 | B269: 2012.04.26 | C269: 2012.04.26 | D269: 김유리치과 치료비 지원 | E269: 사업비 | F269: 진행비 | G269: 치과의료지원비 | I269: 공부방어린이보건의료 | J269: 자부담 | K269: 247000 | L269: 예금 | M269: 계좌 | N269: 이체확인증 | Q269: 손영민(연세수치과) | R269: ○제 목 : 김유리치과 치료비 지원 ○채 주 : 손영민(연세수치과) ○내 역 : 김유리치과 치료비 지원(충치치료)
A270: 1204-0048 | B270: 2012.04.26 | C270: 2012.04.26 | D270: 우편비 지출 | E270: 운영비 | F270: 관리비 | G270: 우편통신비 | I270: 사무국 | J270: 자부담 | K270: 1860 | L270: 예금 | M270: 카드 | N270: 카드전표 | Q270: 서울강북우체국 | R270: ○제 목 : 기부금영수증 발송 ○채 주 : 서울강북우체국 ○내 역 : 기부금영수증 발송
A271: 1204-0049 | B271: 2012.04.26 | C271: 2012.04.26 | D271: LG유선 통신비 | E271: 운영비 | F271: 관리비 | G271: 우편통신비 | I271: 사무국 | J271: 자부담 | K271: 39010 | L271: 예금 | M271: 계좌 | N271: 영수증(공과금 별도화일 보관) | Q271: LGU+통신 | R271: ○제 목 : 4월 LG유선통신 요금 ○채 주 : LG유선통신 ○내 역 : 4월 LG유선통신 요금
A272: 1204-0050 | B272: 2012.04.27 | C272: 2012.04.27 | D272: 차량주유비 지출 | E272: 운영비 | F272: 관리비 | G272: 차량유지비 | I272: 사무국 | J272: 자부담 | K272: 20000 | L272: 예금 | M272: 카드 | N272: 카드전표 | Q272: (주)대천에너지동원주유소 | R272: ○제 목 : 차량 주유비 ○채 주 : (주)대천에너지동원주유소 ○내 역 : 차량 주유비
A273: 1204-0051 | B273: 2012.04.28 | C273: 2012.04.28 | D273: 활동비 지출 | E273: 사업비 | F273: 진행비 | G273: 활동비 | I273: 공부방어린이보건의료 | J273: 자부담 | K273: 12650 | L273: 예금 | M273: 카드 | N273: 카드전표 | Q273: 한아름슈퍼 | R273: ○제 목 : 활동비 지출(밝누모) ○채 주 : 동북민우회생협 ○내 역 : 사무실 다과류
A274: 1204-0052 | B274: 2012.04.28 | C274: 2012.04.28 | D274: 활동비 지출 | E274: 사업비 | F274: 진행비 | G274: 활동비 | I274: 공부방어린이보건의료 | J274: 자부담 | K274: 64500 | L274: 예금 | M274: 카드 | N274: 카드전표 | Q274: 패티앤빅왕돈가스 | R274: ○제 목 : 활동비 지출(밝누모) ○채 주 : 패티앤빅왕돈가스 ○내 역 : 밝누모 식사비(10명)
A275: 1204-0053 | B275: 2012.04.30 | C275: 2012.04.30 | D275: 활동비 지출 | E275: 사업비 | F275: 진행비 | G275: 활동비 | I275: 공부방어린이보건의료 | J275: 자부담 | K275: 10000 | L275: 예금 | M275: 카드 | N275: 카드전표 | Q275: 삼대냉면 | R275: ○제 목 : 활동비 지출 ○채 주 : 삼대냉면 ○내 역 : 조아라 외 1명
A276: 1204-0054 | B276: 2012.04.30 | C276: 2012.04.30 | D276: 활동비 지출 | E276: 사업비 | F276: 진행비 | G276: 활동비 | I276: 공부방어린이보건의료 | J276: 자부담 | K276: 28900 | L276: 예금 | M276: 카드 | N276: 카드전표 | Q276: 한아름슈퍼 | R276: ○제 목 : 활동비 지출 ○채 주 : 동북민우회생협 ○내 역 : 사무실 소모품
...

Sheet 2013급여
D1: < 인건비 세부변경 내역 >
D2: 아생사 현 기준 (2012예산) | F2: 기본급 | G2: 호봉 | H2: 상여금 | Q2: 연봉 | R2: 월평균 총액 | S2: 월 공제액 | T2: 월평균 실수령 | V2: 사업비,운영비 | W2: 160000000 | X2: =I18/W37 -> #DIV/0!
D3: (기본급1,300,000) | E3: 2호봉 | F3: 15600000 | G3: 960000 | H3: 3600000 | Q3: 20160000 | R3: =Q3/12 -> 1680000 | S3: 112420 | T3: =R3-S3 -> 1567580 | V3: 인건비 | W3: =I27 -> 57976013
D4: (1호봉 40,000) | E4: 8호봉 | F4: 15600000 | G4: 3840000 | H4: 3600000 | Q4: 23040000 | R4: =Q4/12 -> 1920000 | S4: 136060 | T4: =R4-S4 -> 1783940
F6: 연봉 | G6: 4대보험 | H6: 퇴직적립
E7: 2호봉 | F7: =Q3 -> 20160000 | G7: =S3*12 -> 1349040 | H7: 1680000 | W7: 139990
E8: 8호봉 | F8: =Q4 -> 23040000 | G8: =S4*12 -> 1632720 | H8: 1920000 | V8: 사업비,운영비 | W8: 160000000
E9: 총액 | F9: =SUM(F7:F8) -> 43200000 | G9: =SUM(G7:G8) -> 2981760 | H9: =SUM(H7:H8) -> 3600000 | I9: =SUM(F9:H9) -> 49781760 | Q9: 인건비 비율 31% | V9: 인건비 | W9: =I9 -> 49781760
D11: 아생사 현 기준 (2013예산) | F11: 기본급 | G11: 호봉 | H11: 상여금 | Q11: 연봉 | R11: 월평균 총액 | S11: 월 공제액 | T11: 월평균 실수령 | U11: 월평균 증액(원) | W11: =W9/W8 -> 0.311136
D12: (기본급1,350,000) | E12: 3호봉 | F12: =1350000*12 -> 16200000 | G12: =120000*12 -> 1440000 | H12: 3600000 | Q12: =SUM(F12:H12) -> 21240000 | R12: =Q12/12 -> 1770000 | S12: 121270 | T12: =R12-S12 -> 1648730 | U12: =T12-T3 -> 81150
D13: (1홍봉 40,000) | E13: 9호봉 | F13: =1350000*12 -> 16200000 | G13: =360000*12 -> 4320000 | H13: 3600000 | Q13: =SUM(F13:H13) -> 24120000 | R13: =Q13/12 -> 2010000 | S13: 144900 | T13: =R13-S13 -> 1865100 | U13: =T13-T4 -> 81160
F15: 연봉 | G15: 4대보험 | H15: 퇴직적립
E16: 3호봉 | F16: =Q12 -> 21240000 | G16: =S12*12 -> 1455240 | H16: 1770000
E17: 9호봉 | F17: =Q13 -> 24120000 | G17: =S13*12 -> 1738800 | H17: 2010000
E18: 총액 | F18: =SUM(F16:F17) -> 45360000 | G18: =SUM(G16:G17) -> 3194040 | H18: =SUM(H16:H17) -> 3780000 | I18: =SUM(F18:H18) -> 52334040 | Q18: 증액: 255만원/ 예산총액 대비 인건비 비율 33% | V18: 사업비,운영비 | W18: 160000000
D20: 아생사 바뀐기준 (2013예산) | F20: 기본급 | G20: 호봉 | H20: 여름휴가비 | Q20: 연봉 | R20: 월평균 총액 | S20: 월 공제액 | T20: 월평균 실수령 | U20: 월평균 증액(원) | V20: 인건비 | W20: =I18 -> 52334040 | X20: =I17/W18 -> 0
D21: (기본급1,700,000) | E21: 3호봉 | F21: 20400000 | G21: 2160000 | H21: 500000 | Q21: =SUM(F21:H21) -> 23060000 | R21: =Q21/12 -> 1921666.7 | S21: 116370 | T21: =R21-S21 -> 1805296.7 | U21: =T21-T3 -> 237716.67 | W21: =I18-I9 -> 2552280
D22: (1호봉 60,000) | E22: 9호봉 | F22: 20400000 | G22: 6480000 | H22: 500000 | Q22: =SUM(F22:H22) -> 27380000 | R22: =Q22/12 -> 2281666.7 | S22: 139990 | T22: =R22-S22 -> 2141676.7 | U22: =T22-T4 -> 357736.67 | W22: =W20/W18 -> 0.32708775
F24: 연봉 | G24: 4대보험 | H24: 퇴직적립 | Q24: 휴가비 제외 | R24: 월평균 총액 | S24: 월 공제액 | T24: 월평균 실수령
E25: 3호봉 | F25: =Q21 -> 23060000 | G25: =S21*13 -> 1512810 | H25: =R21 -> 1921666.7 | R25: =(F21+G21)/12 -> 1880000 | S25: 88220 | T25: =R25-S25 -> 1791780 | W25: 139990
E26: 9호봉 | F26: =Q22 -> 27380000 | G26: =S22*13 -> 1819870 | H26: =R22 -> 2281666.7 | R26: =(F22+G22)/12 -> 2240000 | S26: 110470 | T26: =R26-S26 -> 2129530 | W26: 116370
E27: 총액 | F27: =SUM(F25:F26) -> 50440000 | G27: =SUM(G25:G26) -> 3332680 | H27: =SUM(H25:H26) -> 4203333.3 | I27: =SUM(F27:H27) -> 57976013 | Q27: 증액: 819만원/ 예산총액 대비 인건비 비율 36% | V27: =I27-I9 -> 8194253.3
B29: 본봉(기본급) | C29: 봉급 | D29: 2012 서울시 사회복지관 종사자 보수지원기준 | E29: 호봉 | F29: 기본급 | G29: 기말수당 (3,6,9,12) | H29: 정근수당 (1,7) | I29: 복지수당 | J29: 직무수당 매월 | K29: 자격 수당 | L29: 가계 보조 | M29: 효도휴가 (2,9) | N29: 가계안정 (2,11) | O29: 교통 | P29: 식비 | Q29: 연봉 | R29: 월평균 | S29: 공제액 | T29: 월평균 실수령 | U29: 월평균 증액(원) | W29: =I27/W18 -> 0.36235008
A30: 963000 | B30: =A30+(963000*3%) -> 991890 | C30: 1306890 | D30: (기본급991,890) | E30: 3호봉 | F30: =B30*12 -> 11902680 | G30: =C30*4 -> 5227560 | H30: =C30*55%*2 -> 1437579 | I30: =135000*12 -> 1620000 | J30: =C30*10%*12 -> 1568268 | K30: 360000 | L30: 360000 | M30: =C30*0.5*2 -> 1306890 | N30: =C30*25%*2 -> 653445 | O30: 600000 | P30: 840000 | Q30: =SUM(F30:P30) -> 25876422 | R30: =Q30/12 -> 2156368.5 | S30: 174880 | T30: =R30-S30 -> 1981488.5 | U30: =T30-T3 -> 413908.5
A31: 1158000 | B31: =A31+(1158000*3%) -> 1192740 | C31: 1507740 | D31: (기본급1,192,740) | E31: 9호봉 | F31: =B31*12 -> 14312880 | G31: =C31*4 -> 6030960 | H31: =C31*80%*2 -> 2412384 | I31: =190000*12 -> 2280000 | J31: =C31*10%*12 -> 1809288 | K31: 360000 | L31: 360000 | M31: =C31*0.5*2 -> 1507740 | N31: =C31*25%*2 -> 753870 | O31: 600000 | P31: 840000 | Q31: =SUM(F31:P31) -> 31267122 | R31: =Q31/12 -> 2605593.5 | S31: 226020 | T31: =R31-S31 -> 2379573.5 | U31: =T31-T4 -> 595633.5
F33: 연봉 | G33: 4대보험 | H33: 퇴직적립 | V33: 사업비,운영비 | W33: 16000000
E34: 3호봉 | F34: =Q30 -> 25876422 | G34: =S30*12 -> 2098560 | H34: 2156369 | V34: 인건비 | W34: =I36 -> 66716307
E35: 9호봉 | F35: =Q31 -> 31267122 | G35: =S31*12 -> 2712240 | H35: 2605594 | W35: =W34/W33 -> 4.1697692
E36: 총액 | F36: =SUM(F34:F35) -> 57143544 | G36: =SUM(G34:G35) -> 4810800 | H36: =SUM(H34:H35) -> 4761963 | I36: =SUM(F36:H36) -> 66716307 | Q36: 증액: 1,693만원/ 예산총액 대비 인건비 비율 42% | V36: =I36-I9 -> 16934547
F40: 991890 | I40: 135000 | K40: 30000 | L40: 30000 | O40: 50000 | P40: 70000 | R40: =SUM(F40:Q40) -> 1306890
F41: 1192740 | I41: 135000 | K41: 30000 | L41: 30000 | O41: 50000 | P41: 70000 | R41: =SUM(F41:Q41) -> 1507740
S45: 1567000
S46: 1783000

Sheet 1213급여-산출기초 (2)
A6: 지급년도 | C6: 2013 | E6: 회사명
A7: 지급월 | C7: 1 | E7: 아름다운생명사랑
A8: NO | B8: 성명 | C8: 호봉 | D8: 지 급 내 역(과세) | K8: 지 급 내 역(비과세) | O8: 지급액 | P8: 공 제 내 역 | W8: 공제계 | X8: 월평균 지급총액
D9: 기본급 | E9: 자격수당 | F9: 직무수당 | G9: 특별수당 | H9: 월차수당 | I9: 근속수당 (호봉) | J9: 상여금 | K9: 활동비지원 | L9: 식비 | M9: 교통비 | N9: 교육비 | P9: 소득세 | Q9: 주민세 | R9: 국민연금 | T9: 장기요양 | U9: 건강보험 | V9: 고용보험 | Z9: 상여금 | AA9: 여름휴가 | AB9: 월평균 총액
A10: =IF(ISBLANK(B10),"",ROW(A1)) | C10: 13 | O10: =SUM(D10:J10) -> 0 | P10: =IF(O10/1000<770,0,IF(OR(ISBLANK(B10),O10<1000000),0,IF(O10>10000000,VLOOKUP(10000,갑근세,3)+((O10-10000000)*95%*35%),VLOOKUP(O10*0.001,갑근세,3)))) -> 0 | Q10: =ROUNDDOWN(P10*10%,-1) -> 0 | R10: =IF(ISBLANK(D10),"",ROUNDDOWN(ROUNDDOWN(IF(O10<230000,230000,IF(O10>3750000,3750000,O10)),-3)*4.5%,-1)) | T10: =IF(ISBLANK(D10),"",IF(Y10=FALSE,ROUNDDOWN(ROUNDDOWN(IF(O10<280000,280000,IF(O10>65790000,65790000,O10))*2.82%,-1)*6.55%,-1),ROUNDDOWN(ROUNDDOWN(IF(O10<280000,280000,IF(O10>65790000,65790000,O10))*2.82%,-1)*6.55%,-1)-ROUNDUP(ROUNDDOWN(ROUNDDOWN(IF(O10<280000,280000,IF(O10>65790000,65790000,O10))*2.82%,-1)*6.55%,-1)*30%,-1))) | U10: =IF(ISBLANK(D10),"",ROUNDDOWN(IF(O10<280000,280000,IF(O10>65790000,65790000,O10))*2.9%,-1)) | W10: =SUM(P10:V10) -> 0 | X10: =ROUNDUP(O10-W10,-1) -> 0 | Y10: FALSE
A11: 1 | B11: 진혜료 | C11: 9 | D11: 800000 | E11: 50000 | F11: 50000 | I11: 360000 | J11: 100000 | K11: 380000 | L11: 100000 | M11: 200000 | N11: 200000 | O11: =SUM(D11:J11) -> 1360000 | P11: =IF(O11/1000<770,0,IF(OR(ISBLANK(B11),O11<1000000),0,IF(O11>10000000,VLOOKUP(10000,갑근세,3)+((O11-10000000)*95%*35%),VLOOKUP(O11*0.001,갑근세,3)))) -> 7650 | Q11: =ROUNDDOWN(P11*10%,-1) -> 760 | R11: =IF(ISBLANK(D11),"",ROUNDDOWN(ROUNDDOWN(IF(O11<230000,230000,IF(O11>3750000,3750000,O11)),-3)*4.5%,-1)) -> 61200 | T11: =IF(ISBLANK(D11),"",IF(Y11=FALSE,ROUNDDOWN(ROUNDDOWN(IF(O11<280000,280000,IF(O11>65790000,65790000,O11))*2.82%,-1)*6.55%,-1),ROUNDDOWN(ROUNDDOWN(IF(O11<280000,280000,IF(O11>65790000,65790000,O11))*2.82%,-1)*6.55%,-1)-ROUNDUP(ROUNDDOWN(ROUNDDOWN(IF(O11<280000,280000,IF(O11>65790000,65790000,O11))*2.82%,-1)*6.55%,-1)*30%,-1))) -> 2510 | U11: =IF(ISBLANK(D11),"",ROUNDDOWN(IF(O11<280000,280000,IF(O11>65790000,65790000,O11))*2.82%,-1)) -> 38350 | W11: =SUM(P11:V11) -> 110470 | X11: =AB11-W11 -> 2129530 | Y11: FALSE | AA11: 500000 | AB11: =O11+K11+L11+M11+N11 -> 2240000
A12: 2 | B12: 조아라 | C12: 3 | D12: 800000 | E12: 50000 | F12: 50000 | I12: 120000 | J12: 100000 | K12: 260000 | L12: 100000 | M12: 200000 | N12: 200000 | O12: =SUM(D12:J12) -> 1120000 | P12: =IF(O12/1000<770,0,IF(OR(ISBLANK(B12),O12<1000000),0,IF(O12>10000000,VLOOKUP(10000,갑근세,3)+((O12-10000000)*95%*35%),VLOOKUP(O12*0.001,갑근세,3)))) -> 3800 | Q12: =ROUNDDOWN(P12*10%,-1) -> 380 | R12: =IF(ISBLANK(D12),"",ROUNDDOWN(ROUNDDOWN(IF(O12<230000,230000,IF(O12>3750000,3750000,O12)),-3)*4.5%,-1)) -> 50400 | T12: =IF(ISBLANK(D12),"",IF(Y12=FALSE,ROUNDDOWN(ROUNDDOWN(IF(O12<280000,280000,IF(O12>65790000,65790000,O12))*2.82%,-1)*6.55%,-1),ROUNDDOWN(ROUNDDOWN(IF(O12<280000,280000,IF(O12>65790000,65790000,O12))*2.82%,-1)*6.55%,-1)-ROUNDUP(ROUNDDOWN(ROUNDDOWN(IF(O12<280000,280000,IF(O12>65790000,65790000,O12))*2.82%,-1)*6.55%,-1)*30%,-1))) -> 2060 | U12: =IF(ISBLANK(D12),"",ROUNDDOWN(IF(O12<280000,280000,IF(O12>65790000,65790000,O12))*2.82%,-1)) -> 31580 | W12: =SUM(P12:V12) -> 88220 | X12: =AB12-W12 -> 1791780 | Y12: FALSE | AA12: 500000 | AB12: =O12+K12+L12+M12+N12 -> 1880000
A13: =IF(ISBLANK(B13),"",ROW(A4)) | O13: =SUM(D13:N13) -> 0 | P13: =IF(O13/1000<770,0,IF(OR(ISBLANK(B13),O13<1000000),0,IF(O13>10000000,VLOOKUP(10000,갑근세,3)+((O13-10000000)*95%*35%),VLOOKUP(O13*0.001,갑근세,3)))) -> 0 | Q13: =ROUNDDOWN(P13*10%,-1) -> 0 | R13: =IF(ISBLANK(D13),"",ROUNDDOWN(ROUNDDOWN(IF(O13<230000,230000,IF(O13>3750000,3750000,O13)),-3)*4.5%,-1)) | T13: =IF(ISBLANK(D13),"",IF(Y13=FALSE,ROUNDDOWN(ROUNDDOWN(IF(O13<280000,280000,IF(O13>65790000,65790000,O13))*2.82%,-1)*6.55%,-1),ROUNDDOWN(ROUNDDOWN(IF(O13<280000,280000,IF(O13>65790000,65790000,O13))*2.82%,-1)*6.55%,-1)-ROUNDUP(ROUNDDOWN(ROUNDDOWN(IF(O13<280000,280000,IF(O13>65790000,65790000,O13))*2.82%,-1)*6.55%,-1)*30%,-1))) | U13: =IF(ISBLANK(D13),"",ROUNDDOWN(IF(O13<280000,280000,IF(O13>65790000,65790000,O13))*2.82%,-1)) | V13: =ROUNDDOWN(O13*0.55%,-1) -> 0 | W13: =SUM(P13:V13) -> 0 | X13: =ROUNDUP(O13-W13,-1) -> 0 | Y13: FALSE
A14: =IF(ISBLANK(B14),"",ROW(A5)) | O14: =SUM(D14:N14) -> 0 | P14: =IF(O14/1000<770,0,IF(OR(ISBLANK(B14),O14<1000000),0,IF(O14>10000000,VLOOKUP(10000,갑근세,3)+((O14-10000000)*95%*35%),VLOOKUP(O14*0.001,갑근세,3)))) -> 0 | Q14: =ROUNDDOWN(P14*10%,-1) -> 0 | R14: =IF(ISBLANK(D14),"",ROUNDDOWN(ROUNDDOWN(IF(O14<230000,230000,IF(O14>3750000,3750000,O14)),-3)*4.5%,-1)) | T14: =IF(ISBLANK(D14),"",IF(Y14=FALSE,ROUNDDOWN(ROUNDDOWN(IF(O14<280000,280000,IF(O14>65790000,65790000,O14))*2.82%,-1)*6.55%,-1),ROUNDDOWN(ROUNDDOWN(IF(O14<280000,280000,IF(O14>65790000,65790000,O14))*2.82%,-1)*6.55%,-1)-ROUNDUP(ROUNDDOWN(ROUNDDOWN(IF(O14<280000,280000,IF(O14>65790000,65790000,O14))*2.82%,-1)*6.55%,-1)*30%,-1))) | U14: =IF(ISBLANK(D14),"",ROUNDDOWN(IF(O14<280000,280000,IF(O14>65790000,65790000,O14))*2.82%,-1)) | V14: =ROUNDDOWN(O14*0.55%,-1) -> 0 | W14: =SUM(P14:V14) -> 0 | X14: =ROUNDUP(O14-W14,-1) -> 0 | Y14: FALSE
