Workbook
Name _9._기타의_사업: '1212급여-상여달'!$E$26
Name _9._기타의_사업: '1213급여-산출기초 (2)'!$E$26
Name _9._기타의_사업: '1212급여-산출기초'!$E$26
Name bizforms: "bizforms.co.kr"
Name 가족수: '[1]소득세 2011'!#REF!
Name 가족수: '[1]소득세 2011'!#REF!
Name 가족수: '[1]소득세 2011'!#REF!
Name 가족수: '[1]소득세 2011'!#REF!
Name 가족수: '[1]소득세 2011'!#REF!
Name 가족수: '[1]소득세 2011'!#REF!
Name 가족수: '[1]소득세 2011'!#REF!
Name 갑근세: '[1]소득세 2011'!$A$8:$M$654
Name 급여대장: '1212급여-상여달'!$B$10:$X$307
Name 급여대장: '1213급여-산출기초 (2)'!$B$10:$X$307
Name 급여대장: '1212급여-산출기초'!$B$10:$X$307
Name 성명: '1212급여-상여달'!$B$10:$B$307
Name 성명: '1213급여-산출기초 (2)'!$B$10:$B$307
Name 성명: '1212급여-산출기초'!$B$10:$B$307
Name 성명목록: OFFSET('1212급여-상여달'!$B$10,0,0,COUNTA('1212급여-상여달'!$B$10:$B$39),1)
Name 성명목록: OFFSET('1213급여-산출기초 (2)'!$B$10,0,0,COUNTA('1213급여-산출기초 (2)'!$B$10:$B$39),1)
Name 성명목록: OFFSET('[2]1212급여-산출기초'!$B$10,0,0,COUNTA('[2]1212급여-산출기초'!$B$10:$B$39),1)
Name 성명목록: OFFSET('[2]1212급여-산출기초'!$B$10,0,0,COUNTA('[2]1212급여-산출기초'!$B$10:$B$39),1)
Name 성명목록: OFFSET('1212급여-산출기초'!$B$10,0,0,COUNTA('1212급여-산출기초'!$B$10:$B$39),1)

Sheet 예결심의
A1: 5) 재정보고(8월)
A2: 가. 총수입 :5,032,500 / 총지출 : 10,145,256원(이월금: 16,023,880원) 나. 9월 CMS집금 : 241건 4,333,000원) 9월 4회차 10월로 이월
A4: 관 | B4: 항 | C4: 목 | D4: 사무국 | E4: 가정방문 | F4: 공부방 | G4: 동남아시아 | H4: 교육 연구 | I4: 북녘 | J4: 계 | K4: 예산대비누적 | L4: 누적액 | M4: 1-2월 | N4: 2 | O4: 3 | P4: 4 | Q4: 5 | R4: 6 | S4: 7 | T4: 8 | U4: 9 | V4: 10 | W4: 11 | X4: 12 | Y4: 예산 | Z4: 비고
A5: 전월이월금 | J5: 23740120 | P5: 11202996 | Q5: 14538965 | R5: 14538965 | S5: 13447606 | Y5: 12099250 | AA5: 3) 2013년 예산(안) | AF5: < 수입계 >
A6: 사업외수익 | J6: 1600 | L6: 0 | M6: 0 | P6: - | Q6: - | R6: 5433 | V6: 1600 | Y6: 100000 | AA6: 순수입 | AB6: 예산대비 누적(%) | AC6: 2012'1-10월 결산(원) | AD6: 2012'예산(원) | AE6: 2013'예산(원) | AF6: 비고
A7: 회비 | J7: =J8+J9 -> 4978000 | K7: =L7/Y7 -> 0.76590278 | L7: =SUM(M7:X7) -> 44116000 | M7: 6671000 | O7: 7167000 | P7: 4773000 | Q7: 2245000 | R7: 4443000 | S7: 7961000 | T7: 4683000 | U7: 1195000 | V7: 4978000 | Y7: =Y8+Y9 -> 57600000 | AA7: 정기후원금 (개인후원금,회비,단체 정기후원) | AB7: =AC7/AD7*100 -> 84.615385 | AC7: 110000000 | AD7: 130000000 | AE7: 135000000 | AF7: 고정수입(월1,250만원) | AH7: 정기후원금 | AI7: =AE7 -> 135000000
B8: 회비 | C8: 개인회비 | J8: 4078000 | K8: =L8/Y8 -> 0.75585185 | L8: =SUM(M8:X8) -> 40816000 | M8: 6071000 | O8: 6867000 | P8: 4473000 | Q8: 1945000 | R8: 4143000 | S8: 7661000 | T8: 4383000 | U8: 1195000 | V8: 4078000 | Y8: 54000000 | AA8: 기타후원금 (개인,기업&단체 비정기, 목적 후원) | AB8: =AC8/AD8*100 -> 100 | AC8: 10000000 | AD8: 10000000 | AE8: 10000000 | AF8: 비정기 수입 | AH8: 기타후원금 | AI8: =AE8 -> 10000000
C9: 단체회비 | J9: 900000 | K9: =L9/Y9 -> 0.91666667 | L9: =SUM(M9:X9) -> 3300000 | M9: 600000 | O9: 300000 | P9: 300000 | Q9: 300000 | R9: 300000 | S9: 300000 | T9: 300000 | V9: 900000 | Y9: 3600000 | Z9: 한국누가회 정기후원 | AA9: 보조금 (서울시,강북구,모금회 등 외부사업비) | AB9: =AC9/AD9*100 -> 88.235294 | AC9: 15000000 | AD9: 17000000 | AE9: 15000000 | AF9: 서울시 공익사업 | AH9: 보조금 | AI9: =AE9 -> 15000000
AA10: 순수입 총계 | AB10: =AC10/AD10*100 -> 85.987261 | AC10: =SUM(AC7:AC9) -> 135000000 | AD10: =SUM(AD7:AD9) -> 157000000 | AE10: =SUM(AE7:AE9) -> 160000000 | AF10: 순수입 : 1억6천만
AA11: 기타수입(동남아) | AB11: =AC11/AD11*100 -> 75 | AC11: 22500000 | AD11: 30000000 | AE11: 30000000
AA12: 기타수입(치과 치료비 기부금처리) | AB12: =AC12/AD12*100 -> 0 | AD12: 20000000 | AE12: 14000000
AA13: 기타수입(북녘) | AB13: =AC13/AD13*100 -> 0 | AD13: 10000000 | AE13: 6000000
AA14: 기타수입 총계 | AB14: =AC14/AD14*100 -> 37.5 | AC14: =SUM(AC11:AC13) -> 22500000 | AD14: =SUM(AD11:AD13) -> 60000000 | AE14: =SUM(AE11:AE13) -> 50000000 | AF14: 기타수입 : 5천만
A15: 후원금 | J15: =SUM(J16:J22) -> 6232000 | K15: =L15/Y15 -> 0.74549442 | L15: =SUM(M15:X15) -> 93485000 | M15: 10123090 | O15: 10706620 | P15: 9394300 | Q15: 16861500 | R15: 15606690 | S15: 10510730 | T15: 10212570 | U15: 3837500 | V15: 6232000 | Y15: =Y16+Y17+Y18+Y19+Y20+Y21+Y22 -> 125400000 | AA15: 수입 총계 | AB15: =AC15/AD15*100 -> 72.580645 | AC15: =AC14+AC10 -> 157500000 | AD15: =AD14+AD10 -> 217000000 | AE15: =AE14+AE10 -> 210000000 | AF15: 총수입 : 2억1천만
B16: 후원금 | C16: 개인후원금 | J16: 5860000 | K16: =L16/Y16 -> 1.026467 | L16: =SUM(M16:X16) -> 56045100 | M16: 8031000 | O16: 8322000 | P16: 5495000 | Q16: 3042600 | R16: 6387000 | S16: 8645000 | T16: 6795000 | U16: 3467500 | V16: 5860000 | Y16: 54600000
C17: 후원저금통 | K17: =L17/Y17 -> 0.53692708 | L17: =SUM(M17:X17) -> 515450 | M17: 118090 | O17: 83240 | P17: 75400 | R17: 178990 | S17: 59730 | Y17: 960000 | Z17: 김실,강충원
C18: 목적후원금 | J18: 70000 | K18: =L18/Y18 -> 0.11098 | L18: =SUM(M18:X18) -> 2219600 | M18: 900000 | P18: 247000 | Q18: 22900 | R18: 839700 | T18: 70000 | U18: 70000 | V18: 70000 | Y18: 20000000
C19: 동남아후원 | K19: =L19/Y19 -> 0.75 | L19: =SUM(M19:X19) -> 22500000 | Q19: 13200000 | R19: 8200000 | S19: 1100000 | Y19: 30000000 | Z19: 캄보디아 항공비 추가 입금분 포함
C20: 북한분유보내기 | L20: =SUM(M20:X20) -> 46570 | T20: 46570 | Y20: 10000000 | Z20: 김예은
C21: 기타후원금 | J21: 2000 | K21: =L21/Y21 -> 1.7682372 | L21: =SUM(M21:X21) -> 11033800 | M21: 1074000 | O21: 3276900 | P21: 3276900 | Q21: 296000 | R21: 1000 | S21: 106000 | T21: 3001000 | V21: 2000 | Y21: 6240000 | Z21: 김재철님 후원(300만원), 싸이월드 모금함
C22: 단체후원금 | J22: 300000 | K22: =L22/Y22 -> 0.91666667 | L22: =SUM(M22:X22) -> 3300000 | M22: 900000 | O22: 300000 | P22: 300000 | Q22: 300000 | S22: 600000 | T22: 300000 | U22: 300000 | V22: 300000 | Y22: 3600000 | Z22: 서경누가회 정기후원 | AF22: < 지출계 >
A23: 보조금 | J23: =J24 -> 0 | K23: =L23/Y23 -> 0.88235294 | L23: =SUM(M23:X23) -> 15000000 | Q23: 10500000 | R23: - | S23: - | T23: 4500000 | V23: - | Y23: =Y24+Y25 -> 17000000
B24: 지원금 | C24: 서울시정 | K24: =L24/Y24 -> 1 | L24: =SUM(M24:X24) -> 15000000 | Q24: 10500000 | T24: 4500000 | Y24: 15000000
C25: 강북구청 | J25: - | L25: =SUM(M25:X25) -> 0 | M25: - | P25: - | Q25: - | R25: - | S25: - | T25: - | V25: - | Y25: 2000000
A26: 계 | J26: =SUM(J15,J7,J23,J6) -> 11211600 | K26: =L26/Y26 -> 0.71914015 | L26: =L23+L15+L7 -> 152601000 | M26: =M23+M15+M7 -> 16794090 | O26: 17873620 | P26: 14167300 | Q26: 29606500 | R26: 20055123 | S26: 18471730 | T26: 19395570 | Y26: =Y23+Y15+Y7+Y6+Y5 -> 212199250
S27: 10468430
A28: 사업 운영비 | J28: =J29 -> 2745390 | K28: =L28/Y28 -> 0.73452953 | L28: =SUM(M28:X28) -> 74892631 | M28: 1595620 | O28: 5967895 | P28: 4877630 | Q28: 23737890 | R28: 14872730 | S28: 10468430 | T28: 4675876 | U28: 6175170 | V28: 2521390 | Y28: =Y29 -> 101960000 | AA28: 지출 (순지출 중심으로 표시) | AB28: 예산대비 누적(%) | AC28: 2012'1-10월 결산(원) | AD28: 예산(원) | AE28: 2013'예산(원) | AF28: 비고
B29: 진행비 | J29: =SUM(J30:J54) -> 2745390 | K29: =L29/Y29 -> 0.65200089 | L29: =SUM(M29:X29) -> 66478011 | M29: 3649430 | O29: 5967895 | P29: 4877630 | Q29: 23737890 | R29: 14872730 | T29: 4675876 | U29: 6175170 | V29: 2521390 | Y29: =SUM(Y30:Y54) -> 101960000 | AA29: 인건비 (급여/퇴직금/보험금/복리후생) | AB29: =AC29/AD29*100 -> 64.705882 | AC29: 55000000 | AD29: 85000000 | AE29: 57000000 | AF29: 3명예산/1명분 축소 | AH29: 인건비 | AI29: =AE29 -> 57000000
C30: 치과의료지원비 | J30: =SUM(D30:I30) -> 0 | K30: =L30/Y30 -> 0.5596 | L30: =SUM(M30:X30) -> 5596000 | M30: 63000 | O30: 2980000 | P30: - | Q30: - | R30: 2100500 | S30: 452500 | T30: - | U30: - | V30: - | Y30: 10000000 | AA30: 관리비 (임차료,공공요금,차량,비품,우편통신) | AB30: =AC30/AD30*100 -> 81.818182 | AC30: 18000000 | AD30: 22000000 | AE30: 22000000 | AH30: 관리비 | AI30: =AE30 -> 22000000
C31: 의과의료지원비 | E31: 24000 | J31: =SUM(D31:I31) -> 24000 | K31: =L31/Y31 -> 0.25970571 | L31: =SUM(M31:X31) -> 1817940 | M31: 1341890 | O31: 119100 | P31: - | Q31: 151600 | R31: - | S31: - | T31: 161230 | U31: 20120 | V31: 24000 | Y31: 7000000 | AA31: 사업비 (1. 지역보건 및 주요사업비) | AB31: =AC31/AD31*100 -> 66.530612 | AC31: =AC34 -> 32600000 | AD31: =AD34 -> 49000000 | AE31: =AE34 -> 81000000 | AF31: 2. 기타사업비 제외 | AH31: 사업비 | AI31: =AE31 -> 81000000
C32: 영양보충비 | E32: 224000 | J32: =SUM(D32:I32) -> 224000 | K32: =L32/Y32 -> 0.42693333 | L32: =SUM(M32:X32) -> 768480 | M32: - | O32: - | P32: - | Q32: 102400 | R32: - | S32: 237200 | T32: - | U32: 204880 | V32: 224000 | Y32: 1800000 | AA32: 순지출 총계 | AB32: =AC32/AD32*100 -> 67.692308 | AC32: =SUM(AC29:AC31) -> 105600000 | AD32: =SUM(AD29:AD31) -> 156000000 | AE32: =SUM(AE29:AE31) -> 160000000 | AF32: 1억6천만
AA34: 1. 지역보건 및 주요 사업비 세부 | AB34: =AC34/AD34*100 -> 66.530612 | AC34: =SUM(AC35:AC41) -> 32600000 | AD34: =SUM(AD35:AD41) -> 49000000 | AE34: =SUM(AE35:AE41) -> 81000000
C35: 안과의료지원비 | F35: 149800 | J35: =SUM(D35:I35) -> 149800 | K35: =L35/Y35 -> 0.70356 | L35: =SUM(M35:X35) -> 703560 | M35: - | O35: 20200 | P35: 44360 | Q35: - | R35: - | S35: 120400 | T35: 348300 | U35: 20500 | V35: 149800 | Y35: 1000000 | Z35: 공부방아동 안경맞춤비 | AA35: 치과치료비(순지출) | AB35: =AC35/AD35*100 -> 84 | AC35: 4200000 | AD35: 5000000 | AE35: 8000000 | AF35: 어르신380만원/비키50만원
C36: 심리검사및치료 | J36: =SUM(D36:I36) -> 0 | K36: =L36/Y36 -> 1.2550185 | L36: =SUM(M36:X36) -> 13554200 | M36: - | O36: 986200 | P36: 3984600 | Q36: 75600 | R36: - | S36: 5430300 | T36: - | U36: 3077500 | V36: - | Y36: 10800000 | AA36: 공부방 정서치료비 | AB36: =AC36/AD36*100 -> 100 | AC36: 10000000 | AD36: 10000000 | AE36: 8000000 | AH36: 치과치료 | AI36: =AE35 -> 8000000
C37: 재가의료용품지원비 | J37: =SUM(D37:I37) -> 0 | L37: =SUM(M37:X37) -> 0 | M37: - | O37: - | P37: - | Q37: - | R37: - | S37: - | T37: - | U37: - | V37: - | Y37: 360000 | AA37: 공부방 기타지출(의과,안과 외) | AB37: =AC37/AD37*100 -> 60 | AC37: 600000 | AD37: 1000000 | AE37: 2000000 | AH37: 공부방정서치료 | AI37: =AE36 -> 8000000
C38: 재가복지용품지원비 | J38: =SUM(D38:I38) -> 0 | K38: =L38/Y38 -> 0.2 | L38: =SUM(M38:X38) -> 60000 | M38: 60000 | O38: - | P38: - | Q38: - | R38: - | S38: - | T38: - | U38: - | V38: - | Y38: 300000 | AA38: 독거노인(의료비,영양보충제/밝누모/사례자문) | AB38: =AC38/AD38*100 -> 50 | AC38: 7000000 | AD38: 14000000 | AE38: 15000000 | AF38: 의료비:100만원 | AH38: 공부방기타 | AI38: =AE37 -> 2000000
C39: 가정환경지원비 | E39: 64800 | J39: =SUM(D39:I39) -> 64800 | K39: =L39/Y39 -> 0.42309524 | L39: =SUM(M39:X39) -> 355400 | M39: 150000 | O39: 70300 | P39: 70300 | Q39: - | R39: - | S39: - | T39: - | U39: - | V39: 64800 | Y39: 840000 | AA39: 홍보,행사(후원자의밤,홍보물,달력,홈페이지,외) | AB39: =AC39/AD39*100 -> 46.153846 | AC39: 6000000 | AD39: 13000000 | AE39: 12000000 | AF39: 후원자의밤,홈페이지,달력미결제 | AH39: 독거노인 | AI39: =AE38 -> 15000000
AA40: 활동비(활동가식사,기관선물,운영회의비,MT 외) | AB40: =AC40/AD40*100 -> 80 | AC40: 4800000 | AD40: 6000000 | AE40: 6000000 | AF40: 동남아,의료학교제외 | AH40: 홍보행사 | AI40: =AE39 -> 12000000
AA41: 예비비(간사1인인건비,치과&정신보건 외) | AE41: 30000000 | AF41: 인건비 및 사업비 유동성 | AH41: 활동비 | AI41: =AE40 -> 6000000
AH42: 예비비 | AI42: =AE41 -> 30000000
AA43: 2. 기타사업비 | AB43: =AC43/AD43*100 -> 74.827586 | AC43: =SUM(AC45:AC47) -> 43400000 | AD43: =SUM(AD44:AD47) -> 58000000 | AE43: =SUM(AE44:AE47) -> 50000000 | AF43: 5천만 | AH43: 기타사업(동남아,의료학교,북녘,외부치과) | AI43: =AD43 -> 58000000
AA44: 기타사업1치과치료비(기부금처리 분 예산) | AB44: =AC44/AD44*100 -> 0 | AC44: 0 | AD44: 15000000 | AE44: 10000000 | AF44: 연말에 병원별로 합산 처리
AA45: 기타사업2(동남아) | AB45: =AC45/AD45*100 -> 130 | AC45: 39000000 | AD45: 30000000 | AE45: 30000000 | AF45: 간사지원,, 학생항공비지원, 환불수수료 외 300만원순지출 | AH45: 기타사업(동남아,의료학교,북녘,치과기부금) | AI45: 58000000
AA46: 기타사업3(의료학교,실습-강사비,도서,식비) | AB46: =AC46/AD46*100 -> 126.66667 | AC46: 3800000 | AD46: 3000000 | AE46: 4000000
C47: 건강교육용품구입비 | J47: =SUM(D47:I47) -> 0 | K47: 0 | L47: =SUM(M47:X47) -> 0 | M47: - | O47: - | P47: - | Q47: - | R47: - | S47: - | T47: - | U47: - | V47: - | Y47: 200000 | AA47: 기타사업4(북녘어린이) | AB47: =AC47/AD47*100 -> 6 | AC47: 600000 | AD47: 10000000 | AE47: 6000000
C49: 영양보충비 | E49: 224000 | J49: =SUM(D49:I49) -> 224000 | K49: =L49/Y49 -> 0.42693333 | L49: =SUM(M49:X49) -> 768480 | M49: - | O49: - | P49: - | Q49: 102400 | R49: - | S49: 237200 | T49: - | U49: 204880 | V49: 224000 | Y49: 1800000 | AA49: 기타사업 포함 지출총계 | AB49: =AC49/AD49*100 -> 69.626168 | AC49: =AC43+AC32 -> 149000000 | AD49: =AD43+AD32 -> 214000000 | AE49: =AE43+AE32 -> 210000000 | AF49: 총지출 : 2억1천만
C50: 기타물품비 | J50: =SUM(D50:I50) -> 0 | K50: 0 | L50: =SUM(M50:X50) -> 0 | M50: - | O50: - | P50: - | Q50: - | R50: - | S50: - | T50: - | U50: - | V50: - | Y50: 1000000
C51: 의료물품비 | E51: 505360 | J51: =SUM(D51:I51) -> 505360 | L51: =SUM(M51:X51) -> 585360 | M51: - | O51: - | P51: - | Q51: - | R51: - | S51: - | T51: 40000 | U51: 40000 | V51: 505360 | Y51: 400000
C52: 행사준비비 | H52: 831630 | J52: =SUM(D52:I52) -> 831630 | K52: =L52/Y52 -> 0.24670057 | L52: =SUM(M52:X52) -> 4317260 | M52: 679250 | O52: - | P52: - | Q52: 1826280 | R52: 194500 | S52: 170000 | T52: 340000 | U52: 275600 | V52: 831630 | Y52: 17500000 | Z52: 경로당 건강상담 강사비(2회기분)
C53: 사업홍보비 | D53: 179000 | J53: =SUM(D53:I53) -> 179000 | K53: =L53/Y53 -> 0.1767913 | L53: =SUM(M53:X53) -> 2033100 | M53: - | O53: - | P53: 129720 | Q53: 251300 | R53: 704500 | S53: 703400 | T53: 65180 | U53: - | V53: 179000 | Y53: 11500000 | Z53: 홈페이지 호스팅비용 지급
C54: 활동비 | E54: 395600 | F54: 147200 | J54: =SUM(D54:I54) -> 542800 | K54: =L54/Y54 -> 1.2109729 | L54: =SUM(M54:X54) -> 45363046 | M54: 1355290 | P54: 648650 | Q54: 21330710 | R54: 11873230 | S54: 3354630 | T54: 3721166 | U54: 2536570 | V54: 542800 | Y54: 37460000 | Z54: 가정방문(사례자문비포함), 캄보디아 물품비(의료,기타), 에프터외 활동비
A55: 관리 운영비 | J55: =J56+J66 -> 5465661 | K55: =L55/Y55 -> 0.63148413 | L55: =SUM(M55:X55) -> 68517813 | M55: 18105202 | O55: 7846837 | P55: 5953701 | Q55: 7566871 | R55: 4575491 | S55: 6961100 | T55: 5469380 | U55: 6573570 | V55: 5465661 | Y55: =Y56+Y66 -> 108502827
B56: 인건비 | J56: =SUM(J57:J65) -> 3348940 | K56: =L56/Y56 -> 0.65529135 | L56: =SUM(L57:L65) -> 56071202 | M56: =SUM(M57:M65) -> 15670640 | O56: 6233600 | P56: 4163811 | Q56: 5961740 | R56: 3458770 | S56: 4820980 | T56: 3903970 | U56: 5314790 | V56: 3348940 | Y56: =SUM(Y57:Y64) -> 85566827
C57: 급여 | D57: 2751520 | J57: =SUM(D57:I57) -> 2751520 | K57: =L57/Y57 -> 0.53326072 | L57: =SUM(M57:X57) -> 30843800 | M57: 8831640 | O57: 2751520 | P57: 2751520 | Q57: 2751520 | R57: 2751520 | S57: 2751520 | T57: 2751520 | U57: 2751520 | V57: 2751520 | Y57: 57840000
C58: 상여 | J58: =SUM(D58:I58) -> 0 | K58: =L58/Y58 -> 0.61111111 | L58: =SUM(M58:X58) -> 6600000 | M58: 1800000 | O58: 1200000 | P58: - | Q58: 1200000 | R58: - | S58: 1200000 | T58: - | U58: 1200000 | V58: - | Y58: 10800000
C59: 제수당 | J59: =SUM(D59:I59) -> 0 | K59: 0 | L59: =SUM(M59:X59) -> 0 | M59: - | O59: - | P59: - | Q59: - | R59: - | S59: - | T59: - | U59: - | V59: - | Y59: -
C60: 강사비 | J60: =SUM(D60:I60) -> 0 | K60: 0 | L60: =SUM(M60:X60) -> 0 | M60: - | O60: - | P60: - | Q60: - | R60: - | S60: - | T60: - | U60: - | V60: -
C61: 법정복리비 | D61: 552420 | J61: =SUM(D61:I61) -> 552420 | K61: =L61/Y61 -> 1.6475419 | L61: =SUM(M61:X61) -> 9138630 | M61: 2974000 | O61: 1086080 | P61: 734330 | Q61: 1110220 | R61: 707250 | S61: 869460 | T61: 552450 | U61: 552420 | V61: 552420 | Y61: 5546827
C62: 기타후생경비 | D62: 45000 | J62: =SUM(D62:I62) -> 45000 | K62: =L62/Y62 -> 1.0418678 | L62: =SUM(M62:X62) -> 1812850 | M62: 777000 | O62: - | P62: - | Q62: 240000 | R62: - | S62: - | T62: 600000 | U62: 150850 | V62: 45000 | Y62: 1740000 | Z62: 여름휴가비(2인)
C63: 퇴직급여 | J63: =SUM(D63:I63) -> 0 | K63: =L63/Y63 -> 0.79625747 | L63: =SUM(M63:X63) -> 3837961 | M63: 644000 | O63: 1196000 | P63: 677961 | Q63: 660000 | R63: - | S63: - | T63: - | U63: 660000 | V63: - | Y63: 4820000
C64: 퇴직금지급 | J64: =SUM(D64:I64) -> 0 | K64: =L64/Y64 -> 0.25185913 | L64: =SUM(M64:X64) -> 1213961 | O64: 536000 | P64: 677961 | Q64: - | R64: - | S64: - | T64: - | U64: - | V64: - | Y64: 4820000
C65: 퇴직급여전입 | J65: =SUM(D65:I65) -> 0 | K65: =L65/Y65 -> 0.54439834 | L65: =SUM(M65:X65) -> 2624000 | M65: 644000 | O65: 660000 | Q65: 660000 | R65: - | S65: - | T65: - | U65: 660000 | V65: - | Y65: 4820000 | Z65: 퇴직급여 월별 불입
B66: 관리비 | J66: =J67+J68+J71+J72+J73+J74+J75+J76+J77+J69 -> 2116721 | K66: =L66/Y66 -> 0.77922794 | L66: =SUM(L67:L78) -> 17872372 | M66: =SUM(M67:M78) -> 3075562 | O66: 1613237 | P66: 1789890 | Q66: 1605131 | R66: 1116721 | S66: 2140120 | T66: 1565410 | U66: 1258780 | V66: 2116721 | Y66: 22936000
C67: 소모품비 | D67: 20000 | J67: =SUM(D67:I67) -> 20000 | K67: =L67/Y67 -> 0.49045714 | L67: =SUM(M67:X67) -> 686640 | M67: 91080 | O67: 315300 | P67: - | Q67: 45400 | R67: 24320 | S67: - | T67: 148900 | U67: 41640 | V67: 20000 | Y67: 1400000
C68: 전산소모품비 | J68: =SUM(D68:I68) -> 0 | K68: =L68/Y68 -> 0.43033333 | L68: =SUM(M68:X68) -> 258200 | O68: - | P68: - | Q68: - | R68: 258200 | S68: - | T68: - | U68: - | V68: - | Y68: 600000
C69: 여비교통비 | D69: 157200 | J69: =SUM(D69:I69) -> 157200 | K69: =L69/Y69 -> 0.0046875 | L69: 3000 | M69: 0 | O69: 3000 | P69: 3000 | Q69: - | R69: - | S69: - | T69: - | U69: - | V69: 157200 | Y69: 640000
C70: 도서인쇄비 | J70: =SUM(D70:I70) -> 0 | K70: =L70/Y70 -> 0.021428571 | L70: 3000 | M70: =SUM(G70:L70) -> 3000.0214 | O70: 55000 | P70: - | Q70: - | R70: - | S70: - | T70: - | U70: - | V70: - | Y70: 140000
C71: 우편통신비 | D71: 103960 | J71: =SUM(D71:I71) -> 103960 | K71: =L71/Y71 -> 0.4941627 | L71: =SUM(M71:X71) -> 1245290 | M71: 322050 | O71: 126140 | P71: 133230 | Q71: 98120 | R71: 114660 | S71: 112130 | T71: 108300 | U71: 126700 | V71: 103960 | Y71: 2520000 | Z71: 전화,인터넷,기부금영수증발송 외
C72: 정수기관리비 | D72: 33900 | J72: =SUM(D72:I72) -> 33900 | K72: =L72/Y72 -> 0.83088235 | L72: =SUM(M72:X72) -> 339000 | M72: 67800 | O72: 33900 | P72: 33900 | Q72: 33900 | R72: 33900 | S72: 33900 | T72: 33900 | U72: 33900 | V72: 33900 | Y72: 408000
C73: 차량유지비 | D73: 558220 | J73: =SUM(D73:I73) -> 558220 | K73: =L73/Y73 -> 0.72571818 | L73: =SUM(M73:X73) -> 1596580 | M73: 141300 | O73: 40000 | P73: 20000 | Q73: 329000 | R73: 378670 | S73: 50000 | T73: 79390 | U73: - | V73: 558220 | Y73: 2200000
C74: 공공요금 | D74: 56920 | J74: =SUM(D74:I74) -> 56920 | K74: =L74/Y74 -> 1.0207436 | L74: =SUM(M74:X74) -> 1592360 | M74: 455620 | O74: - | P74: 630450 | Q74: 155950 | R74: - | S74: 160370 | T74: 133050 | U74: - | V74: 56920 | Y74: 1560000 | Z74: 전기,도시가스, 주민세 납부
C75: 임차료 | D75: 720300 | J75: =SUM(D75:I75) -> 720300 | K75: =L75/Y75 -> 0.82228311 | L75: =SUM(M75:X75) -> 7203200 | M75: 1440600 | O75: 720300 | P75: 720300 | Q75: 720300 | R75: - | S75: 1440800 | T75: 720300 | U75: 720300 | V75: 720300 | Y75: 8760000
C76: 지급수수료 | D76: 466221 | J76: =SUM(D76:I76) -> 466221 | K76: =L76/Y76 -> 0.72798014 | L76: =SUM(M76:X76) -> 3005102 | M76: 504112 | O76: 322597 | P76: 252010 | Q76: 222461 | R76: 306971 | S76: 342920 | T76: 251570 | U76: 336240 | V76: 466221 | Y76: 4128000 | Z76: CMS수수료,팩스사용료 외
C77: 수선비 | J77: =SUM(D77:I77) -> 0 | K77: =L77/Y77 -> 1.75 | L77: =SUM(M77:X77) -> 140000 | M77: 50000 | P77: - | Q77: - | R77: - | S77: - | T77: 90000 | U77: - | V77: - | Y77: 80000 | Z77: 생명사랑조끼 새탁비 외
C78: 비품구입비 | J78: =SUM(D78:I78) -> 0 | K78: =L78/Y78 -> 3.6 | L78: =SUM(M78:X78) -> 1800000 | P78: - | Q78: 1800000 | R78: - | S78: - | T78: - | U78: - | V78: - | Y78: 500000
A79: 계 | D79: =SUM(D29:D78) -> 5644661 | E79: =SUM(E29:E78) -> 1437760 | F79: =SUM(F29:F78) -> 297000 | G79: =SUM(G29:G78) -> 0 | H79: =SUM(H29:H78) -> 831630 | I79: =SUM(I29:I78) -> 0 | J79: =J55+J28 -> 8211051 | K79: =L79/Y79 -> 0.6814051 | L79: =L55+L28 -> 143410444 | M79: =M55+M28 -> 19700822 | O79: 13814732 | P79: 10831331 | Q79: 31304761 | R79: 19448221 | S79: 17429530 | T79: 10145256 | U79: 12748740 | V79: 7987051 | Y79: =Y55+Y28 -> 210462827
A80: 예비비 | L80: =SUM(M80:X80) -> 14489806 | S80: 14489806 | Y80: 8356423
A81: 차기이월금 | J81: =J5+J26-J79 -> 26740669 | L81: =Z6 -> 0 | P81: 14538965 | Q81: 12840704 | R81: 15145867 | U81: 16023880 | V81: 26964669
A82: 3)-2 후원품 | L82: =SUM(M82:X82) -> 0 | Y82: =Y80+Y79 -> 218819250
L84: 600000 | AF84: 15330 | AH84: 13200000
J85: 274284 | L85: 35754878 | AF85: 20154250 | AH85: 8200000
J86: 6241988 | L86: -35154878 | AF86: 11171090 | AH86: 1100000
J87: 18497 | AF87: 1180380 | AH87: =SUM(AH84:AH86) -> 22500000
J89: 6534769
J90: ₩₩!!- 13,707,550
Z91: 14538965 | AF91: 1711626 | AH91: 10500000
AF92: 871000 | AH92: =AH91+AH87 -> 33000000
AF93: =SUM(AF84:AF92) -> 35103676 | AH93: =SUM(AH84:AH92) -> 88500000
AD94: 32012000
AF99: 3800500 | AG99: 예금 | AH99: 계좌 | AI99: 이체확인증 | AL99: 코엑스여행사 | AM99: ○제 목 : 캄보디아 항공권 1차 선급금 ○채 주 : 코엑스여행사 ○내 역 : 22명 항공비 중 선급금 지급
AF100: 16200000 | AG100: 예금 | AH100: 계좌 | AI100: 이체확인증 | AL100: 코엑스여행사 | AM100: ○제 목 : 캄보디아 항공권 1차 선급금 ○채 주 : 코엑스여행사 ○내 역 : 22명 항공비 중 선급금 16,200,000 지급
AF101: 8666500 | AH101: 인터넷출금이체 | AI101: 수유서 | AJ101: 코엑스여행사
AF102: 2476500 | AH102: 인터넷출금이체 | AI102: 수유서 | AJ102: 코엑스여행사
AF105: 1000500 | AG105: 인터넷출금이체 | AH105: 수유서 | AL105: 안선영항공비환
AF106: 1000500 | AG106: 인터넷출금이체 | AH106: 수유서 | AL106: 이혜린항공비환
AF107: -1000000 | AG107: 1000000 | AH107: ATM입금 | AL107: 코엑스여행
AF108: -130000 | AG108: 130000 | AH108: ATM입금 | AL108: 코엑스여행
AF111: =AF103+AF107+AF108 -> -1130000

Sheet 2012-13'세입예결산(안)
A6: 2012-2013년 예·결산서
A9: (* 결산 회계년도: 2012. 1. 1 - 2012. 12. 31)
A10: (* 예산 회계년도: 2013. 1. 1 - 2013. 12. 31)
A11: * 결산총액 : 207,824,464 (이억칠백팔십이만사천사백육십사원정)
K12: 사업수익 | L12: 195709928 | M12: (일금 일억구천오백칠십만구천구백이십팔원정)
K13: 사업외수익 | L13: 12114536 | M13: (일금 일천이백십일반사천오백삼십육원정)
K14: (전년도 이월금,이자수익 포함)
A15: * 예산총액 : 232,400,000원 (이억삼천이백사십만원정)
K16: 사업수익 | L16: 213000000 | M16: (일금 이억천삼백만원)
K17: 사업외수익 | L17: 19400000 | M17: (일금 일천구백사십만원정)
K18: (전년도 이월금,이자수익 포함)
J20: ▣ 예산(안) 심의 1차 : 2012.12.8. 정기이사회 ▣ 예·결산(안) 심의 2차 : 2013.1.13. 정기이사회 ▣예·결산(안) 승인일 : 2013.1.13. 정기총회
BD33: 순수입 | BE33: =BE74 -> 169166304
BD34: 기타수입 | BE34: =BE36 -> 26528910
BD36: 기타수입 | BE36: =J124 -> 26528910
C37: 올해 총 예산은 1억5천만원으로 전년도 대비 약 50%정도로 책정될 계획입니다. 예산 감소의 이유는 우선 외부지원금 - 모금회 지원금 7천만원감소 그리고 올해 예산에서 사업확대 및 후원금 증액 등을 계획해서 예산을 공격적으로 상향해서 잡아놓았던 부분을 올해 실제 들어온 수입에 준해서 내년도 예산으로 잡으셨다고 보면 됩니다 | J37: 자부담과 외부 보조금 비율 측면을 보시면 자체 수입이 1억3천정도 되고 보조금이 천칠백만원정도 됩니다. | P37: 수입항목별 구성비를 보시면 후원금 중 고정수입(개이,단체) 1억1천만원, 기타 비정기 수입이 1천팔백만원 그리고 1천 7백원원이 보조금으로 내년도 예산은 고정적으로 들어오는 정기 후원액 중심으로 운영이 될 예정입니다. 현 예산에 포함되지는 않았지만 보조금의 경우 사업별로 지원가능한 기회가 있으면 지원받아서 예산이 충원될 수도 있습니다.
AJ39: 자부담 | AK39: 보조금 | AL39: 2011년결산 | AM39: 2012년예산 | AN39: 후원금(정기CMS및 계좌) 고정수입 | AO39: 비정기 | AP39: 보조금 | AQ39: 동남아후원 | AR39: 북한분유
AJ40: =AJ41/AA41 -> 0.92380099 | AK40: =AK41/AA41 -> 0.076199014 | AL40: =M51 -> 189492347 | AM40: =I51 -> 223100000 | AN40: =X54+X55+X64+X58 -> 0 | AO40: 27200000 | AP40: 17000000 | AQ40: 30000000 | AR40: 10000000 | AS40: =SUM(AN40:AR40) -> 84200000
AA41: =AJ41+AK41 -> 223100000 | AJ41: =I53+I57+I69 -> 206100000 | AK41: 17000000 | AL41: =AL42+AL57 -> 0 | AM41: 299770000 | AN41: =AN40/AS40 -> 0 | AO41: =AO40/AS40 -> 0.32304038 | AP41: =AP40/AS40 -> 0.20190024 | AQ41: =AQ40/AS40 -> 0.35629454 | AR41: =AR40/AS40 -> 0.11876485
AA42: =AJ42+AK42 -> 189492347 | AJ42: =M53+M57+M69 -> 174492347 | AK42: =M65 -> 15000000
C43: 1-2) 2013 세입예산 세부
K48: =K51/J51 -> 0.051370351 | O48: =N51/I51 -> 0.15063941 | X48: (단위:원)
B49: 개인회비 | C49: 과 목 | I49: 2013년예산 | J49: 2012년예산 | K49: 예산대비 증감(A)-(B) | M49: 2012'1~11월결산 | N49: 결산대비 증감 (A)-© | P49: 예산산출내역 | AL49: =I53+I57+I70+I71+#REF! -> #REF! | AM49: =AL49/AL51 -> #REF!
A50: 2009예산 | B50: 54000 | C50: 관 | E50: 항 | G50: 목 | I50: (A) | J50: (B) | K50: 금액 | L50: 비율(%) | M50: (C) | N50: 금액 | O50: 비율(%) | AJ50: =AJ42/AA42 -> 0.92084113 | AK50: =AK42/AA42 -> 0.07915887 | AL50: =I65 -> 17000000 | AM50: =AL50/AL51 -> #REF! | AN50: cms,계좌 고정후원금 | AO50: 비정기 | AP50: 보조금 | AQ50: 동남아후원 | AR50: 북한분유후원
A51: 2009결산 | B51: 48424 | C51: 총 계 | I51: =I52+I69 -> 223100000 | J51: 212199250 | K51: =I51-J51 -> 10900750 | L51: =K51/J51 -> 0.051370351 | M51: =SUM(M53+M57+M65+M70+M72) -> 189492347 | N51: =I51-M51 -> 33607653 | O51: =N51/I51 -> 0.15063941 | AL51: =SUM(AL49:AL50) -> #REF! | AN51: 0.579 | AO51: 0.136 | AP51: 0.085 | AQ51: 0.15 | AR51: 0.05
C52: 사업수익 | I52: =I53+I57+I65 -> 213000000 | J52: =J53+J57+J65 -> 212000000 | K52: =I52-J52 -> 1000000 | L52: =K52/J52 -> 0.0047169811 | M52: =SUM(M53,M57,M65) -> 182903728 | N52: =SUM(N53,N57,N65) -> 30096272 | O52: =N52/I52 -> 0.14129705 | AA52: 298000000
C53: 410 | D53: 회 비 | E53: 411 | F53: 회 비 | G53: 소계 | I53: =I54+I55 -> 61400000 | J53: =J54+J55 -> 57600000 | K53: =SUM(I53-J53) -> 3800000 | L53: =K53/J53 -> 0.065972222 | M53: =SUM(M54:M55) -> 52308840 | N53: =I53-M53 -> 9091160 | O53: =I53/M53 -> 1.1737978 | AA53: =I51-AA52 -> -74900000 | AK53: 개인후원475명 | AN53: cms,계좌 고정후원금 | AO53: 비정기 | AP53: 보조금 | AQ53: 동남아후원
G54: 411-01-00 | H54: 개인회비 | I54: 57800000 | J54: 54000000 | K54: =SUM(I54-J54) -> 3800000 | L54: =K54/J54 -> 0.07037037 | M54: 49008840 | N54: =I54-M54 -> 8791160 | O54: =I54/M54 -> 1.1793791 | AA54: =X54/12 -> 0 | AJ54: 자부담 | AK54: 보조금 | AN54: =M54+M55+M58+M64 -> 122796100 | AO54: =M59+M60 -> 14044150 | AP54: =M65 -> 15000000 | AQ54: =M61 -> 22500000 | AR54: =SUM(AN54:AQ54) -> 174340250
G55: 411-01-01 | H55: 단체회비 | I55: 3600000 | J55: 3600000 | K55: =J55-I55 -> 0 | L55: =K55/J55 -> 0 | M55: 3300000 | N55: =I55-M55 -> 300000 | O55: =I55/M55 -> 1.0909091 | P55: 한국누가회 | Q55: 월30만원 | AJ55: 0.688 | AK55: 0.312 | AN55: =AN54/AR54 -> 0.70434739 | AO55: =AO54/AR54 -> 0.080555982 | AP55: =AP54/AR54 -> 0.086038651 | AQ55: =AQ54/AR54 -> 0.12905798
C57: 420 | D57: 후원금 | E57: 421 | F57: 후원금 | G57: 소계 | I57: =I58+I59+I60+I61+I62+I63+I64 -> 134600000 | J57: =J58+J59+J60+J61+J62+J63+J64 -> 137400000 | K57: =SUM(I57-J57) -> -2800000 | L57: =K57/J57 -> -0.020378457 | M57: =SUM(M58:M64) -> 115594888 | N57: =I57-M57 -> 19005112 | O57: =I57/M57 -> 1.1644114 | AN57: cms,계좌 고정후원금 | AO57: 비정기 | AP57: 보조금 | AQ57: 동남아후원
G58: 421-01-00 | H58: 개인후원금 | I58: 70000000 | J58: 68800000 | K58: =SUM(I58-J58) -> 1200000 | L58: =K58/J58 -> 0.01744186 | M58: 67187260 | N58: =I58-M58 -> 2812740 | O58: =I58/M58 -> 1.0418642 | AA58: =X58/12 -> 0 | AK58: =X54+X58 -> 0 | AL58: =AK58/12 -> 0 | AN58: 50.7 | AO58: 8.7 | AP58: 34.3 | AQ58: 6.3
G59: 421-01-01 | H59: 후원저금통 | I59: 1000000 | J59: 1000000 | K59: =SUM(I59-J59) -> 0 | L59: =K59/J59 -> 0 | M59: 644150 | N59: =I59-M59 -> 355850 | O59: =I59/M59 -> 1.5524334 | P59: 후원저금통 모금 | AK59: =X55+X64 -> 0
G60: 421-01-02 | H60: 치과치료후원금 | I60: 15000000 | J60: 15000000 | K60: =SUM(I60-J60) -> 0 | L60: =K60/J60 -> 0 | M60: 13400000 | N60: =I60-M60 -> 1600000 | O60: =I60/M60 -> 1.119403 | P60: 목적후원(치료병원 연계시 치료비 후 기부금 처리 금액 ) | AL60: =AK58+AK59 -> 0 | AM60: =AL60/12 -> 0
H61: 동남아후원 | I61: 30000000 | J61: 30000000 | K61: =SUM(I61-J61) -> 0 | L61: 신규 | M61: 22500000 | N61: =I61-M61 -> 7500000 | O61: =I61/M61 -> 1.3333333
H62: 북한분유보내기 | I62: 6000000 | J62: 10000000 | K62: =SUM(I62-J62) -> -4000000 | L62: 신규
G63: 421-01-03 | H63: 기타후원금 | I63: 9000000 | J63: 9000000 | K63: =SUM(I63-J63) -> 0 | L63: =K63/J63 -> 0 | M63: 8563478 | N63: =I63-M63 -> 436522 | O63: =I63/M63 -> 1.0509748 | P63: 5주년,달력판매,기업후원 외
G64: 421-01-04 | H64: 단체후원금 | I64: 3600000 | J64: 3600000 | K64: =SUM(I64-J64) -> 0 | L64: =K64/J64 -> 0 | M64: 3300000 | N64: =I64-M64 -> 300000 | O64: =I64/M64 -> 1.0909091 | P64: 서경누가회 | Q64: 월30만원 | AA64: =AA58+AA54 -> 0
E65: 460 | F65: 보조금 | G65: 소계 | I65: =I66+I67+I68 -> 17000000 | J65: 17000000 | K65: =SUM(I65-J65) -> 0 | L65: =I65/J65 -> 1 | M65: =M67 -> 15000000 | N65: =I65-M65 -> 2000000 | O65: =I65/M65 -> 1.1333333 | AA65: 8500000
G66: 461-01-00 | H66: 공동모금회 | K66: =SUM(I66-J66) -> 0 | L66: 미신청 | N66: =I66-M66 -> 0 | O66: =I66/M66 -> #DIV/0! | AA66: =AA64-AA65 -> -8500000
G67: 461-01-01 | H67: 서울시정사업 | I67: 15000000 | J67: 15000000 | K67: =SUM(I67-J67) -> 0 | L67: =K67/J67 -> 0 | M67: 15000000 | N67: =I67-M67 -> 0 | O67: =I67/M67 -> 1
G68: 461-01-02 | H68: 구정지원사업 | I68: 2000000 | J68: 2000000 | K68: =SUM(I68-J68) -> 0 | L68: =K68/J68 -> 0 | AK68: 150000000
C69: 사업외 수익 | I69: =I70+I72 -> 10100000 | J69: =J70+J72 -> 12149250 | K69: =I69-J69 -> -2049250 | L69: =I69/J69 -> 0.83132704 | M69: =SUM(M70,M73,M218) -> 6588619 | N69: =SUM(N70,N73,N218) -> -6436345 | O69: =I69/M69 -> 1.5329464 | AA69: =AA58+AA54 -> 0 | AK69: 149760000
C70: 800 | D70: 사업외 | E70: 810 | F70: 사업외수익 | H70: 소 계 | I70: 100000 | J70: =J71 -> 50000 | K70: =SUM(I70-J70) -> 50000 | L70: =K70/J70 -> 1 | M70: =SUM(M71:M71) -> 52274 | N70: =I70 -> 100000 | O70: =I70/M70 -> 1.9129969 | X70: =SUM(X71:X71) -> 50000 | AK70: =AK68-AK69 -> 240000
D71: 수익 | G71: 811-01-00 | H71: 기타수익 | J71: 50000 | K71: =SUM(I71-J71) -> -50000 | L71: =#REF!/#REF! -> #REF! | M71: 52274 | N71: =I71-M71 -> -52274 | O71: =I71/M71 -> 0 | P71: 예금이자 | X71: 50000
C72: 370 | D72: 잉여금 | E72: 371 | F72: 이월잉여금 | H72: 소 계 | I72: 10000000 | J72: 12099250 | K72: =SUM(I72-J72) -> -2099250 | L72: =K72/J72 -> -0.17350249 | M72: =M73 -> 6536345 | N72: =I72-M72 -> 3463655 | O72: =I72/M72 -> 1.529907
G73: 371-01-11 | H73: 이월잉여금 | J73: 12099250 | K73: =SUM(I73-J73) -> -12099250 | L73: =I73/J73 -> 0 | M73: 6536345 | N73: =I73-M73 -> -6536345 | O73: =I73/M73 -> 0 | P73: 전년도이월금
BD74: 순수입 | BE74: =J120 -> 169166304
C75: 2) 2013 예·결산안
C77: 2)-1. 2013 세입 예·결산 개요
C79: 가. 수입총계 (이월금포함) 2012년> 총결산 : 207,824,464원 (이억칠백팔십이만사천사백육십사원정) 사업수익 : 195,725,214 (약 1억9천5백만원) 사업외수익 : 12,114,536 2013년> 총예산 : 232,400,000원 (이억삼천이백사십만원정) 사업수익 : 213,000,000(이억천삼백만원정) 사업외수익 : 19,400,000 20,200,750원 증액 (이천이십만칠백오십원정) ▲ 이월금 포함 전년대비 11.8% 상향 조절 | K79: 나. 순수입(총예산의 76%) • 순수익 167,000,000( 1억6천7백만원) / 76% (개인 및 단체 정기, 보조금 +비정기기타후원 ->사업비 및 운영비로 운용가능한 수입) ---------------------------------------------------------------------------- 1) 정기후원금(정기CMS및 계좌) 고정수입 연600만원증액(약 월50만원) 전년 결산대비 약 570만원 증액(전년도 수준으로 책정) -> 개인후원회원 개발로 충원 예정(신규 개발 1만원 후원자 50명 목표) 2) 기타후원금 전년도 예산대비 500만원 증액-결산(2천4백만원)대비로 증액할 수 없는 것은 수입의 유동적 성격 (2012년 기타후원 결산 - 글로리서울안과, 김재철, 더북컴퍼니외 기타 개인후원, 달력판매금 등) 3) 전년도 서울시 보조금만 지원받음(1,500만원), 금년에 추가로 구정사업지원 예정(200만원) | O79: 다. 기타수입(24%) • 기타수입은 유동적인 성격을 띄는 수입으로 특정 고유사업을 목적으로 유입되었다가 -> 그 금액만큼 당해연도에 지정된 고유사업비로 지출되는 예산 (동남아-항공비 및 체류비/치과 -치료비 기부금처리/북녘 - 분유 및 영양제) ------------------------------------------------------------------------------ 1)동남아후원금 전년예산과 동일/ 결산금액은 별도의 아름다운여행 통장 개설 하여 일부 후원금만 수입처리(체류비) 2)치과치료 기부금 유동성 있는 항목으로 전년 예산대비 25%상향조절 결산액 예산대비 부족 약 1,400만원이 전년도 결산에 포함되어야 하는데 이월되어 1월초에 입금되어 수입으로 잡히지 못함(포함할 경우 1,724만원) 3)북녘후원금 금년대비 400만원 감액 - 모금액 1월초에 이월입금되어 수입처리 되지 못함( 4)기타수익 46,000,000 (약 4천6백만) / 24% (동남아, 북녘, 치과후원금 -> 고유목적사업으로만 운용가능한 수입) 전년 예산대비 약200만원 증액/ 전년 결산대비 1,900만원 상향(전년도 예산 수준으로 책정 -> 전년도 약2,500만원의 수입이 이월입금됨(치과,북녘)
C118: 순수입 | H118: 결산대비 증감(원) | I118: 결산대비 비율 | J118: 2012' 결산(원) | K118: 2012'예산(원) | L118: 2013'예산(원) | M118: 비 고
C119: 수입 총계 | H119: =L119-J119 -> 17304786 | I119: =L119/K119 -> 1.065 | J119: =J120+J124 -> 195695214 | K119: =K120+K124 -> 200000000 | L119: =L120+L124 -> 213000000 | M119: 수입 : 2억1천3백만(사업외수익 제외한 수입 총계) 전년 예산 수준으로 책정 17,274,786원 증액 (천칠백이십칠만사천칠백팔십육원정) ▲ ----------------------------------------------------------- 이월금 포함 전년대비20,200,750원(약 2천2십만원정) ▲11.8% 상향 조절
C120: 순수입 총계(76%) | H120: =L120-J120 -> -2166304 | I120: =L120/J120 -> 0.98719423 | J120: =SUM(J121:J123) -> 169166304 | K120: =SUM(K121:K123) -> 152000000 | L120: =SUM(L121:L123) -> 167000000 | M120: • 순수익 167,000,000( 1억6천7백만원) / 76% (개인 및 단체 정기,비정기 후원/ 보조금 ->사업비 및 운영비로 운용가능한 수입) 전년 결산과 유사한 수준으로 책정순수입
C121: 정기후원금(63%) | H121: =L121-J121 -> 5752500 | I121: =L121/J121 -> 1.0445076 | J121: =M145+M150++M156 -> 129247500 | K121: 125000000 | L121: =I54+I55+I58+I64 -> 135000000 | M121: 정기후원금(정기CMS및 계좌) 고정수입 연 약600만원증액(약 월50만원) 전년 결산대비 약 570만원 증액(전년도 수준으로 책정) -> 개인후원회원 개발로 충원 예정(신규 개발 1만원 후원자 50명 목표)
C122: 기타후원금(5%) | H122: =L122-J122 -> -9918804 | I122: =L122/J122 -> 0.60195505 | J122: =M151+M161+M155 -> 24918804 | K122: =J59+J63 -> 10000000 | L122: 15000000 | M122: • 기타후원금 전년도 예산대비 500만원 증액-결산(2천4백만원)대비로 증액할 수 없는 것은 수입의 유동적 성격(2012년 기타후원 결산 - 글로리서울안과, 김재철, 더북컴퍼니외 기타 개인후원, 달력판매금 등)
C123: 보조금(8%) | H123: =L123-J123 -> 2000000 | I123: =L123/J123 -> 1.1333333 | J123: 15000000 | K123: 17000000 | L123: =I65 -> 17000000 | M123: 서울시,강북구,모금회 등 외부사업비/ • 전년도 서울시 보조금만 지원받음(1,500만원), 금년에 추가로 구정사업지원 예정(200만원)
C124: 기타수입 총계(24%) | H124: =L124-J124 -> 19471090 | I124: =L124/J124 -> 1.7339574 | J124: =SUM(J125:J127) -> 26528910 | K124: =SUM(K125:K127) -> 48000000 | L124: =SUM(L125:L127) -> 46000000 | M124: 기타수입은 유동적인 성격을 띄는 수입으로 특정 고유사업을 목적으로 유입되었다가 -> 그 금액만큼 당해연도에 지정된 고유사업비로 지출되는 예산
C125: 기타(동남아) | H125: =L125-J125 -> 7500000 | I125: =L125/J125 -> 1.3333333 | J125: =M153 -> 22500000 | K125: =J61 -> 30000000 | L125: =I61 -> 30000000 | M125: 별도의 아름다운여행 통장 개설 하여 일부 후원금(항공비)만 수입처리 하여 예산대비 결산금액 차액발생 체류비 아름다운여행 통장에서 바로 환전처리함(1,080만원)
C126: 기타(치과) | H126: =L126-J126 -> 6725400 | I126: =L126/J126 -> 3.0538081 | J126: =M152 -> 3274600 | K126: 8000000 | L126: 10000000 | M126: 치과 치료비기부금처리 2012년도 정산액 ->2013년으로 이월 입금(1,400만원 수입처리 안됨) 수입처리 할경우 -> 결산총액 :17,274,600원 치료내역에 따라(대상자 수, 치료내용) 유동성을 지니므로 결산을 근거로 증액하지 않고 전년예산에서 200만원 증액된 금액으로 예산 구성
C127: 기타(북녘) | H127: =L127-J127 -> 5245690 | I127: =L127/J127 -> 7.9542894 | J127: =M154 -> 754310 | K127: 10000000 | L127: 6000000 | M127: 금년예산대비 400만원 감액 ▼, 결산대비 520만원 증액 2012년12월까지 모금액 이월입금되어 수입처리 안됨 -> 저금통외 모금액(아생사모금:4,547,640원/ 누가회:5857269원 총11,159,219원)
C128: 기타수입 총계 | H128: 기타수입 총계 | I128: =J128/K128*100 -> 55.268562 | J128: =SUM(J125:J127) -> 26528910 | K128: =SUM(K125:K127) -> 48000000 | L128: =SUM(L125:L127) -> 46000000 | M128: 기타수입 : 5천만
C135: 2)-2. 2013 세입예산 세부
X140: (단위:원)
B141: 개인회비 | C141: 과 목 | I141: 2013년예산 | J141: 2012년예산 | K141: 예산대비 증감(A)-(B) | M141: 2012년결산 | N141: 결산대비 증감(A)-© | AL141: =I145+I149+I188+I189+#REF! -> #VALUE! | AM141: =AL141/AL143 -> #VALUE!
A142: 2009예산 | B142: 54000 | C142: 관 | E142: 항 | G142: 목 | I142: (A) | J142: (B) | K142: 금액 | L142: 비율(%) | M142: (C) | N142: 금액 | O142: 비율(%) | AJ142: =AJ134/AA134 -> #DIV/0! | AK142: =AK134/AA134 -> #DIV/0! | AL142: =I157 -> 17000000 | AM142: =AL142/AL143 -> #VALUE! | AN142: cms,계좌 고정후원금 | AO142: 비정기 | AP142: 보조금 | AQ142: 동남아후원 | AR142: 북한분유후원
A143: 2009결산 | B143: 48424 | C143: 총 계 | I143: =I144+I161+I162 -> 232400000 | J143: =J144+J161+J162 -> 212199250 | K143: =I143-J143 -> 20200750 | L143: =I143/J143 -> 1.0951971 | M143: =M144+M161+M162 -> 207794464 | N143: =I143-M143 -> 24605536 | O143: =I143/M143 -> 1.1184129 | AL143: =SUM(AL141:AL142) -> #VALUE! | AN143: 0.579 | AO143: 0.136 | AP143: 0.085 | AQ143: 0.15 | AR143: 0.05
C144: 사업수익 | I144: =I145+I149+I157 -> 213000000 | J144: =J145+J149+J157 -> 200000000 | K144: =I144-J144 -> 13000000 | L144: =I144/J144 -> 1.065 | M144: =M145+M149+M157 -> 195679928 | N144: =I144-M144 -> 17320072 | O144: =I144/M144 -> 1.0885123 | P144: 전년 예산대비 6.5%▲, 결산대비 11.8%▲ | AA144: 298000000
C145: 410 | D145: 회 비 | E145: 411 | F145: 회 비 | G145: 소계 | I145: =I146+I147 -> 61400000 | J145: =J146+J147 -> 57600000 | K145: =SUM(I145-J145) -> 3800000 | L145: =I145/J145 -> 1.0659722 | M145: =SUM(M146:M147) -> 55275000 | N145: =I144-M144 -> 17320072 | O145: =I145/M145 -> 1.1108096 | AA145: =I143-AA144 -> -65600000 | AK145: 개인후원475명 | AN145: cms,계좌 고정후원금 | AO145: 비정기 | AP145: 보조금 | AQ145: 동남아후원
G146: 411-01-00 | H146: 개인회비 | I146: 57800000 | J146: 54000000 | K146: =SUM(I146-J146) -> 3800000 | L146: =I146/J146 -> 1.0703704 | M146: 51075000 | N146: =I146-M146 -> 6725000 | O146: =I146/M146 -> 1.1316691 | P146: 개인 월정기 CMS 후원 | AA146: =X146/12 -> 0 | AJ146: 자부담 | AK146: 보조금 | AN146: =M146+M147+M150+M156 -> 129247500 | AO146: =M151+M152 -> 3864650 | AP146: =M157 -> 15000000 | AQ146: =M153 -> 22500000 | AR146: =SUM(AN146:AQ146) -> 170612150
G147: 411-01-01 | H147: 단체회비 | I147: 3600000 | J147: 3600000 | K147: =J147-I147 -> 0 | L147: =I147/J147 -> 1 | M147: 4200000 | N147: =I147-M147 -> -600000 | O147: =I147/M147 -> 0.85714286 | P147: 한국누가회 월 30만원 정기후원 | AJ147: 0.688 | AK147: 0.312 | AN147: =AN146/AR146 -> 0.75755156 | AO147: =AO146/AR146 -> 0.022651669 | AP147: =AP146/AR146 -> 0.087918709 | AQ147: =AQ146/AR146 -> 0.13187806
C149: 420 | D149: 후원금 | E149: 421 | F149: 후원금 | G149: 소계 | I149: =I150+I151+I152+I153+I154+I155+I156 -> 134600000 | J149: =J150+J151+J152+J153+J154+J155+J156 -> 125400000 | K149: =SUM(I149-J149) -> 9200000 | L149: =I149/J149 -> 1.0733652 | M149: =SUM(M150:M156) -> 125404928 | N149: =I149-M149 -> 9195072 | O149: =I149/M149 -> 1.0733231 | AN149: cms,계좌 고정후원금 | AO149: 비정기 | AP149: 보조금 | AQ149: 동남아후원
G150: 421-01-00 | H150: 개인후원금 | I150: 70000000 | J150: 54600000 | K150: =SUM(I150-J150) -> 15400000 | L150: =I150/J150 -> 1.2820513 | M150: 70372500 | N150: =I150-M150 -> -372500 | O150: =I150/M150 -> 0.99470674 | P150: 개인 월정기 CMS 후원 | AA150: =X150/12 -> 0 | AK150: =X146+X150 -> 0 | AL150: =AK150/12 -> 0 | AN150: 50.7 | AO150: 8.7 | AP150: 34.3 | AQ150: 6.3
G151: 421-01-01 | H151: 후원저금통 | I151: 1000000 | J151: 960000 | K151: =SUM(I151-J151) -> 40000 | L151: =I151/J151 -> 1.0416667 | M151: 590050 | N151: =I151-M151 -> 409950 | O151: =I151/M151 -> 1.6947716 | P151: 후원저금통 모금 | AK151: =X147+X156 -> 0
G152: 421-01-02 | H152: 치과(목적)후원금 | I152: 10000000 | J152: 20000000 | K152: =SUM(I152-J152) -> -10000000 | L152: =I152/J152 -> 0.5 | M152: 3274600 | N152: =I152-M152 -> 6725400 | O152: =I152/M152 -> 3.0538081 | P152: 목적후원(치료병원 연계시 치료비 후 기부금 처리 금액 ) | AL152: =AK150+AK151 -> 0 | AM152: =AL152/12 -> 0
H153: 동남아후원 | I153: 30000000 | J153: 30000000 | K153: =SUM(I153-J153) -> 0 | L153: =I153/J153 -> 1 | M153: 22500000 | N153: =I153-M153 -> 7500000 | O153: =I153/M153 -> 1.3333333 | P153: 아름다운여행 항공비,체류비 후원금처리
H154: 북한분유보내기 | I154: 6000000 | J154: 10000000 | K154: =SUM(I154-J154) -> -4000000 | L154: =I154/J154 -> 0.6 | M154: 754310 | N154: =I154-M154 -> 5245690 | O154: =I154/M154 -> 7.9542894
G155: 421-01-03 | H155: 기타후원금 | I155: 14000000 | J155: 6240000 | K155: =SUM(I155-J155) -> 7760000 | L155: =I155/J155 -> 2.2435897 | M155: 24313468 | N155: =I155-M155 -> -10313468 | O155: =I155/M155 -> 0.57581255 | P155: 후원자의 밤,달력판매,기업후원 외
G156: 421-01-04 | H156: 단체후원금 | I156: 3600000 | J156: 3600000 | K156: =SUM(I156-J156) -> 0 | L156: =K156/J156 -> 0 | M156: 3600000 | N156: =I156-M156 -> 0 | O156: =I156/M156 -> 1 | P156: 서경누가회 월 30만원 정기후원 | AA156: =AA150+AA146 -> 0
E157: 460 | F157: 보조금 | G157: 소계 | I157: =I158+I159+I160 -> 17000000 | J157: 17000000 | K157: =SUM(I157-J157) -> 0 | L157: =K157/J157 -> 0 | M157: =SUM(M159:M160) -> 15000000 | N157: =I157-M157 -> 2000000 | O157: =I157/M157 -> 1.1333333 | AA157: 8500000
G158: 461-01-00 | H158: 공동모금회 | K158: =SUM(I158-J158) -> 0 | L158: 미신청 | N158: =I158-M158 -> 0 | AA158: =AA156-AA157 -> -8500000
G159: 461-01-01 | H159: 서울시정사업 | I159: 15000000 | J159: 15000000 | K159: =SUM(I159-J159) -> 0 | L159: =K159/J159 -> 0 | M159: 15000000 | N159: =I159-M159 -> 0 | O159: =I159/M159 -> 1
G160: 461-01-02 | H160: 구정지원사업 | I160: 2000000 | J160: 2000000 | K160: =SUM(I160-J160) -> 0 | L160: =K160/J160 -> 0 | P160: 전년도 서울시정사업과 중복으로 지원 취소 : 금년 재신청 예정 | AK160: 150000000
C161: 사업외수익 | I161: 3815 | J161: 100000 | K161: =SUM(I161-J161) -> -96185 | L161: =I161/J161 -> 0.03815 | M161: 15286 | N161: =I161-M161 -> -11471 | O161: =I161/M161 -> 0.24957477 | P161: 이월금 포함 전년대비 11.8% 상향 조절 (예치금으로 1,500만원 적립 예정) | AA161: 298000000
C162: 이월금수입 | I162: 19396185 | J162: 12099250 | K162: =I162-J162 -> 7296935 | L162: =I162/J162 -> 1.6030899 | M162: 12099250 | N162: =I162-M162 -> 7296935 | O162: =I162/M162 -> 1.6030899
M164: =M146+M150 -> 121447500
N165: =M144+M161 -> 195695214
M166: =M164/M143 -> 0.58445975
N167: 195695214
M170: =M157 -> 15000000
M171: =M144-M157 -> 180679928
M172: =M162+M161 -> 12114536
M173: =SUM(M170:M172) -> 207794464
M176: 합 계 | O176: =O177+O180+O184 -> 207794464 | P176: =P177+P180+P184 -> 232400000 | Q176: 합 계 | R176: =R177+R180+R183+R184 -> 207794464 | S176: =S177+S180+S183+S184 -> 232400000
M177: 사업수입 | O177: 180679928 | P177: 196000000 | Q177: 사 무 비 | R177: 22823277 | S177: 20608000
M178: 이용자 | Q178: 재산조성비
M179: 부담금수입
M180: 보조금수입 | N180: 국고보조금 | O180: 15000000 | P180: 17000000 | Q180: 사 업 비 | R180: 104025881 | S180: 104880000
N181: 법인보조금
N182: 기타후원금
M183: 차 입 금 | Q183: 인 건 비 | R183: 61549121 | S183: 58448686
...

Sheet 2012-13'세출예결산개요
A2: 2)-3. 2012-2013 세출예·결산 세부
A3: 1. 총예산 150,000,000 (일억오천만원정) -------------------------------------- 자부담 216,154,000 (약 2억1천6백만) / 72.1% 보조금 83,616,000 (약 8천4백만) / 27.9% | E3: 2. 금년도(2010)예산 대비 104,025,683원 (약 1억4백만원) 증액/ 53.1% 3. 금년도(2010)결산 대비 60,674,209원 (약 7천1백만원) 증액/ 24%
AN5: 2012결산 | AO5: 2012결산
AM6: 치과치료 | AN6: =AO6/AO16 -> 0.05866648 | AO6: 6323500
AM7: 공부방정서치료 | AN7: =AO7/AO16 -> 0.12345799 | AO7: 13307200
AM8: 공부방기타치료 | AN8: =AO8/AO16 -> 0.027242084 | AO8: 2936350
AM9: 독거노인 | AN9: =AO9/AO16 -> 0.099934153 | AO9: 10771630
AM10: 홍보,행사 | AN10: =AO10/AO16 -> 0.088720213 | AO10: 9562910
AM11: 활동비 | AN11: =AO11/AO16 -> 0.070376443 | AO11: 7585685
AM12: 기타-치과치료 | AN12: =AO12/AO16 -> 0.13266872 | AO12: 14300000
AM13: 기타-동남아 | AN13: =AO13/AO16 -> 0.27832599 | AO13: 30000000
AM14: 기타-교육연구 | AN14: =AO14/AO16 -> 0.027832599 | AO14: 3000000
AM15: 기타-북녘 | AN15: =AO15/AO16 -> 0.09277533 | AO15: 10000000
AN16: =SUM(AN6:AN15) -> 1 | AO16: =SUM(AO6:AO15) -> 107787275
A31: ※ 항목별 구성비 변화 | B31: ※ 2011-2012년 세출 개요 | K31: ※ 사업단위별 구성비 변화 | Q31: ※ 항목별 구성비 변화
B32: 1)사무국 | C32: 인원감소로 인건비 외 예산 감소 29.3% | K32: 1)사무국 | L32: 인원감소로 인건비 외 예산 감소 29.3% | R32: 1)진행비: 금년 대비 34% ▼(약 4천9백만원 감소)
C33: 회원/ 연대 사업단위를 사무국으로 예산 통합(홍보,후원자의 밤 외) | L33: 회원/ 연대 사업단위를 사무국으로 예산 통합(홍보,후원자의 밤 외)
B34: 2)가정방문 | C34: 금년 대비 31.7%▼ | K34: 2)가정방문 | L34: 금년 대비 31.7%▼ | R34: 2)인건비:금년 대비 37.4% ▼(약 4천8백만원 감소) 간사 2인 사직으로 인건비 감소
B35: 3)공부방 | C35: 금년 대비 54.7%▼(모금회 3차 사업 미신청) | K35: 3)공부방 | L35: 금년 대비 54.7%▼(모금회 3차 사업 미신청)
B36: 4)동남아시아 | C36: 캄보디아 사업 진행 및 예산확대로 3천만원 증액 | K36: 4)동남아시아 | L36: 캄보디아 사업 진행 및 예산확대로 3천만원 증액
B37: 5)교육/연구 | C37: 금년도 사업 예산 기준 | K37: 5)교육/연구 | L37: 금년도 사업 예산 기준 | R37: 3)관리비: 금년 대비 8.2% ▼(약 2백만원 감소) 사무실 유지에 필요한 기본경비 금년과 유사
B38: 6)북한분유 보내기사업 | C38: 2012신규 사업으로 1천만원 신규 | K38: 6)북한분유 보내기사업 | L38: 2012신규 사업으로 1천만원 신규 | AE38: =AE39+AE40+AE41 -> 182400000 | AF38: =AF39+AF40+AF41 -> 154255858 | AJ38: 2013예산 | AK38: 2012결산
AD39: 인건비 | AE39: =M42 -> 58448686 | AF39: =I42 -> 61549121 | AG39: =AE39/AF39 -> 0.94962666 | AH39: =AE39-AF39 -> -3100435 | AI39: 인건비 | AJ39: 58448686 | AK39: 61549121
B40: 지출 (순지출 중심으로 표시) | G40: 2012결산대비증감 | I40: 2012결산(원) | K40: 2012예산(원) | M40: 2013예산(원) | P40: 비 고 | AD40: 관리비 | AE40: =M43 -> 20608000 | AF40: =I43 -> 22823277 | AG40: =AE40/AF40 -> 0.90293782 | AH40: =AE40-AF40 -> -2215277 | AI40: 관리비 | AJ40: 20608000 | AK40: 22823277
G41: (%) | H41: (원) | AD41: 사업비 | AE41: =M44 -> 103343314 | AF41: =I44 -> 69883460 | AG41: =AE41/AF41 -> 1.478795 | AH41: =AE41-AF41 -> 33459854 | AI41: 사업비 | AJ41: 103343314 | AK41: 69883460
B42: 인건비 (급여/퇴직금/보험금/복리후생) | G42: =M42/I42 -> 0.94962666 | H42: =M42-I42 -> -3100435 | I42: =H70 -> 61549121 | K42: =D70 -> 80746827 | M42: =E121 -> 58448686 | P42: 예산의 32%, 결산대비 5%(300만원) 감소, 2명활동가 기준 예산(전년 예산대비 1명분 축소) | AD42: 치과치료 | AE42: =AF42/AF49 -> 0.077411878 | AF42: =M45 -> 8000000 | AJ42: 2013예산 | AK42: 2012결산 | AN42: 2013예산 | AO42: 2013예산
B43: 관리비 (임차료,공공요금,차량,비품,우편통신) | G43: =M43/I43 -> 0.90293782 | H43: =M43-I43 -> -2215277 | I43: =H73 -> 22823277 | K43: =D73 -> 22936000 | M43: =E137 -> 20608000 | P43: 예산의 11%, 결산대비 10%(220만원) 감소, 금년예산 기준으로 책정 | AD43: 공부방정서치료 | AE43: =AF43/AF49 -> 0.096764847 | AF43: =M46 -> 10000000 | AI43: 치과치료 | AJ43: 8000000 | AK43: 6323500 | AM43: 치과치료 | AN43: =AO43/AO53 -> 0.076277651 | AO43: 8000000
B44: 사업비 (지역보건 및 주요사업비) | G44: =M44/I44 -> 1.478795 | H44: =M44-I44 -> 33459854 | I44: =SUM(I45:J51) -> 69883460 | K44: =SUM(K45:L51) -> 55516423 | M44: =SUM(M45:O52) -> 103343314 | P44: 예산의 57%, 결산대비 48%(3,300만원) 증액, 기타사업비 제외한 사업비 | AD44: 공부방기타치료 | AE44: =AF44/AF49 -> 0.038705939 | AF44: =M47 -> 4000000 | AI44: 공부방정서치료 | AJ44: 10000000 | AK44: 13307200 | AM44: 공부방정서치료 | AN44: =AO44/AO53 -> 0.095347063 | AO44: 10000000
B45: 치과치료비1. | G45: =M45/I45 -> 1.2651222 | H45: =M45-I45 -> 1676500 | I45: 6323500 | K45: 5000000 | M45: 8000000 | P45: 사업비중 15%, 결산대비 27%(168만원) 증액, 치과 치료비중 병의원 무료치료 지원이 아닌 자부담 지출분 | AD45: 독거노인 | AE45: =AF45/AF49 -> 0.14398609 | AF45: =M48 -> 14880000 | AI45: 공부방기타치료 | AJ45: 4000000 | AK45: 2936350 | AM45: 공부방기타치료 | AN45: =AO45/AO53 -> 0.038138825 | AO45: 4000000
B46: 공부방 정서치료비 | G46: =M46/I46 -> 0.75147289 | H46: =M46-I46 -> -3307200 | I46: 13307200 | K46: 10000000 | M46: 10000000 | P46: 사업비중 18%, 결산대비 25%(330만원) 감소, 심리정서치료 40회기(10개월)기준 8~10명/결산 환급예정(3,007,200원) | AD46: 홍보,행사 | AE46: =AF46/AF49 -> 0.10644133 | AF46: =M49 -> 11000000 | AI46: 독거노인 | AJ46: 14880000 | AK46: 10771630 | AM46: 독거노인 | AN46: =AO46/AO53 -> 0.14187643 | AO46: 14880000
B47: 공부방 기타지출 (의과/ 안과 외) | G47: =M47/I47 -> 1.3622354 | H47: =M47-I47 -> 1063650 | I47: 2936350 | K47: 1000000 | M47: 4000000 | P47: 사업비중 6%, 결산대비 36%(100만원) 증액, 안경 교체사업 확대 예정 | AD47: 활동비 | AE47: =AF47/AF49 -> 0.067735393 | AF47: =M50 -> 7000000 | AI47: 홍보,행사 | AJ47: 11000000 | AK47: 9562910 | AM47: 홍보,행사 | AN47: =AO47/AO53 -> 0.10488177 | AO47: 11000000
B48: 독거노인 (의료비/ 영양보충제/ 밝누모/ 사례자문) | G48: =M48/I48 -> 1.3814065 | H48: =M48-I48 -> 4108370 | I48: 10771630 | K48: 14000000 | M48: 14880000 | P48: 사업비중 27%, 결산대비 38%(410만원) 증액 | AE48: =AF48/AF49 -> 0.32380725 | AF48: =M51 -> 33463314 | AI48: 활동비 | AJ48: 7000000 | AK48: 7585685 | AM48: 활동비 | AN48: =AO48/AO53 -> 0.066742944 | AO48: 7000000
B49: 홍보,행사(후원자의밤/ 홍보물/ 달력/ 홈페이지 외) | G49: =M49/I49 -> 1.1502775 | H49: =M49-I49 -> 1437090 | I49: 9562910 | K49: 10000000 | M49: 11000000 | P49: 사업비중 20%, 결산대비 15%(140만원) 증액, 홈페이지 리뉴얼 2013년 사업으로 진행 예정 | AC49: =M51/M44 -> 0.32380725 | AF49: =M44 -> 103343314 | AI49: 기타-치과치료 | AJ49: 10000000 | AK49: 14300000 | AM49: 기타-치과치료 | AN49: =AO49/AO53 -> 0.095347063 | AO49: 10000000
B50: 활동비(활동가식사/ 기관선물/ 운영회의비/ MT 외) | G50: =M50/I50 -> 0.92279076 | H50: =M50-I50 -> -585685 | I50: 7585685 | K50: 7400000 | M50: 7000000 | P50: 사업비중 13%, 결산대비 28%(58만원) 감소, 동남아 및 의료학교제외(기타사업비에 포함) | AC50: =M51/M53 -> 0.18346115 | AD50: 치과치료 | AE50: =M45 -> 8000000 | AF50: =I45 -> 6323500 | AI50: 기타-동남아 | AJ50: 30000000 | AK50: =I57 -> 33320496 | AM50: 기타-동남아 | AN50: =AO50/AO53 -> 0.28604119 | AO50: 30000000
B51: 예비비 | G51: =M51/I51 -> 1.7252524 | H51: =M51-I51 -> 14067129 | I51: 19396185 | K51: 8116423 | M51: 33463314 | P51: 결산대비 73%(1,400만원) 증액, 인건비(활동가 1인 채용시) 및 공부방치과사업비(서울시지원금 미정) 등 예산의 유동성 및 적립금 | AC51: 182400000 | AD51: 공부방정서치료 | AE51: =M46 -> 10000000 | AF51: =I46 -> 13307200 | AI51: 기타-교육연구 | AJ51: 4000000 | AK51: =I58 -> 5205110 | AM51: 기타-교육연구 | AN51: =AO51/AO53 -> 0.038138825 | AO51: 4000000
B52: 2012년 예치금(법인적립금) | G52: 신규 | M52: 15000000 | P52: 2012년 적립금 금년으로 이월되어 예치함 | AC52: 50000000 | AD52: 공부방기타치료 | AE52: =M47 -> 4000000 | AF52: =I47 -> 2936350 | AI52: 기타-북녘 | AJ52: 6000000 | AK52: =I59 -> 713000 | AM52: 기타-북녘 | AN52: =AO52/AO53 -> 0.057208238 | AO52: 6000000
B53: 순지출 총계 | G53: =M53/K53 -> 1.145734 | H53: =M53-K53 -> 23200750 | I53: =SUM(I42:J44) -> 154255858 | K53: =SUM(K42:L44) -> 159199250 | M53: =SUM(M42:O44) -> 182400000 | P53: 총예산의 78.5%, 결산대비 14.6%(2,320만원) 증액 | AC53: 232400000 | AD53: 독거노인 | AE53: =M48 -> 14880000 | AF53: =I48 -> 10771630 | AN53: =SUM(AN43:AN52) -> 1 | AO53: =SUM(AO43:AO52) -> 104880000
AC54: =AC51/AC53 -> 0.7848537 | AD54: 홍보,행사 | AE54: =M49 -> 11000000 | AF54: =I49 -> 9562910
B55: 기타사업비 | G55: =M55/I55 -> 0.93390553 | H55: =M55-K55 -> -3000000 | I55: =SUM(I56:J59) -> 53538606 | K55: =SUM(K56:L59) -> 53000000 | M55: =SUM(M56:O59) -> 50000000 | P55: 총예산의 21.5%, 결산대비 7%(300만원) 감소 | AC55: =AC52/AC53 -> 0.2151463 | AD55: 활동비 | AE55: =M50 -> 7000000 | AF55: =I50 -> 7585685
B56: 기타사업1 치과치료비2. | G56: =M56/I56 -> 0.6993007 | H56: =M56-I56 -> -4300000 | I56: 14300000 | K56: 10000000 | M56: 10000000 | P56: 결산대비 30%(430만원) 감소, 사례에 따라 유동성있는 예산으로 결산기준으로 증액하지 않고 전년 예산에 준하여 잭청 | AD56: 기타-치과치료 | AE56: =M56 -> 10000000 | AF56: =I56 -> 14300000
B57: 기타사업2 (동남아) | G57: =M57/I57 -> 0.90034674 | H57: =M57-I57 -> -3320496 | I57: 33320496 | K57: 30000000 | M57: 30000000 | P57: 결산대비 10%(332만원) 감소, 전년 예산에 준하여 책정 | AD57: 기타-동남아 | AE57: =M57 -> 30000000 | AF57: =K57 -> 30000000
B58: 기타사업3 (의료학교/NGO실습-강사비,도서,식비) | G58: =M58/I58 -> 0.76847559 | H58: =M58-K58 -> 1000000 | I58: 5205110 | K58: 3000000 | M58: 4000000 | P58: 결산대비 23%(120만원) 감소, 서울시 지원금 중 교육연구사업 비용 축소 예정으로 하향조정 함 | AD58: 기타-교육연구 | AE58: =M58 -> 4000000 | AF58: =K58 -> 3000000
B59: 기타사업4 (북녘어린이) | G59: =M59/I59 -> 8.4151473 | H59: =M59-I59 -> 5287000 | I59: 713000 | K59: 10000000 | M59: 6000000 | P59: 결산대비 742%(528만원)증액, 모금액 수입 및 지출이 금년으로 이월되어 결산에 포함되지 않음(2013.1. 1,200만원지출) | AD59: 기타-북녘 | AE59: =M59 -> 6000000 | AF59: =K59 -> 10000000
B61: 기타사업 포함 지출총계 | G61: =M61/K61 -> 1.0951971 | H61: =M61-K61 -> 20200750 | I61: =I55+I53 -> 207794464 | K61: =K55+K53 -> 212199250 | M61: =M53+M55 -> 232400000 | P61: 전년 결산대비 9.5%(2,000만원) 증액
AC64: (단위:원) | AI64: 2013년예산 | AJ64: 2012결산
A65: 과 목 | D65: 총계 | K65: 사무국 | N65: 가정방문보건의료 | Q65: 공부방아동보건의료 | T65: 동남아시아 보건의료사업 | W65: 생명사랑의료 교육·연구사업 | Z65: 북한분유 보내기 | AA65: 북한분유 보내기 | AB65: 북한분유 보내기 | AC65: 비 고 | AI65: 232400000 | AJ65: 207794464
A66: 관 | B66: 항 | C66: 목 | D66: 2012년예산 | E66: 2013년예산 | F66: (B)-(A) (단위:원) | G66: 2012예산대비증감 | H66: 2012결산 (C) | I66: (B)-(C) (단위:원) | J66: 2012결산 대비증감 | K66: 2012 | L66: 2013 | M66: 2012 결산 | N66: 2012 예산 | O66: 2013 예산 | P66: 2012 결산 | Q66: 2012 예산 | R66: 2013 예산 | S66: 2012 결산 | T66: 2012 예산 | U66: 2013 예산 | V66: 2012결산 | W66: 2012 예산 | X66: 2013 예산 | Y66: 2012 결산 | Z66: 2012 | AA66: 2013 | AB66: 2012 | AF66: 홍보비 | AG66: 행사비 | AH66: 인건비 | AI66: 사무실관리비 | AJ66: 가정방문 | AK66: 공부방 | AL66: 동남아시아 | AM66: 교육·연구 | AN66: 북한분유
D67: (A) | E67: (B) | K67: 예산 | L67: 예산 | Z67: 예산 | AA67: 예산 | AB67: 결산 | AF67: =K100 -> 10000000 | AG67: =K99 -> 4500000 | AH67: =K121 -> 80746827 | AI67: =K137 -> 20836000 | AJ67: =N86 -> 21300000 | AK67: =Q86 -> 20460000 | AL67: 30000000 | AM67: 3000000 | AN67: 10000000 | AO67: =SUM(AF67:AN67) -> 200842827
A68: 총 계 | D68: =D69+D70+D73+D74+D75 -> 212199250 | E68: =E69+E70+E73+E74+E75 -> 232400000 | F68: =E68-D68 -> 20200750 | G68: =E68/D68 -> 1.0951971 | H68: =H69+H70+H73+H75 -> 207794464 | I68: =E68-H68 -> 24605536 | J68: =E68/H68 -> 1.1184129 | K68: =K86 -> 118242827 | L68: =L69+L70+L73+L74+L75 -> 94140064 | M68: =M69+M70+M73 -> 94113238 | N68: =N69+N70+N73+N75 -> 21300000 | O68: =O69+O70+O73+O75 -> 25380000 | P68: =P69+P70+P73 -> 35132175 | Q68: =Q69+Q70+Q73 -> 20460000 | R68: =R69+R70+R73 -> 25500000 | S68: =S69+S70+S73 -> 19914260 | T68: =T69+T70+T73 -> 30000000 | U68: =U69+U70+U73 -> 30000000 | V68: =V69+V70+V73 -> 33320496 | W68: =W86 -> 3000000 | X68: 3600000 | Y68: =Y69+Y70+Y73 -> 5205110 | Z68: =Z86 -> 10000000 | AA68: =AA86 -> 6000000 | AB68: =AB86 -> 713000 | AC68: * 총예산: 2억천삼백만(금년과 유사) | AF68: =AF67/AO67 -> 0.049790177 | AG68: =AG67/AO67 -> 0.02240558 | AH68: =AH67/AO67 -> 0.40203988 | AI68: =AI67/AO67 -> 0.10374281 | AJ68: =AJ67/AO67 -> 0.10605308 | AK68: =AK67/AO67 -> 0.1018707 | AL68: =AL67/AO67 -> 0.14937053 | AM68: =AM67/AO67 -> 0.014937053 | AN68: =AN67/AO67 -> 0.049790177
A69: 사업비 | B69: 사업비 | C69: 소 계 | D69: =D87 -> 100160000 | E69: =E87 -> 104880000 | F69: =E69-D69 -> 4720000 | G69: =E69/D69 -> 1.0471246 | H69: =H87 -> 104025881 | I69: =E69-H69 -> 854119 | J69: =E69/H69 -> 1.0082106 | K69: =K87 -> 16660000 | L69: =L87 -> 15000000 | M69: =M87 -> 9773840 | N69: =N87 -> 20260000 | O69: =O86 -> 25380000 | P69: =P87 -> 35099175 | Q69: =Q87 -> 19400000 | R69: =R87 -> 25500000 | S69: =S87 -> 19914260 | T69: =T87 -> 30000000 | U69: 30000000 | V69: =V87 -> 33320496 | W69: =W87 -> 3000000 | X69: 3600000 | Y69: =Y87 -> 5205110 | Z69: =Z87 -> 10000000 | AA69: =AA87 -> 6000000 | AB69: =AB87 -> 713000 | AC69: * 금년과 동일 | AE69: 세부항목 | AF69: 홍보비 | AG69: 행사비 | AH69: 인건비 | AI69: 사무실관리비 | AJ69: 가정방문 | AK69: 공부방 | AL69: 동남아시아 | AM69: 교육·연구 | AN69: 북한분유
A70: 운영비 | B70: 인건비 | C70: 소 계 | D70: =D121 -> 80746827 | E70: =E121 -> 58448686 | F70: =E70-D70 -> -22298141 | G70: =E70/D70 -> 0.72385118 | H70: =H121 -> 61549121 | I70: =E70-H70 -> -3100435 | J70: =E70/H70 -> 0.94962666 | K70: =K121 -> 80746827 | L70: =L121 -> 58432064 | M70: =M121 -> 61549121 | P70: =P121 -> 0 | S70: =S121 -> 0 | U70: 0 | X70: 0 | AC70: * 금년 대비 28% ▼ (약 2천2백만원 감소) : 활동가 1인 사직으로로 인건비 감소 * 기존 활동가 급여체계 변경(*상세 내역 참조) | AE70: 2011 | AF70: =M100 -> 8312390 | AG70: =M99 -> 250520 | AH70: =M121 -> 61549121 | AI70: =M137 -> 22790277 | AJ70: =P86 -> 35132175 | AK70: =S86 -> 19914260 | AL70: =V86 -> 33320496 | AM70: =Y86 -> 5205110 | AO70: =SUM(AF70:AN70) -> 186474349
F71: =E71-D71 -> 0 | G71: =E71/D71 -> #DIV/0! | I71: =E71-H71 -> 0 | J71: =E71/H71 -> #DIV/0! | W71: 0 | AE71: 2012 | AF71: 10000000 | AG71: 4500000 | AH71: 81823269 | AI71: 20836000 | AJ71: 21300000 | AK71: 21300000 | AL71: 30000000 | AM71: 3000000 | AN71: 10000000
F72: =E72-D72 -> 0 | G72: =E72/D72 -> #DIV/0! | I72: =E72-H72 -> 0 | J72: =E72/H72 -> #DIV/0! | W72: 0 | AE72: 증감(원) | AF72: =AF71-AF70 -> 1687610 | AG72: =AG71-AG70 -> 4249480 | AH72: =AH71-AH70 -> 20274148 | AI72: =AI71-AI70 -> -1954277 | AJ72: =AJ71-AJ70 -> -13832175 | AK72: =AK71-AK70 -> 1385740 | AL72: =AL71-AL70 -> -3320496 | AM72: =AM71-AM70 -> -2205110 | AN72: =AN71-AN70 -> 10000000
B73: 관리비 | C73: 소 계 | D73: =D137 -> 22936000 | E73: =E137 -> 20608000 | F73: =E73-D73 -> -2328000 | G73: =E73/D73 -> 0.89850017 | H73: =H137 -> 22823277 | I73: =E73-H73 -> -2215277 | J73: =E73/H73 -> 0.90293782 | K73: =K137 -> 20836000 | L73: =L137 -> 20608000 | M73: =M137 -> 22790277 | N73: =N137 -> 1040000 | P73: =P137 -> 33000 | Q73: =Q137 -> 1060000 | S73: =S137 -> 0 | U73: 0 | X73: 0 | AC73: * 금년 대비 10% ▼(약 2백만원 감소) : 사무실 유지에 필요한 기본경비 금년과 유사 | AF73: =AF70/AO70 -> 0.044576587 | AG73: =AG70/AO70 -> 0.0013434556 | AH73: =AH70/AO70 -> 0.33006749 | AI73: =AI70/AO70 -> 0.12221669 | AJ73: =AJ70/AO70 -> 0.18840219 | AK73: =AK70/AO70 -> 0.10679356 | AL73: =AL70/AO70 -> 0.17868675 | AM73: =AM70/AO70 -> 0.027913276
A74: 사업외 | B74: 사업외 | C74: 예치금 | E74: 15000000 | F74: =E74-D74 -> 15000000 | G74: 신규 | I74: =E74-H74 -> 15000000 | J74: 신규 | L74: 100000 | M74: 0 | AI74: 95160000 | AJ74: 81691863 | AK74: 22936000 | AL74: =SUM(AI74:AK74) -> 199787863
A75: 예비비 | B75: 예비비 | C75: 예비비 | D75: 8356423 | E75: =E166 -> 33463314 | F75: =E75-D75 -> 25106891 | G75: =E75/D75 -> 4.0045022 | H75: =H166 -> 19396185 | I75: =E75-H75 -> 14067129 | J75: =E75/H75 -> 1.7252524 | M75: 0 | P75: 0 | S75: 0 | U75: 0 | X75: 0 | AC75: * 공부방 어린이 치과사업 , 간사1인 채용시 인건비 등 예산 유동성 or 적립금으로 예비비 상향 | AI75: =AI74/AL74 -> 0.47630521 | AJ75: =AJ74/AL74 -> 0.40889302 | AK75: =AK74/AL74 -> 0.11480177
D76: =D69+D70+D73 -> 203842827 | E76: =E69+E70+E73+E74 -> 198936686 | F76: =D76-E76 -> 4906141 | G76: =D76/E76 -> 1.0246618
K78: =H78/H87 -> 0 | M78: =M86+Y86 -> 99318348 | N78: 128941801 | X78: (단위:원)
K79: =K86-L86 -> 24202763 | L79: =K79/L86 -> 0.25736651 | M79: =L86/K86 -> 0.79531306 | N79: =N86-P86 -> -13832175 | O79: =N79/O86 -> -0.54500296 | P79: =O86/N86 -> 1.1915493 | Q79: =Q86/S86 -> 1.0274045 | R79: =Q86-S86 -> 545740 | S79: =R79/R86*100 -> 2.1401569 | T79: =R79/R86 -> 0.021401569 | U79: =T86-U86 -> 0 | V79: =U79/U86*100 -> 0 | X79: =W86-X86 -> 0 | Y79: =X79/X86*100 -> 0
AC83: (단위:원)
A84: 과 목 | D84: 총계 | K84: 사무국 | N84: 가정방문보건의료 | Q84: 공부방아동보건의료 | T84: 동남아시아 보건의료 | W84: 생명사랑의료 교육·연구 | Z84: 북한분유 보내기 | AA84: 북한분유 보내기 | AB84: 북한분유 보내기 | AC84: 비 고
A85: 관 | B85: 항 | C85: 목 | D85: 2012년예산 (A) | E85: 2013년예산 (B) | F85: (B)-(A) (단위:원) | G85: 금년대비증감(%) | H85: 2012결산 (C) | I85: (B)-(C) (단위:원) | J85: 2012결산 대비증감 | K85: 2012 예산 | L85: 2013 예산 | M85: 2012 결산 | N85: 2012 예산 | O85: 2013 예산 | P85: 2012 결산 | Q85: 2012 예산 | R85: 2013 예산 | S85: 2012 결산 | T85: 2012 예산 | U85: 2013 예산 | V85: 2012 결산 | W85: 2012 예산 | X85: 2013 예산 | Y85: 2012 결산 | Z85: 2012 예산 | AA85: 2013 예산 | AB85: 2012 결산
A86: 총 계 | D86: =D87+D121+D137+D165+D166 -> 212199250 | E86: =E87+E121+E137+E166 -> 217400000 | F86: =E86-D86 -> 5200750 | G86: =E86/D86 -> 1.0245088 | H86: =H87+H121+H137+H165+H166 -> 207794464 | I86: =E86-H86 -> 9605536 | J86: =E86/H86 -> 1.0462261 | K86: =K87+K121+K137 -> 118242827 | L86: =L87+L137+L166+L121 -> 94040064 | M86: =M87+M121+M137+M165+M166 -> 94113238 | N86: =SUM(N87+N121+N137) -> 21300000 | O86: =O87+O121+O137+O165+O166 -> 25380000 | P86: =P87+P121+P137+P165+P166 -> 35132175 | Q86: =Q87+Q121+Q137 -> 20460000 | R86: =R87+R121+R137+R165+R166 -> 25500000 | S86: =S87+S121+S137+S165+S166 -> 19914260 | T86: =T87+T121+T137 -> 30000000 | U86: =U87+U121+U137+U165+U166 -> 30000000 | V86: =V87+V121+V137+V165+V166 -> 33320496 | W86: =W87+W121+W137 -> 3000000 | X86: =X87+X121+X137+X165+X166 -> 3000000 | Y86: =Y87+Y121+Y137+Y165+Y166 -> 5205110 | Z86: =Z87+Z121+Z137 -> 10000000 | AA86: =AA87+AA121+AA137 -> 6000000 | AB86: =AB87+AB121+AB137 -> 713000 | AE86: 2012년 | AF86: 홍보비 | AG86: 행사비 | AH86: 인건비 | AI86: 사무실관리비 | AJ86: 가정방문 | AK86: 공부방 | AL86: 동남아시아 | AM86: 교육·연구 | AN86: 북한분유
A87: 사업비 | B87: 사업비 | C87: 소 계 | D87: =SUM(D88:D101) -> 100160000 | E87: =SUM(E88:E101) -> 104880000 | F87: =E87-D87 -> 4720000 | G87: =E87/D87 -> 1.0471246 | H87: =SUM(H88:H101) -> 104025881 | I87: =E87-H87 -> 854119 | J87: =E87/H88 -> 5.0854608 | K87: =SUM(K88:K117) -> 16660000 | L87: =SUM(L88:L101) -> 15000000 | M87: =SUM(M88:M101) -> 9773840 | N87: =SUM(N88:N101) -> 20260000 | O87: =SUM(O88:O101) -> 25380000 | P87: =SUM(P88:P101) -> 35099175 | Q87: =SUM(Q88:Q101) -> 19400000 | R87: =SUM(R88:R101) -> 25500000 | S87: =SUM(S88:S101) -> 19914260 | T87: 30000000 | U87: 30000000 | V87: =SUM(V88:V101) -> 33320496 | W87: 3000000 | X87: =SUM(X88:X101) -> 3000000 | Y87: =SUM(Y88:Y101) -> 5205110 | Z87: 10000000 | AA87: =SUM(AA88:AA101) -> 6000000 | AB87: =SUM(AB88:AB101) -> 713000 | AC87: ※ 전체 (사업)진행비는 전년도예산과 유사 | AF87: 0.049 | AG87: 0.022 | AH87: 0.404 | AI87: 0.103 | AJ87: 0.105 | AK87: 0.105 | AL87: 0.148 | AM87: 0.015 | AN87: 0.049
C88: 치과의료지원비 | D88: 10000000 | E88: =L88+O88+R88+U88+X88+AA88 -> 18000000 | F88: =E88-D88 -> 8000000 | G88: =E88/D88 -> 1.8 | H88: =M88+P88+S88+V88+Y88+AB88 -> 20623500 | I88: =E88-H88 -> -2623500 | J88: =E88/H88 -> 0.87279075 | N88: 6000000 | O88: 8000000 | P88: 19641000 | Q88: 4000000 | R88: 10000000 | S88: 982500 | AC88: * 치과 치료 순수 자부담 800만원/ 외부치과 연계로 기부금처리 1,000만원 | AI88: 사업비 | AJ88: 인건비 | AK88: 관리비
C89: 의과의료지원비 | D89: 7000000 | E89: =L89+O89+R89+U89+X89+AA89 -> 7000000 | F89: =E89-D89 -> 0 | G89: =E89/D89 -> 1 | H89: =M89+P89+S89+V89+Y89+AB89 -> 1838140 | I89: =E89-H89 -> 5161860 | J89: =E89/H89 -> 3.8081974 | N89: 6000000 | O89: 6000000 | P89: 969300 | Q89: 1000000 | R89: 1000000 | S89: 868840 | AC89: * 검사비 및 치료비 지원 | AI89: 0.476 | AJ89: 0.409 | AK89: 0.115
C90: 안과의료지원비 | D90: 1000000 | E90: =L90+O90+R90+U90+X90+AA90 -> 4000000 | F90: =E90-D90 -> 3000000 | G90: =E90/D90 -> 4 | H90: =M90+P90+S90+V90+Y90+AB90 -> 1663860 | I90: =E90-H90 -> 2336140 | J90: =E90/H90 -> 2.4040484 | N90: 1000000 | O90: 1000000 | P90: 16600 | R90: 3000000 | S90: 1647260 | AC90: * 굿모닝서울안과 및 안경사와 연계하여 공부방아동 안경맞춤 진행
C91: 심리검사및치료 | D91: 10800000 | E91: =L91+O91+R91+U91+X91+AA91 -> 10000000 | F91: =E91-D91 -> -800000 | G91: =E91/D91 -> 0.92592593 | H91: =M91+P91+S91+V91+Y91+AB91 -> 13307200 | I91: =E91-H91 -> -3307200 | J91: =E91/H91 -> 0.75147289 | Q91: 10800000 | R91: 10000000 | S91: 13307200 | AC91: * 보건소 외 외부지원이 있을시 예산 증액 | AF91: 홍보비 | AG91: 행사비 | AH91: 인건비 | AI91: 사무실관리비 | AJ91: 가정방문 | AK91: 공부방 | AL91: 동남아시아 | AM91: 교육·연구
C92: 재가의료용품지원비 | D92: 360000 | E92: =L92+O92+R92+U92+X92+AA92 -> 500000 | F92: =E92-D92 -> 140000 | G92: =E92/D92 -> 1.3888889 | H92: =M92+P92+S92+V92+Y92+AB92 -> 60000 | I92: =E92-H92 -> 440000 | J92: =E92/H92 -> 8.3333333 | N92: 360000 | O92: 500000 | P92: 60000 | AC92: * 어르신 대상 재활의료용품 등 서울시 지원금으로 계획하여 지급할 예정 | AF92: 0.025 | AG92: 0.016 | AH92: 0.414 | AI92: 0.078 | AJ92: 0.163 | AK92: 0.229 | AL92: 0.067 | AM92: 0.007
C93: 재가복지용품지원비 | D93: 300000 | E93: =L93+O93+R93+U93+X93+AA93 -> 150000 | F93: =E93-D93 -> -150000 | G93: =E93/D93 -> 0.5 | H93: =M93+P93+S93+V93+Y93+AB93 -> 0 | I93: =E93-H93 -> 150000 | N93: 300000 | O93: 150000 | AC93: * 직접 복지용품 전달은 지양, 타기관에서 지급하는 지원연계를 확대하는 방향으로 진행 | AH93: 2012예산 | AI93: 2011결산 | AK93: 2011결산
C94: 가정환경지원비 | D94: 840000 | E94: =L94+O94+R94+U94+X94+AA94 -> 0 | F94: =E94-D94 -> -840000 | G94: =E94/D94 -> 0 | H94: =M94+P94+S94+V94+Y94+AB94 -> 355400 | I94: =E94-H94 -> -355400 | P94: 355400 | AG94: 사업비 | AH94: 100160000 | AI94: 129056986 | AJ94: 사업비 | AK94: 129056986
C95: 건강교육물품구입비 | D95: 200000 | E95: =L95+O95+R95+U95+X95+AA95 -> 330000 | F95: =E95-D95 -> 130000 | G95: =E95/D95 -> 1.65 | H95: =M95+P95+S95+V95+Y95+AB95 -> 0 | I95: =E95-H95 -> 330000 | N95: 200000 | O95: 330000 | AC95: * 어르신 재활운동 교육 자료 외 | AG95: 인건비 | AH95: 80746827 | AI95: 108680219 | AJ95: 인건비 | AK95: 108680219
C96: 영양보충비 | D96: 1800000 | E96: =L96+O96+R96+U96+X96+AA96 -> 1200000 | F96: =E96-D96 -> -600000 | G96: =E96/D96 -> 0.66666667 | H96: =M96+P96+S96+V96+Y96+AB96 -> 1056680 | I96: =E96-H96 -> 143320 | J96: =E96/H96 -> 1.1356324 | N96: 1800000 | O96: 1200000 | P96: 1056680 | AC96: * 아동영양관리 관련하여 약사회에서 철분제 지원/ 어르신 영양보충제 자부담 | AG96: 관리비 | AH96: 22936000 | AI96: 26496623 | AJ96: 관리비 | AK96: 26496623
C97: 의료물품비 | D97: 1000000 | E97: =L97+O97+R97+U97+X97+AA97 -> 2500000 | F97: =E97-D97 -> 1500000 | G97: =E97/D97 -> 2.5 | H97: =M97+P97+S97+V97+Y97+AB97 -> 3737250 | I97: =E97-H97 -> -1237250 | J97: =E97/H97 -> 0.66894107 | N97: 1000000 | O97: 2500000 | P97: 3218650 | S97: 80000 | V97: 438600 | AC97: * 방문진료 의료물품비로 서울시 지원금으로지출 예정 | AH97: 2012예산 | AK97: =SUM(AK94:AK96) -> 264233828
C98: 도서인쇄비 | D98: 400000 | E98: =L98+O98+R98+U98+X98+AA98 -> 0 | F98: =E98-D98 -> -400000 | G98: =E98/D98 -> 0 | H98: =M98+P98+S98+V98+Y98+AB98 -> 0 | I98: =E98-H98 -> 0 | N98: 200000 | Q98: 200000 | AC98: * 일부 교육·연구 행사,프로그램준비비에 포함되어 대비 금년예산 대비 하향조절 | AG98: 사업비 | AH98: 100160000 | AI98: =AH98/AH101 -> 0.49135896
C99: 행사,프로그램준비비 | D99: =K99+N99+Q99+T99+W99+Z99 -> 8000000 | E99: =L99+O99+R99+U99+X99+AA99 -> 9200000 | F99: =E99-D99 -> 1200000 | G99: =E99/D99 -> 1.15 | H99: =M99+P99+S99+V99+Y99+AB99 -> 9890880 | I99: =E99-H99 -> -690880 | J99: =E99/H99 -> 0.93014979 | K99: 4500000 | L99: 4500000 | M99: 250520 | N99: 500000 | O99: 1700000 | P99: 4095000 | S99: 340250 | W99: 3000000 | X99: 3000000 | Y99: 5205110 | AC99: * 동남아시아,교육·연구, 북녘사업 활동비 부분을 행사 프로그램준비비로 비목변경 | AG99: 인건비 | AH99: 80746827 | AI99: =AH99/AH101 -> 0.39612297
C100: 사업홍보비 | D100: =K100+N100+Q100+T100+W100+Z100 -> 11500000 | E100: =L100+O100+R100+U100+X100+AA100 -> 10000000 | F100: =E100-D100 -> -1500000 | G100: =E100/D100 -> 0.86956522 | H100: =M100+P100+S100+V100+Y100+AB100 -> 9025390 | I100: =E100-H100 -> 974610 | J100: =E100/H100 -> 1.1079854 | K100: 10000000 | L100: 10000000 | M100: 8312390 | N100: 500000 | Q100: 1000000 | AB100: 713000 | AC100: * 홈페이지제작비,후원자의밤,달력외 홍보물품 제작비용 | AG100: 관리비 | AH100: 22936000 | AI100: =AH100/AH101 -> 0.11251806
C101: 활동비 | D101: =K101+N101+Q101+T101+W101+Z101 -> 46960000 | E101: =L101+O101+R101+U101+X101+AA101 -> 42000000 | F101: =E101-D101 -> -4960000 | G101: =E101/D101 -> 0.89437819 | H101: =M101+P101+S101+V101+Y101+AB101 -> 42467581 | I101: =E101-H101 -> -467581 | J101: =E101/H101 -> 0.9889897 | K101: 2160000 | L101: 500000 | M101: 1210930 | N101: 2400000 | O101: 4000000 | P101: 5686545 | Q101: 2400000 | R101: 1500000 | S101: 2688210 | T101: 30000000 | U101: 30000000 | V101: 32881896 | Z101: 10000000 | AA101: 6000000 | AC101: * 기관방문 선물비, 활동가식사비, 손님방문시 다과준비비 | AH101: =SUM(AH98:AH100) -> 203842827
AG102: 사업비 | AH102: 0.491 | AI102: 사업비 | AJ102: =AK94/AK97 -> 0.48841962
C103: 치과의료지원비 | D103: 결산대비 12.7%(260만원) 감소 -> 치과 무료치료분 포함 예산으로 예산 유동성, 공부방 1,000만원/가정방문 800만원 | AG103: 인건비 | AH103: 0.396 | AI103: 인건비 | AJ103: =AK95/AK97 -> 0.4113032
C104: 의과의료지원비 | D104: 결산대비 280.8%(520만원) 증액 -> 진단을 위한 초기 검사비(실비) 지급의 필요가 있는 사례 등 의료비 지원사례 증가로 질병 조기 발견 및 치료연계가 가능하도록 하기 위함 ,공부방 100만원/가정방문600만원 | AG104: 관리비 | AH104: 0.113 | AI104: 관리비 | AJ104: =AK96/AK97 -> 0.10027718
C105: 안과의료지원비 | D105: 결산대비 80.3%(130만원) 증액 -> 공부방 안경교체 사업 확대 예정
C106: 심리검사및치료 | D106: 결산대비 24.9%(330만원) 감소 ->전년도 보건소 지원이 확정되어(아생사 1,000만원/보건소(서울시)1,200원의 비용 지출) 아생사 결산에서 예산초과된 330만원은 지원확정후 환급 예정액(2013년 사업비로 지출예정) /10명아동 치료액
C107: 재가의료용품지원비 | D107: 결산대비 (44만원) 증액 ->직접 의료용품 지원 사례가 적었으나 어르신 대상 재활의료용품 등 서울시 지원금으로 계획하여 지급할 예정
C108: 재가복지용품지원비 | D108: 전년 예산액과 동일,소액 책정 -> 직접 복지용품 전달은 지양하고 구청,지역복지기관에서 지급하는 재가복지용품 지원 및 서비스 연계를 확대하는 방향으로 진행할 예정(KT&G복지재단 난방비 지원 ,구청 생필품 지원 등)
C109: 가정환경지원비 | D109: 김재환아동(삼육재활원) 지원금, 금년과 동일하게 진행
C110: 건강교육물품구입비 | D110: 전년 예산액과 동일,소액 책정
C111: 영양보충비 | D111: 결산대비 31.9%(34만원) 감소 ->아동영양관리 관련해서는 약사회 의약품 지원받음, 가정방문 영양보충제 구입비는 전년도 구입품 여분수량이 있어 예산 하향조절
C112: 의료물품비 | D112: 결산대비 73.2%(274만원) 감소 ->* 방문진료 의료물품비로 서울시 지원금으로지출 예정
C113: 도서인쇄비 | D113: 일부 교육·연구 행사,프로그램준비비에 포함되어 대비 금년예산 대비
C114: 행사,프로그램준비비 | D114: 결산대비 12.6%(540만원) 증액 -> 공부방 교육사업 및 간담회, 서울시 지원금을로 지급되는 경로당사업,민생상담,자례자문 외 기타사업활동비 포함 항목(동남아, 교육연구, 북녘), 전년도 후원자의밤 행사 미개최(금년 진행 예정)
C115: 네트워크,사업홍보비 | D115: 결산대비 10.8%(97만원) 증액 -> 전년예산과 유사
C116: 활동비 | D116: 결산대비 37.4%(358만원) 감소 -> 전년도에 일부 네트워크(회비,참가비) 관련 비용 포함되었으나 이부분을 네트워크· 사업홍보비로 변경하고 활동가 및 봉사자,기관방문자 식비 및 다과비
A119: 과 목 | D119: 총계 | K119: 사무국 | N119: 가정방문보건의료 | Q119: 공부방아동보건의료 | T119: 동남아시아 보건의료 | W119: 생명사랑의료 교육·연구 | Z119: 북한분유 보내기 | AA119: 북한분유 보내기 | AB119: 북한분유 보내기 | AC119: 비 고
A120: 관 | B120: 항 | C120: 목 | D120: 2012년예산 (A) | E120: 2013년예산 (B) | F120: (B)-(A) (단위:원) | G120: 금년대비증감(%) | H120: 2012결산 (C) | I120: (B)-(C) (단위:원) | J120: 2012결산 대비증감 | K120: 2012 예산 | L120: 2013 예산 | M120: 2012 결산 | N120: 2012년 예산 | O120: 2013년 예산 | P120: 2012 결산 | Q120: 2012 예산 | R120: 2013 예산 | S120: 2012 결산 | T120: 2012 예산 | U120: 2013 예산 | V120: 2012 결산 | W120: 2012 예산 | X120: 2013 예산 | Y120: 2012 결산 | Z120: 2011 예산 | AA120: 2013 예산 | AB120: 2012 결산
A121: 운영비 | B121: 인건비 | C121: 소 계 | D121: =SUM(D122:D127) -> 80746827 | E121: =SUM(E122:E127) -> 58448686 | F121: =E121-D121 -> -22298141 | G121: =E121/D121 -> 0.72385118 | H121: =SUM(M121,P121,S121,V121,Y121) -> 61549121 | I121: =E121-H121 -> -3100435 | J121: =E121/H121 -> 0.94962666 | K121: =SUM(K122:K127) -> 80746827 | L121: =SUM(L122:L127) -> 58432064 | M121: =SUM(M122:M127) -> 61549121 | P121: =SUM(P122:P127) -> 0 | S121: =SUM(S122:S127) -> 0 | U121: =SUM(U122:U127) -> 0 | X121: =SUM(X122:X127) -> 0 | AC121: * 금년 대비 28% ▼ (약 2천2백만원 감소) : 활동가 1인 사직으로로 인건비 감소 * 기존 활동가 급여체계 변경(상세 내역 참조)/ 기본급 170만원 +호봉(1호봉6만원)
C122: 급여 | D122: 57840000 | E122: 49440000 | F122: =E122-D122 -> -8400000 | G122: =E122/D122 -> 0.85477178 | H122: =SUM(M122,P122,S122,V122,Y122) -> 37546840 | I122: =E122-H122 -> 11893160 | J122: =E122/H122 -> 1.3167553 | K122: 57840000 | L122: 49440000 | M122: 37546840
C123: 상여 | D123: 10800000 | E123: 1000000 | F123: =E123-D123 -> -9800000 | G123: =E123/D123 -> 0.092592593 | H123: =SUM(M123,P123,S123,V123,Y123) -> 6600000 | I123: =E123-H123 -> -5600000 | J123: =E123/H123 -> 0.15151515 | K123: 10800000 | L123: 1000000 | M123: 6600000 | AC123: * 여름휴가비 50만원 X 2명
C124: 강사비 | D124: - | E124: 0 | F124: - | G124: - | H124: =SUM(M124,P124,S124,V124,Y124) -> 0 | I124: =E124-H124 -> 0 | J124: =E124/H124 -> #DIV/0! | K124: - | L124: 0 | M124: -
C125: 법정복리비 | D125: 5546827 | E125: 3008686 | F125: =E125-D125 -> -2538141 | G125: =E125/D125 -> 0.54241569 | H125: =SUM(M125,P125,S125,V125,Y125) -> 10243470 | I125: =E125-H125 -> -7234784 | J125: =E125/H125 -> 0.29371746 | K125: 5546827 | L125: 2992064 | M125: 10243470 | AC125: * 4대보험료
...

Sheet 2013세출예산(산출기초)
AD1: 2-2) 2013년 세출 예산서( 산출기초 )
B4: 2)-4. 2013 세출예산 세부 | N4: (단위:원) | U4: (단위:원) | AB4: (단위:원) | AG4: (단위:원) | AL4: (단위:원) | AT4: (단위:원)
A5: 과 목 | G5: 2013년예산 | H5: 사무국 | O5: 가정방문 보건의료 | V5: 공부방아동 건강검진 | AC5: 동남아시아 보건의료사업 | AH5: 생명사랑의료 교육·연구사업 | AP5: 북한분유보내기사업
A6: 관 | C6: 항 | E6: 목 | G6: (A) | AM6: 298000000
A7: 총 계 | G7: =SUM(G8,G73,G98,G141,G142) -> 2.324e+08 | N7: =SUM(N8,N73,N98,N141,N142) -> 94056686 | U7: =SUM(U8,U73,U98,U141,U142) -> 25380000 | AB7: =SUM(AB8,AB73,AB98,AB141,AB142) -> 25500000 | AG7: =SUM(AG8,AG73,AG98,AG141,AG142) -> 30000000 | AL7: =SUM(AL8,AL73,AL98,AL141,AL142) -> 3000000 | AM7: =SUM(AL7,AG7,AB7,U7,N7) -> 1.7793669e+08 | AN7: =AM7-AM6 -> -1.2006331e+08 | AT7: =SUM(AT8,AT73,AT98,AT141,AT142) -> 6000000
A8: 730 | B8: 사업 운영비 | C8: 732 | D8: 진행비 | E8: 소 계 | G8: =SUM(G9:G72) -> 104880000 | N8: =SUM(N9,N13,N17,N20,N24,N27,N31,N34,N41,N44,N47,N50,N53,N61,N68) -> 15000000 | U8: =U9+U13+U17+U24+U27+U34+U41+U47+U53+U68 -> 25380000 | AB8: =SUM(AB9,AB13,AB17,AB20,AB24,AB27,AB31,AB34,AB2,AB41,AB44,AB47,AB50,AB53,AB61,AB68) -> 25500000 | AG8: =SUM(AG9,AG13,AG17,AG20,AG24,AG27,AG31,AG34,AG41,AG44,AG47,AG50,AG53,AG61,AG68) -> 30000000 | AL8: =SUM(AL9,AL13,AL17,AL20,AL24,AL27,AL31,AL34,AL41,AL44,AL47,AL50,AL53,AL61,AL68) -> 3000000 | AM8: =SUM(AL8,AG8,AB8,U8,N8) -> 98880000 | AT8: =SUM(AT9,AT13,AT17,AT20,AT24,AT27,AT31,AT34,AT41,AT44,AT47,AT50,AT53,AT61,AT68) -> 6000000 | AU8: =N8+U8+AB8+AG8+AL8+AT8 -> 104880000
E9: 732-01-00 | F9: 치과의료지원비 | G9: =SUM(N9,U9,AB9,AG9,AL9) -> 18000000 | N9: =SUM(N10:N11) -> 0 | U9: =SUM(U10:U11) -> 8000000 | AB9: =SUM(AB10:AB11) -> 10000000 | AG9: =SUM(AG10:AG11) -> 0 | AL9: =SUM(AL10:AL11) -> 0 | AM9: =SUM(AL9,AG9,AB9,U9,N9) -> 18000000 | AT9: =SUM(AT10:AT11) -> 0
O10: 치지원1 | P10: 1000000 | Q10: × | R10: 3 | U10: =SUM(P10*R10) -> 3000000 | V10: 치지원1 | W10: 500000 | X10: × | Y10: 10 | AB10: =SUM(W10*Y10) -> 5000000 | AM10: =SUM(AL10,AG10,AB10,U10,N10) -> 8000000
O11: 치지원2 | P11: 1000000 | Q11: × | R11: 5 | U11: =SUM(P11*R11) -> 5000000 | V11: 치지원2 | W11: 1000000 | X11: × | Y11: 5 | AB11: =SUM(W11*Y11) -> 5000000 | AM11: =SUM(AL11,AG11,AB11,U11,N11) -> 10000000
E13: 732-02-00 | F13: 의과의료지원비 | G13: =SUM(N13,U13,AB13,AG13,AL13) -> 7000000 | N13: =SUM(N14:N15) -> 0 | U13: =SUM(U14:U16) -> 6000000 | AB13: =SUM(AB14:AB15) -> 1000000 | AG13: =SUM(AG14:AG15) -> 0 | AL13: =SUM(AL14:AL15) -> 0 | AM13: =SUM(AL13,AG13,AB13,U13,N13) -> 7000000 | AT13: =SUM(AT14:AT15) -> 0
O14: 외래치료및검사 | P14: 300000 | Q14: × | R14: 20 | U14: =SUM(P14*R14) -> 6000000 | V14: 아동및 가족원 | W14: 100000 | X14: × | Y14: 10 | AB14: =SUM(W14*Y14) -> 1000000 | AG14: =SUM(AD14*AF14) -> 0 | AM14: =SUM(AL14,AG14,AB14,U14,N14) -> 7000000
AB15: =SUM(W15*Y15) -> 0 | AM15: =SUM(AL15,AG15,AB15,U15,N15) -> 0
AM16: =SUM(AL16,AG16,AB16,U16,N16) -> 0
E17: 732-03-00 | F17: 안과의료지원비 | G17: =SUM(N17,U17,AB17,AG17,AL17) -> 4000000 | N17: =SUM(N18) -> 0 | U17: =SUM(U18) -> 1000000 | AB17: =SUM(AB18:AB19) -> 3000000 | AG17: =SUM(AG18) -> 0 | AL17: =SUM(AL18) -> 0 | AM17: =SUM(AL17,AG17,AB17,U17,N17) -> 4000000 | AT17: =SUM(AT18) -> 0
O18: 안과의료비 | P18: 200000 | Q18: × | R18: 5 | U18: =SUM(P18*R18) -> 1000000 | V18: 아동및 가족원 | W18: 20000 | X18: × | Y18: 150 | AB18: =SUM(W18*Y18) -> 3000000 | AM18: =SUM(AL18,AG18,AB18,U18,N18) -> 4000000
E20: 732-04-00 | F20: 심리검사및치료 | G20: =SUM(N20,U20,AB20,AG20,AL20) -> 10000000 | N20: =SUM(N22:N25) -> 0 | U20: =SUM(U21:U22) -> 0 | AB20: =AB21+AB22 -> 10000000 | AG20: =SUM(AG22:AG22) -> 0 | AL20: =SUM(AL22:AL22) -> 0 | AM20: =SUM(AL20,AG20,AB20,U20,N20) -> 10000000 | AT20: =SUM(AT22:AT22) -> 0
V21: 심리상담 및 치료 | AB21: 10000000 | AM21: =SUM(AL21,AG21,AB21,U21,N21) -> 10000000
AM22: =SUM(AL22,AG22,AB22,U22,N22) -> 0
E24: 732-05-00 | F24: 재가의료용품지원비 | G24: =SUM(N24,U24,AB24,AG24,AL24) -> 500000 | N24: =SUM(N25:N28) -> 0 | U24: =SUM(U25) -> 500000 | AB24: =SUM(AB25) -> 0 | AG24: =SUM(AG25) -> 0 | AL24: =SUM(AL25) -> 0 | AM24: =SUM(AL24,AG24,AB24,U24,N24) -> 500000 | AT24: =SUM(AT25) -> 0
O25: 지팡이외 | U25: 500000 | AM25: =SUM(AL25,AG25,AB25,U25,N25) -> 500000
E27: 732-06-00 | F27: 재가복지용품지원비 | G27: =SUM(N27,U27,AB27,AG27,AL27) -> 150000 | N27: =SUM(N28:N31) -> 0 | U27: =SUM(U28:U29) -> 150000 | AG27: =SUM(AG28:AG29) -> 0 | AL27: =SUM(AL28:AL29) -> 0 | AM27: =SUM(AL27,AG27,AB27,U27,N27) -> 150000 | AT27: =SUM(AT28:AT29) -> 0
O28: 생필품외 | P28: 30000 | Q28: × | R28: 5 | U28: =SUM(P28*R28) -> 150000 | AM28: =SUM(AL28,AG28,AB28,U28,N28) -> 150000
AM29: =SUM(AL29,AG29,AB29,U29,N29) -> 0
E31: 732-07-00 | F31: 가정환경지원비 | N31: =SUM(N32:N35) -> 0 | U31: =SUM(U32) -> 0 | AB31: =SUM(AB32) -> 0 | AG31: =SUM(AG32) -> 0 | AL31: =SUM(AL32) -> 0 | AM31: =SUM(AL31,AG31,AB31,U31,N31) -> 0 | AT31: =SUM(AT32) -> 0
AB32: =SUM(W32*Y32) -> 0 | AM32: =SUM(AL32,AG32,AB32,U32,N32) -> 0
E34: 732-08-00 | F34: 건강교육용품구입비 | G34: =SUM(N34,U34,AB34,AG34,AL34) -> 330000 | N34: =SUM(N35:N40) -> 0 | U34: =U35 -> 330000 | AB34: =AB35 -> 0 | AG34: =SUM(AG35:AG40) -> 0 | AM34: =SUM(AL34,AG34,AB34,U34,N34) -> 330000
O35: 건강교육용품관련 | P35: 330000 | Q35: × | R35: 1 | U35: =SUM(P35*R35) -> 330000 | AM35: =SUM(AL35,AG35,AB35,U35,N35) -> 330000
AM36: =SUM(AL36,AG36,AB36,U36,N36) -> 0
AL37: =SUM(AI37*AK37) -> 0 | AM37: =SUM(AL37,AG37,AB37,U37,N37) -> 0 | AT37: =SUM(AQ37*AS37) -> 0
AM38: =SUM(AL38,AG38,AB38,U38,N38) -> 0
AM39: =SUM(AL39,AG39,AB39,U39,N39) -> 0
AL40: =SUM(AI40*AK40) -> 0 | AM40: =SUM(AL40,AG40,AB40,U40,N40) -> 0 | AT40: =SUM(AQ40*AS40) -> 0
E41: 732-09-00 | F41: 영양보충비 | G41: =SUM(N41,U41,AB41,AG41,AL41) -> 1200000 | N41: =SUM(N42) -> 0 | U41: =U44 -> 1200000 | AG41: =SUM(AG42) -> 0 | AL41: =SUM(AL42) -> 0 | AM41: =SUM(AL41,AG41,AB41,U41,N41) -> 1200000 | AT41: =SUM(AT42) -> 0
O42: 영양보충제 | P42: 60000 | Q42: × | R42: 12 | U42: =SUM(P42*R42) -> 720000 | AM42: =SUM(AL42,AG42,AB42,U42,N42) -> 720000
E44: 732-10-00 | N44: =SUM(N45) -> 0 | O44: 영양보충제 | P44: 100000 | Q44: × | R44: 12 | U44: =SUM(P44*R44) -> 1200000 | AM44: =SUM(AL44,AG44,AB44,U44,N44) -> 1200000
AM45: =SUM(AL45,AG45,AB45,U45,N45) -> 0
E47: 732-11-00 | F47: 의료물품비 | G47: =SUM(N47,U47,AB47,AG47,AL47) -> 2500000 | N47: =SUM(N48) -> 0 | U47: =SUM(U48:U49) -> 2500000 | AB47: =SUM(AB48) -> 0 | AG47: =SUM(AG48) -> 0 | AL47: =SUM(AL48) -> 0 | AM47: =SUM(AL47,AG47,AB47,U47,N47) -> 2500000 | AT47: =SUM(AT48) -> 0
O48: 방문진료용품구입 | P48: 500000 | Q48: × | R48: 5 | U48: =SUM(P48*R48) -> 2500000 | AM48: =SUM(AL48,AG48,AB48,U48,N48) -> 2500000
AM49: =SUM(AL49,AG49,AB49,U49,N49) -> 0
E50: 732-12-00 | F50: 도서인쇄비 | G50: =SUM(N50,U50,AB50,AG50,AL50) -> 0 | N50: =SUM(N51) -> 0 | U50: =SUM(U51:U52) -> 0 | AB50: =SUM(AB51:AB52) -> 0 | AG50: =SUM(AG51) -> 0 | AM50: =SUM(AL50,AG50,AB50,U50,N50) -> 0
U51: =SUM(P51*R51) -> 0 | AB51: =SUM(W51*Y51) -> 0 | AM51: =SUM(AL51,AG51,AB51,U51,N51) -> 0
AM52: =SUM(AL52,AG52,AB52,U52,N52) -> 0
E53: 732-13-00 | F53: 행사,프로그램비 | G53: =SUM(N53,U53,AB53,AG53,AL53,AT53) -> 9200000 | N53: =SUM(N54:N57) -> 4500000 | U53: =SUM(U54:U60) -> 1700000 | AL53: =AL54+AL55 -> 3000000 | AM53: =SUM(AL53,AG53,AB53,U53,N53) -> 9200000
H54: 후원자의밤행사 | I54: 3000000 | J54: × | K54: 1 | L54: =SUM(I54*K54) -> 3000000 | N54: =SUM(I54*K54) -> 3000000 | O54: 경로당건강교육 | P54: 100000 | S54: × | T54: 7 | U54: =SUM(P54*T54) -> 700000 | AH54: 의료학교 | AI54: 1000000 | AJ54: × | AK54: 2 | AL54: =AI54*AK54 -> 2000000 | AM54: =SUM(AL54,AG54,AB54,U54,N54) -> 5700000 | AT54: =AQ54*AS54 -> 0
H55: 정기총회 | I55: 300000 | J55: × | K55: 1 | L55: =SUM(I55*K55) -> 300000 | N55: =SUM(I55*K55) -> 300000 | O55: 자문회의비 | P55: 250000 | S55: × | T55: 4 | U55: =SUM(P55*T55) -> 1000000 | AH55: 지역NGO | AI55: 1000000 | AJ55: × | AK55: 1 | AL55: =AI55*AK55 -> 1000000 | AM55: =SUM(AL55,AG55,AB55,U55,N55) -> 2300000 | AT55: =AQ55*AS55 -> 0
H56: 직원연수 | I56: 300000 | J56: × | K56: 1 | L56: =SUM(I56*K56) -> 300000 | N56: =SUM(I56*K56) -> 300000 | U56: =SUM(P56*T56) -> 0 | AM56: =SUM(AL56,AG56,AB56,U56,N56) -> 300000
H57: 활동비(실행위,이사회) | I57: 100000 | J57: × | K57: 9 | N57: =I57*K57 -> 900000 | AM57: =SUM(AL57,AG57,AB57,U57,N57) -> 900000
AM58: =SUM(AL58,AG58,AB58,U58,N58) -> 0
AM59: =SUM(AL59,AG59,AB59,U59,N59) -> 0
AM60: =SUM(AL60,AG60,AB60,U60,N60) -> 0
E61: 732-14-00 | F61: 네트워크비,사업홍보비 | G61: =SUM(N61,U61,AB61,AG61,AL61) -> 10000000 | N61: =SUM(N62:N65) -> 10000000 | U61: =SUM(U62:U65) -> 0 | AB61: =AB62 -> 0 | AG61: =SUM(AG62:AG65) -> 0 | AL61: =SUM(AL62:AL66) -> 0 | AM61: =SUM(AL61,AG61,AB61,U61,N61) -> 10000000 | AT61: =SUM(AT62:AT66) -> 0
H62: 홈페이지관리,제작 | I62: 4000000 | L62: =I62 -> 4000000 | N62: =I62 -> 4000000 | AM62: =SUM(AL62,AG62,AB62,U62,N62) -> 4000000
H63: 기타홍보물제작 | I63: 1000000 | L63: =SUM(I63*K63) -> 0 | N63: 1000000 | AM63: =SUM(AL63,AG63,AB63,U63,N63) -> 1000000
H64: 달력제작 | I64: 5000000 | L64: =SUM(I64*K64) -> 0 | N64: =I64 -> 5000000 | AM64: =SUM(AL64,AG64,AB64,U64,N64) -> 5000000
AM65: =SUM(AL65,AG65,AB65,U65,N65) -> 0
L66: =SUM(I66*K66) -> 0 | AM66: =SUM(AL66,AG66,AB66,U66,N66) -> 0
AM67: =SUM(AL67,AG67,AB67,U67,N67) -> 0
E68: 732-15-00 | F68: 활동비 | G68: =SUM(N68,U68,AB68,AG68,AL68,AT68) -> 42000000 | N68: =SUM(N69:N70) -> 500000 | U68: =SUM(U69:U71) -> 4000000 | AB68: =SUM(AB69:AB72) -> 1500000 | AG68: =AG69 -> 30000000 | AM68: =SUM(AL68,AG68,AB68,U68,N68) -> 36000000 | AT68: =AT69 -> 6000000
H69: 기관방문비,선물비 | N69: 500000 | O69: 활동비 | P69: 150000 | Q69: × | R69: 2 | S69: × | T69: 12 | U69: =SUM(P69*R69*T69) -> 3600000 | V69: 활동비 | W69: 100000 | X69: × | Y69: 1 | Z69: × | AA69: 12 | AB69: =SUM(W69*Y69*AA69) -> 1200000 | AC69: 활동비 | AD69: 30000000 | AE69: x | AF69: 1 | AG69: =AD69*AF69 -> 30000000 | AP69: 모금사업 | AT69: 6000000
L70: =SUM(I70*K70) -> 0 | O70: 기관방문비 | U70: 400000 | V70: 기관방문비 | AB70: 300000
A73: 770 | B73: 운영비 | C73: 771 | D73: 인건비 | E73: 소 계 | G73: =SUM(G74:G97) -> 58448686 | N73: =SUM(N74,N79,N81,N82,N84,N91,N96,) -> 58448686 | U73: =SUM(U74,U79,U81,U82,U84,U91,U94,) -> 0 | AB73: =SUM(AB74,AB79,AB81,AB82,AB84,AB91,AB94,) -> 0 | AG73: =SUM(AG74,AG79,AG81,AG82,AG84,AG91,AG94,) -> 0 | AL73: =SUM(AL74,AL79,AL81,AL82,AL84,AL91,AL94,) -> 0 | AM73: =SUM(AL73,AG73,AB73,U73,N73) -> 58448686 | AT73: =SUM(AT74,AT79,AT81,AT82,AT84,AT91,AT94,) -> 0
E74: 771-01-00 | F74: 급여(4대보험포함) | G74: =SUM(N74,U74,AB74,AG74,AL74) -> 49440000 | N74: =SUM(N75:N77) -> 49440000 | U74: =SUM(U76:U77) -> 0 | AB74: =SUM(AB76:AB77) -> 0 | AG74: =SUM(AG76:AG77) -> 0 | AL74: =SUM(AL76:AL77) -> 0 | AM74: =SUM(AL74,AG74,AB74,U74,N74) -> 49440000 | AT74: =SUM(AT76:AT77) -> 0
H75: 간사1(9호봉) | I75: 2240000 | J75: × | K75: 12 | N75: =I75*K75 -> 26880000 | AM75: =SUM(AL75,AG75,AB75,U75,N75) -> 26880000
H76: 간사2(3호봉) | I76: 1880000 | K76: 12 | N76: =I76*K76 -> 22560000 | AM76: =SUM(AL76,AG76,AB76,U76,N76) -> 22560000
AM77: =SUM(AL77,AG77,AB77,U77,N77) -> 0
AM78: =SUM(AL78,AG78,AB78,U78,N78) -> 0
E79: 771-02-00 | F79: 상여 | G79: =N79 -> 1000000 | N79: =SUM(N80:N80) -> 1000000 | AM79: =SUM(AL79,AG79,AB79,U79,N79) -> 1000000
H80: 여름휴가비 | I80: 500000 | J80: × | K80: 2 | N80: =I80*K80 -> 1000000 | AM80: =SUM(AL80,AG80,AB80,U80,N80) -> 1000000
E81: 771-03-00 | F81: 제수당 | G81: =SUM(N81,U81,AB81,AG81,AL81) -> 0 | AM81: =SUM(AL81,AG81,AB81,U81,N81) -> 0
E82: 771-04-00 | F82: 강사비 | G82: =SUM(N82,U82,AB82,AG82,AL82) -> 0 | N82: =N83 -> 0 | U82: =U83 -> 0 | AB82: =AB83 -> 0 | AG82: =AG83 -> 0 | AL82: =AL83 -> 0 | AM82: =SUM(AL82,AG82,AB82,U82,N82) -> 0 | AT82: =AT83 -> 0
AB83: =SUM(W83*Y83) -> 0 | AM83: =SUM(AL83,AG83,AB83,U83,N83) -> 0
E84: 771-05-00 | F84: 법정복리비 | G84: =SUM(N84,U84,AB84,AG84,AL84) -> 3008686.2 | N84: =SUM(N85:N89) -> 3008686.2 | U84: =SUM(U85:U89) -> 0 | AB84: =SUM(AB85:AB89) -> 0 | AG84: =SUM(AG85:AG89) -> 0 | AL84: =SUM(AL85:AL89) -> 0 | AM84: =SUM(AL84,AG84,AB84,U84,N84) -> 3008686.2 | AT84: =SUM(AT85:AT89) -> 0
H85: 건강보험료 | I85: 31200000 | J85: × | K85: 0.0295 | N85: =SUM(I85*K85) -> 920400 | AM85: =SUM(AL85,AG85,AB85,U85,N85) -> 920400
H86: 장기요양보험료 | I86: =N85 -> 920400 | J86: × | K86: 0.0655 | N86: =SUM(I86*K86) -> 60286.2 | AM86: =SUM(AL86,AG86,AB86,U86,N86) -> 60286.2
H87: 국민연금 | I87: =I85 -> 31200000 | J87: × | K87: 4.5% | N87: =SUM(I87*4.5%) -> 1404000 | AM87: =SUM(AL87,AG87,AB87,U87,N87) -> 1404000
H88: 고용보험료 | I88: =I85 -> 31200000 | J88: × | K88: 1.3% | N88: =SUM(I88*1.3%) -> 405600 | AM88: =SUM(AL88,AG88,AB88,U88,N88) -> 405600
H89: 산재보험료 | I89: =I85 -> 31200000 | J89: × | K89: 0.7% | N89: =SUM(I89*0.7%) -> 218400 | AM89: =SUM(AL89,AG89,AB89,U89,N89) -> 218400
AM90: =SUM(AL90,AG90,AB90,U90,N90) -> 0
E91: 771-06-00 | F91: 기타후생경비 | G91: =SUM(N91,U91,AB91,AG91,AL91) -> 800000 | N91: =SUM(N92:N93) -> 800000 | U91: =SUM(U93:U93) -> 0 | AB91: =SUM(AB93:AB93) -> 0 | AG91: =SUM(AG93:AG93) -> 0 | AL91: =SUM(AL93:AL93) -> 0 | AM91: =SUM(AL91,AG91,AB91,U91,N91) -> 800000 | AT91: =SUM(AT93:AT93) -> 0
H92: 교육비 | I92: 200000 | J92: × | K92: 4 | N92: =I92*K92 -> 800000
N93: =I93*K93 -> 0 | AM93: =SUM(AL93,AG93,AB93,U93,N93) -> 0
E94: 771-10-00 | F94: 퇴직급여 | U94: =SUM(U95:U97) -> 0 | AB94: =SUM(AB95:AB97) -> 0 | AG94: =SUM(AG95:AG97) -> 0 | AL94: =SUM(AL95:AL97) -> 0 | AM94: =SUM(AL94,AG94,AB94,U94,N94) -> 0 | AT94: =SUM(AT95:AT97) -> 0
E95: 771-10-01 | F95: 퇴직금지급 | G95: =SUM(N95,U95,AB95,AG95,AL95) -> 0 | AM95: =SUM(AL95,AG95,AB95,U95,N95) -> 0
E96: 771-10-02 | F96: 퇴직급여전입 | G96: =SUM(N96,U96,AB96,AG96,AL96) -> 4200000 | H96: 퇴직급여전입 | N96: 4200000 | AM96: =SUM(AL96,AG96,AB96,U96,N96) -> 4200000
AM97: =SUM(AL97,AG97,AB97,U97,N97) -> 0
C98: 772 | D98: 관리비 | E98: 소 계 | G98: =SUM(G99:G140) -> 20608000 | N98: =SUM(N99,N103,N106,N109,N113,N116,N119,N121,N127,N124,N132,N135,N139) -> 20608000 | U98: =SUM(U99,U103,U106,U109,U113,U116,U119,U121,U124,U132,U135,U139) -> 0 | AB98: =SUM(AB99,AB103,AB106,AB109,AB113,AB116,AB119,AB121,AB124,AB132,AB135,AB139) -> 0 | AG98: =SUM(AG99,AG103,AG106,AG109,AG113,AG116,AG119,AG121,AG124,AG132,AG135,AG139) -> 0 | AL98: =SUM(AL99,AL103,AL106,AL109,AL113,AL116,AL119,AL121,AL124,AL132,AL135,AL139) -> 0 | AM98: =SUM(AL98,AG98,AB98,U98,N98) -> 20608000 | AT98: =SUM(AT99,AT103,AT106,AT109,AT113,AT116,AT119,AT121,AT124,AT132,AT135,AT139) -> 0
E99: 772-01-00 | F99: 임차료 | G99: =SUM(N99,U99,AB99,AG99,AL99) -> 8760000 | N99: =SUM(N100:N101) -> 8760000 | U99: =SUM(U100:U101) -> 0 | AB99: =SUM(AB100:AB101) -> 0 | AG99: =SUM(AG100:AG101) -> 0 | AL99: =SUM(AL100:AL101) -> 0 | AM99: =SUM(AL99,AG99,AB99,U99,N99) -> 8760000 | AT99: =SUM(AT100:AT101) -> 0
H100: 임차료(관리비포함) | I100: 730000 | J100: × | K100: 12 | N100: =SUM(I100*K100+M100) -> 8760000 | AM100: =SUM(AL100,AG100,AB100,U100,N100) -> 8760000
H101: 전세비 | N101: =SUM(I101*K101+M101) -> 0 | AM101: =SUM(AL101,AG101,AB101,U101,N101) -> 0
E103: 772-02-00 | F103: 공공요금 | G103: =SUM(N103,U103,AB103,AG103,AL103) -> 1160000 | N103: =SUM(N104:N105) -> 1160000 | U103: =SUM(U104) -> 0 | AB103: =SUM(AB104) -> 0 | AG103: =SUM(AG104) -> 0 | AL103: =SUM(AL104) -> 0 | AM103: =SUM(AL103,AG103,AB103,U103,N103) -> 1160000 | AT103: =SUM(AT104) -> 0
H104: 전기및 가스요금 | I104: 90000 | J104: × | K104: 12 | N104: =SUM(I104*K104) -> 1080000 | AM104: =SUM(AL104,AG104,AB104,U104,N104) -> 1080000
H105: 주민세 | I105: 80000 | N105: 80000
E106: 772-03-00 | F106: 정수기관리비 | G106: =SUM(N106,U106,AB106,AG106,AL106) -> 408000 | N106: =SUM(N107) -> 408000 | AM106: =SUM(AL106,AG106,AB106,U106,N106) -> 408000
H107: 정수기관리비 | I107: 34000 | J107: × | K107: 12 | N107: =SUM(I107*K107+M107) -> 408000 | AM107: =SUM(AL107,AG107,AB107,U107,N107) -> 408000
E109: 772-04-00 | F109: 우편통신비 | G109: =SUM(N109,U109,AB109,AG109,AL109) -> 2400000 | N109: =SUM(N110:N112) -> 2400000 | U109: =SUM(U110:U112) -> 0 | AB109: =SUM(AB110:AB112) -> 0 | AG109: =SUM(AG110:AG112) -> 0 | AM109: =SUM(AL109,AG109,AB109,U109,N109) -> 2400000
H110: 우편료 | I110: 50000 | J110: × | K110: 12 | N110: =SUM(I110*K110+M110) -> 600000 | AB110: =SUM(W110*Y110) -> 0 | AN110: =SUM(AI110*AK110) -> 0
H111: LG데이콤,삼성 | I111: 150000 | J111: × | K111: 12 | N111: =SUM(I111*K111+M111) -> 1800000 | AM111: =SUM(AL111,AG111,AB111,U111,N111) -> 1800000
AM112: =SUM(AL112,AG112,AB112,U112,N112) -> 0
E113: 772-05-00 | F113: 소모품비 | G113: =SUM(N113,U113,AB113,AG113,AL113) -> 1200000 | N113: =SUM(N114) -> 1200000 | U113: =SUM(U114) -> 0 | AB113: =SUM(AB114) -> 0 | AG113: =SUM(AG114) -> 0 | AL113: =SUM(AL114) -> 0 | AM113: =SUM(AL113,AG113,AB113,U113,N113) -> 1200000 | AT113: =SUM(AT114) -> 0
H114: 생활용품,문구류외 | I114: 100000 | J114: × | K114: 12 | N114: =SUM(I114*K114+M114) -> 1200000 | U114: =SUM(P114*R114+T114) -> 0 | AB114: =SUM(W114*Y114+AA114) -> 0 | AM114: =SUM(AL114,AG114,AB114,U114,N114) -> 1200000
...

Sheet 2012-수입내역서
A1: 결의번호 | B1: 작성일 | C1: 수입일 | D1: 제목 | E1: 관 | F1: 항 | G1: 목 | H1: 수입금액 | I1: 수입방법 | J1: 수입계좌 | K1: 내역 | L1: 비고
A2: P1201-001 | B2: 2012.01.01 | C2: 2012.01.01 | D2: 기타후원금 | E2: 후원금 | F2: 후원금 | G2: 기타후원금 | H2: 90000 | I2: 예금 | J2: 284001-04-030606 | K2: 백수정 | M2: 전자금융
A3: P1201-002 | B3: 2012.01.02 | C3: 2012.01.02 | D3: 단체후원금 | E3: 후원금 | F3: 후원금 | G3: 단체후원금 | H3: 300000 | I3: 예금 | J3: 284001-04-030606 | K3: 서경누가회 | M3: 전자금융
A4: P1201-003 | B4: 2012.01.02 | C4: 2012.01.02 | D4: 김지하님 개인후원금 | E4: 후원금 | F4: 후원금 | G4: 개인후원금 | H4: 20000 | I4: 예금 | J4: 284001-04-030606 | K4: 김지하 | M4: 납부입금
A5: P1201-004 | B5: 2012.01.02 | C5: 2012.01.02 | D5: 임영근님 개인후원금 | E5: 후원금 | F5: 후원금 | G5: 개인후원금 | H5: 10000 | I5: 예금 | J5: 284001-04-030606 | K5: 임영근 | M5: 납부입금
A6: P1201-005 | B6: 2012.01.02 | C6: 2012.01.02 | D6: 최용민님 개인후원금 | E6: 후원금 | F6: 후원금 | G6: 개인후원금 | H6: 100000 | I6: 예금 | J6: 284001-04-030606 | K6: 지인마취통증의학과의원 | M6: 납부입금
A7: P1201-006 | B7: 2012.01.03 | C7: 2012.01.03 | D7: 기타후원금 | E7: 후원금 | F7: 후원금 | G7: 기타후원금 | H7: 10000 | I7: 예금 | J7: 284001-04-030606 | K7: 조하나 | M7: 전자금융
A8: P1201-007 | B8: 2012.01.05 | C8: 2012.01.05 | D8: 기타후원금 | E8: 후원금 | F8: 후원금 | G8: 기타후원금 | H8: 50000 | I8: 예금 | J8: 284001-04-030606 | K8: 고옥희 | M8: 납부입금
A9: P1201-008 | B9: 2012.01.05 | C9: 2012.01.05 | D9: 기타후원금 | E9: 후원금 | F9: 후원금 | G9: 기타후원금 | H9: 10000 | I9: 예금 | J9: 284001-04-030606 | K9: 임주현 | M9: 전자금융
A10: P1201-009 | B10: 2012.01.06 | C10: 2012.01.06 | D10: 기타후원금 | E10: 후원금 | F10: 후원금 | G10: 기타후원금 | H10: 2000 | I10: 예금 | J10: 284001-04-030606 | K10: 해피빈 | M10: 전자금융
A11: P1201-010 | B11: 2012.01.09 | C11: 2012.01.09 | D11: 개인후원금 CMS집금 | E11: 후원금 | F11: 후원금 | G11: 개인후원금 | H11: 313000 | I11: 예금 | J11: 284001-04-030606 | K11: CMS집금 | M11: 전자금융
A12: P1201-011 | B12: 2012.01.09 | C12: 2012.01.09 | D12: 개인회비 CMS집금 | E12: 회비 | F12: 회비 | G12: 개인회비 | H12: 310000 | I12: 예금 | J12: 284001-04-030606 | K12: CMS집금
A13: P1201-012 | B13: 2012.01.09 | C13: 2012.01.09 | D13: 기타후원금 | E13: 후원금 | F13: 후원금 | G13: 기타후원금 | H13: 10000 | I13: 예금 | J13: 284001-04-030606 | K13: 류태훈 | M13: 전자금융
A14: P1201-013 | B14: 2012.01.12 | C14: 2012.01.12 | D14: 안경맞춤 후원-이호철 | E14: 후원금 | F14: 후원금 | G14: 목적후원금 | H14: 300000 | I14: 예금 | J14: 284001-04-030606 | K14: 이호철 | L14: 안경사회 | M14: CD 공동
A15: P1201-014 | B15: 2012.01.17 | C15: 2012.01.17 | D15: 기타후원금 | E15: 후원금 | F15: 후원금 | G15: 기타후원금 | H15: 20000 | I15: 예금 | J15: 284001-04-030606 | K15: 황희연 | M15: ATM입금
A16: P1201-015 | B16: 2012.01.18 | C16: 2012.01.18 | D16: 기타후원금 | E16: 후원금 | F16: 후원금 | G16: 기타후원금 | H16: 1000 | I16: 예금 | J16: 284001-04-030606 | K16: 에스케이커뮤니티 | M16: 전자금융
A17: P1201-016 | B17: 2012.01.18 | C17: 2012.01.18 | D17: 목적후원금 | E17: 후원금 | F17: 후원금 | G17: 목적후원금 | H17: 500000 | I17: 예금 | J17: 284001-04-030606 | K17: 서울우리내과의원 | M17: 전자금융
A18: P1201-017 | B18: 2012.01.18 | C18: 2012.01.18 | D18: 이경진님 개인후원금 | E18: 후원금 | F18: 후원금 | G18: 개인후원금 | H18: 50000 | I18: 예금 | J18: 284001-04-030606 | K18: 이경진 | M18: 납부입금
A19: P1201-018 | B19: 2012.01.19 | C19: 2012.01.19 | D19: 개인후원금 CMS집금 | E19: 후원금 | F19: 후원금 | G19: 개인후원금 | H19: 1300000 | I19: 예금 | J19: 284001-04-030606 | K19: CMS집금 | M19: 전자금융
A20: P1201-019 | B20: 2012.01.19 | C20: 2012.01.19 | D20: 개인회비 CMS집금 | E20: 회비 | F20: 회비 | G20: 개인회비 | H20: 915000 | I20: 예금 | J20: 284001-04-030606 | K20: CMS집금
A21: P1201-020 | B21: 2012.01.19 | C21: 2012.01.19 | D21: 김정아 개인후원금 | E21: 후원금 | F21: 후원금 | G21: 개인후원금 | H21: 10000 | I21: 예금 | J21: 284001-04-030606 | K21: 김정아 | M21: 전자금융
A22: P1201-021 | B22: 2012.01.20 | C22: 2012.01.20 | D22: 후원저금통 | E22: 후원금 | F22: 후원금 | G22: 후원저금통 | H22: 22420 | I22: 예금 | J22: 284001-04-030606 | K22: 강충원 | M22: ATM입금
A23: P1201-022 | B23: 2012.01.20 | C23: 2012.01.20 | D23: 김미연님 개인후원금 환급 | E23: 후원금 | F23: 후원금 | G23: 개인후원금 | H23: -50000 | I23: 예금 | J23: 284001-04-030606 | K23: 손달형(김미연님환급) | L23: 김미연님환급 | M23: 인터넷출금이체
A24: P1201-023 | B24: 2012.01.20 | C24: 2012.01.20 | D24: 임헌영 개인후원금 환급 | E24: 후원금 | F24: 후원금 | G24: 개인후원금 | H24: -160000 | I24: 예금 | J24: 284001-04-030606 | K24: 임헌영후원자 환급 | L24: 임헌영환급 | M24: 인터넷출금이체
A25: P1201-024 | B25: 2012.01.20 | C25: 2012.01.20 | D25: 후원저금통 | E25: 후원금 | F25: 후원금 | G25: 후원저금통 | H25: 30780 | I25: 예금 | J25: 284001-04-030606 | K25: 김환희,김진혁 | M25: ATM입금
A26: P1201-025 | B26: 2012.01.24 | C26: 2012.01.24 | D26: 기타후원금 | E26: 후원금 | F26: 후원금 | G26: 기타후원금 | H26: 10000 | I26: 예금 | J26: 284001-04-030606 | K26: 김종수 | M26: ATM입금
A27: P1201-026 | B27: 2012.01.25 | C27: 2012.01.25 | D27: 개인후원금CMS집금 | E27: 후원금 | F27: 후원금 | G27: 개인후원금 | H27: 985000 | I27: 예금 | J27: 284001-04-030606 | K27: CMS집금 | M27: 전자금융
A28: P1201-027 | B28: 2012.01.25 | C28: 2012.01.25 | D28: 개인회비 CMS집금 | E28: 회비 | F28: 회비 | G28: 개인회비 | H28: 590000 | I28: 예금 | J28: 284001-04-030606 | K28: CMS집금
A29: P1201-028 | B29: 2012.01.25 | C29: 2012.01.25 | D29: 김태현님 개인후원금 | E29: 후원금 | F29: 후원금 | G29: 개인후원금 | H29: 100000 | I29: 예금 | J29: 284001-04-030606 | K29: 김태현(M) | M29: 전자금융
A30: P1201-029 | B30: 2012.01.26 | C30: 2012.01.26 | D30: 김연희님 개인후원금 | E30: 후원금 | F30: 후원금 | G30: 개인후원금 | H30: 40000 | I30: 예금 | J30: 284001-04-030606 | K30: 김연희 | M30: 납부입금
A31: P1201-030 | B31: 2012.01.27 | C31: 2012.01.27 | D31: 유명희님 개인후원금 | E31: 후원금 | F31: 후원금 | G31: 개인후원금 | H31: 30000 | I31: 예금 | J31: 284001-04-030606 | K31: 유명희 | M31: 납부입금
A32: P1201-031 | B32: 2012.01.30 | C32: 2012.01.30 | D32: 단체회비 | E32: 회비 | F32: 회비 | G32: 단체회비 | H32: 300000 | I32: 예금 | J32: 284001-04-030606 | K32: 한국누가회 | M32: 납부입금
A33: P1201-032 | B33: 2012.01.30 | C33: 2012.01.30 | D33: 개인후원금CMS집금 | E33: 후원금 | F33: 후원금 | G33: 개인후원금 | H33: 2302000 | I33: 예금 | J33: 284001-04-030606 | K33: CMS집금 | M33: 전자금융
A34: P1201-033 | B34: 2012.01.30 | C34: 2012.01.30 | D34: 개인회비 CMS집금 | E34: 회비 | F34: 회비 | G34: 개인회비 | H34: 2621000 | I34: 예금 | J34: 284001-04-030606 | K34: CMS집금
A35: P1201-034 | B35: 2012.01.30 | C35: 2012.01.30 | D35: 후원저금통 | E35: 후원금 | F35: 후원금 | G35: 후원저금통 | H35: 29180 | I35: 예금 | J35: 284001-04-030606 | K35: 장원모 | M35: ATM입금
A36: P1201-035 | B36: 2012.01.31 | C36: 2012.01.31 | D36: 김지하님 개인후원금 | E36: 후원금 | F36: 후원금 | G36: 개인후원금 | H36: 20000 | I36: 예금 | J36: 284001-04-030606 | K36: 김지하 | M36: 납부입금
A37: P1201-036 | B37: 2012.01.31 | C37: 2012.01.31 | D37: 임영근님 개인후원금 | E37: 후원금 | F37: 후원금 | G37: 개인후원금 | H37: 10000 | I37: 예금 | J37: 284001-04-030606 | K37: 임영근 | M37: 납부입금
A38: P1202-001 | B38: 2012.02.01 | C38: 2012.02.01 | D38: 단체후원금 | E38: 후원금 | F38: 후원금 | G38: 단체후원금 | H38: 300000 | I38: 예금 | J38: 284001-04-030606 | K38: 서경누가회 | M38: 전자금융
A39: P1202-002 | B39: 2012.02.01 | C39: 2012.02.01 | D39: 최용민님 개인후원금 | E39: 후원금 | F39: 후원금 | G39: 개인후원금 | H39: 100000 | I39: 예금 | J39: 284001-04-030606 | K39: 지인마취통증의학과의원 | M39: 납부입금
A40: P1202-003 | B40: 2012.02.02 | C40: 2012.02.02 | D40: 이나영님 개인(달력)후원금 | E40: 후원금 | F40: 후원금 | G40: 개인후원금 | H40: 50000 | I40: 예금 | J40: 284001-04-030606 | K40: 이나영 | M40: 전자금융
A41: P1202-004 | B41: 2012.02.06 | C41: 2012.02.06 | D41: 기타후원금 | E41: 후원금 | F41: 후원금 | G41: 기타후원금 | H41: 50000 | I41: 예금 | J41: 284001-04-030606 | K41: 고옥희 | M41: 납부입금
A42: P1202-005 | B42: 2012.02.08 | C42: 2012.02.08 | D42: 김수환님 개인후원금 환급 | E42: 후원금 | F42: 후원금 | G42: 개인후원금 | H42: -100000 | I42: 예금 | J42: 284001-04-030606 | K42: 김수환님 개인후원금 환급 | L42: 김수환환급 | M42: 인터넷출금이체
A43: P1202-006 | B43: 2012.02.08 | C43: 2012.02.08 | D43: 후원저금통 | E43: 후원금 | F43: 후원금 | G43: 후원저금통 | H43: 35710 | I43: 예금 | J43: 284001-04-030606 | K43: 양현식 | M43: ATM입금
A44: P1202-007 | B44: 2012.02.09 | C44: 2012.02.09 | D44: 개인후원금CMS집금 | E44: 후원금 | F44: 후원금 | G44: 개인후원금 | H44: 363000 | I44: 예금 | J44: 284001-04-030606 | K44: CMS집금 | M44: 전자금융
A45: P1202-008 | B45: 2012.02.09 | C45: 2012.02.09 | D45: 개인회비 CMS집금 | E45: 회비 | F45: 회비 | G45: 개인회비 | H45: 90000 | I45: 예금 | J45: 284001-04-030606 | K45: CMS집금
A46: P1202-009 | B46: 2012.02.17 | C46: 2012.02.17 | D46: 개인후원금CMS집금 | E46: 후원금 | F46: 후원금 | G46: 개인후원금 | H46: 1313000 | I46: 예금 | J46: 284001-04-030606 | K46: CMS집금 | M46: 전자금융
A47: P1202-010 | B47: 2012.02.17 | C47: 2012.02.17 | D47: 개인회비 CMS집금 | E47: 회비 | F47: 회비 | G47: 개인회비 | H47: 965000 | I47: 예금 | J47: 284001-04-030606 | K47: CMS집금
A48: P1202-011 | B48: 2012.02.19 | C48: 2012.02.19 | D48: 기타후원금 | E48: 후원금 | F48: 후원금 | G48: 기타후원금 | H48: 20000 | I48: 예금 | J48: 284001-04-030606 | K48: 황희연 | M48: ATM입금
A49: P1202-012 | B49: 2012.02.23 | C49: 2012.02.23 | D49: 개인후원금CMS집금 | E49: 후원금 | F49: 후원금 | G49: 개인후원금 | H49: 1015000 | I49: 예금 | J49: 284001-04-030606 | K49: CMS집금 | M49: 전자금융
A50: P1202-013 | B50: 2012.02.23 | C50: 2012.02.23 | D50: 개인회비 CMS집금 | E50: 회비 | F50: 회비 | G50: 개인회비 | H50: 580000 | I50: 예금 | J50: 284001-04-030606 | K50: CMS집금
A51: P1202-014 | B51: 2012.02.23 | C51: 2012.02.23 | D51: 기타후원금 | E51: 후원금 | F51: 후원금 | G51: 기타후원금 | H51: 1000 | I51: 예금 | J51: 284001-04-030606 | K51: 에스케이커뮤니 | M51: 전자금융
A52: P1202-015 | B52: 2012.02.24 | C52: 2012.02.24 | D52: 김정아님 개인후원금 | E52: 후원금 | F52: 후원금 | G52: 개인후원금 | H52: 10000 | I52: 예금 | J52: 284001-04-030606 | K52: 김정아 | M52: 전자금융
A53: P1202-016 | B53: 2012.02.24 | C53: 2012.02.24 | D53: 김태현님 개인후원금 | E53: 후원금 | F53: 후원금 | G53: 개인후원금 | H53: 100000 | I53: 예금 | J53: 284001-04-030606 | K53: 김태현(M) | M53: 전자금융
A54: P1202-017 | B54: 2012.02.27 | C54: 2012.02.27 | D54: 김정아님 개인후원금 | E54: 후원금 | F54: 후원금 | G54: 개인후원금 | H54: 40000 | I54: 예금 | J54: 284001-04-030606 | K54: 김연희 | M54: 납부입금
A55: P1202-018 | B55: 2012.02.27 | C55: 2012.02.27 | D55: 유명희님 개인후원금 | E55: 후원금 | F55: 후원금 | G55: 개인후원금 | H55: 30000 | I55: 예금 | J55: 284001-04-030606 | K55: 유명희 | M55: 납부입금
A56: P1202-019 | B56: 2012.02.29 | C56: 2012.02.29 | D56: 임영근님 개인후원금 | E56: 후원금 | F56: 후원금 | G56: 개인후원금 | H56: 10000 | I56: 예금 | J56: 284001-04-030606 | K56: 임영근 | M56: 납부입금
A57: P1202-020 | B57: 2012.02.29 | C57: 2012.02.29 | D57: 단체회비 | E57: 회비 | F57: 회비 | G57: 단체회비 | H57: 300000 | I57: 예금 | J57: 284001-04-030606 | K57: 한국누가회 | M57: 납부입금
A58: P1202-021 | B58: 2012.02.29 | C58: 2012.02.29 | D58: 단체후원금 | E58: 후원금 | F58: 후원금 | G58: 단체후원금 | H58: 300000 | I58: 예금 | J58: 284001-04-030606 | K58: 서경누가회 | M58: 전자금융
A59: P1202-022 | B59: 2012.02.29 | C59: 2012.02.29 | D59: 김지하님 개인후원금 | E59: 후원금 | F59: 후원금 | G59: 개인후원금 | H59: 20000 | I59: 예금 | J59: 284001-04-030606 | K59: 김지하 | M59: 납부입금
A60: P1203-001 | B60: 2012.03.02 | C60: 2012.03.02 | D60: 개인회비 | E60: 회비 | F60: 회비 | G60: 개인회비 | H60: 2611000 | I60: 예금 | J60: 284001-04-030606 | K60: CMS집금
A61: P1203-002 | B61: 2012.03.02 | C61: 2012.03.02 | D61: 개인후원금 | E61: 후원금 | F61: 후원금 | G61: 개인후원금 | H61: 2397000 | I61: 예금 | J61: 284001-04-030606 | K61: CMS집금
A62: P1203-003 | B62: 2012.03.02 | C62: 2012.03.02 | D62: 최용민님 개인후원금 | E62: 후원금 | F62: 후원금 | G62: 개인후원금 | H62: 100000 | I62: 예금 | J62: 284001-04-030606 | K62: 지인마취통증의학과의원
A63: P1203-004 | B63: 2012.03.05 | C63: 2012.03.05 | D63: 개인후원금 | E63: 후원금 | F63: 후원금 | G63: 개인후원금 | H63: 50000 | I63: 예금 | J63: 284001-04-030606 | K63: 고옥희
A64: P1203-005 | B64: 2012.03.06 | C64: 2012.03.06 | D64: 기타후원금(이은정) | E64: 후원금 | F64: 후원금 | G64: 기타후원금 | H64: 500000 | I64: 예금 | J64: 284001-04-030606 | K64: 이충형
A65: P1203-006 | B65: 2012.03.08 | C65: 2012.03.08 | D65: 개인회비 | E65: 회비 | F65: 회비 | G65: 개인회비 | H65: 220000 | I65: 예금 | J65: 284001-04-030606 | K65: CMS집금
A66: P1203-007 | B66: 2012.03.08 | C66: 2012.03.08 | D66: 개인후원금 | E66: 후원금 | F66: 후원금 | G66: 개인후원금 | H66: 750000 | I66: 예금 | J66: 284001-04-030606 | K66: CMS집금
A67: P1203-008 | B67: 2012.03.09 | C67: 2012.03.09 | D67: 후원저금통 | E67: 후원금 | F67: 후원금 | G67: 후원저금통 | H67: 48930 | I67: 예금 | J67: 284001-04-030606 | K67: 이충형
A68: P1203-009 | B68: 2012.03.09 | C68: 2012.03.09 | D68: 후원저금통 | E68: 후원금 | F68: 후원금 | G68: 후원저금통 | H68: 34310 | I68: 예금 | J68: 284001-04-030606 | K68: 임상순
A69: P1203-010 | B69: 2012.03.14 | C69: 2012.03.14 | D69: 기타후원금 | E69: 후원금 | F69: 후원금 | G69: 기타후원금 | H69: 1280 | I69: 예금 | J69: 284001-04-030606 | K69: 신혜진
A70: P1203-011 | B70: 2012.03.16 | C70: 2012.03.16 | D70: 권오준 | E70: 후원금 | F70: 후원금 | G70: 기타후원금 | H70: 1000000 | I70: 예금 | J70: 284001-04-030606 | K70: 권오준
A71: P1203-012 | B71: 2012.03.19 | C71: 2012.03.19 | D71: 개인회비 | E71: 회비 | F71: 회비 | G71: 개인회비 | H71: 975000 | I71: 예금 | J71: 284001-04-030606 | K71: CMS집금
... A121: P1205-004 | B121: 2012.05.10 | C121: 2012.05.10 | D121: 개인후원금 | E121: 후원금 | F121: 후원금 | G121: 개인후원금 | H121: 140000 | I121: 예금 | J121: 284001-04-030606 | K121: CMS집금
A122: P1205-005 | B122: 2012.05.14 | C122: 2012.05.14 | D122: 서울시정사업 보조금 1차 | E122: 보조금 | F122: 보조금 | G122: 서울시 | H122: 10500000 | I122: 예금 | J122: 1005-801-650699 | K122: 서울시정사업 보조금 1차 | N122: 1
A123: P1205-006 | B123: 2012.05.17 | C123: 2012.05.17 | D123: 캄보디아 보건의료사업 후원 | E123: 후원금 | F123: 후원금 | G123: 개인후원금 | H123: 20000 | I123: 예금 | J123: 284001-04-030606 | K123: 황희연
A124: P1205-007 | B124: 2012.05.17 | C124: 2012.05.17 | D124: 캄보디아 보건의료사업 후원 | E124: 회비 | F124: 회비 | G124: 개인회비 | H124: 985000 | I124: 예금 | J124: 284001-04-030606 | K124: CMS집금
A125: P1205-008 | B125: 2012.05.17 | C125: 2012.05.17 | D125: 캄보디아 보건의료사업 후원 | E125: 후원금 | F125: 후원금 | G125: 개인후원금 | H125: 1333000 | I125: 예금 | J125: 284001-04-030606 | K125: CMS집금
A126: P1205-009 | B126: 2012.05.17 | C126: 2012.05.17 | D126: 후원저금통 | E126: 후원금 | F126: 후원금 | G126: 후원저금통 | H126: 74600 | I126: 예금 | J126: 284001-04-030606 | K126: 장원모
A127: P1205-010 | B127: 2012.05.18 | C127: 2012.05.18 | D127: 캄보디아 보건의료사업 후원 | E127: 후원금 | F127: 후원금 | G127: 기타후원금 | H127: 295000 | I127: 예금 | J127: 284001-04-030606 | K127: 의료학교회비
A128: P1205-011 | B128: 2012.05.18 | C128: 2012.05.18 | D128: 캄보디아 보건의료사업 후원 | E128: 후원금 | F128: 후원금 | G128: 동남아후원 | H128: 5000000 | I128: 예금 | J128: 487101-01-309708 | K128: 캄보디아 보건의료사업 후원 | N128: 2
A129: P1205-012 | B129: 2012.05.18 | C129: 2012.05.18 | D129: 캄보디아 보건의료사업 후원 | E129: 후원금 | F129: 후원금 | G129: 동남아후원 | H129: 1600000 | I129: 예금 | J129: 487101-01-309709 | K129: 캄보디아 보건의료사업 후원 | N129: 2
A130: P1205-013 | B130: 2012.05.21 | C130: 2012.05.21 | D130: 캄보디아 보건의료사업 후원 | E130: 후원금 | F130: 후원금 | G130: 동남아후원 | H130: 5000000 | I130: 예금 | J130: 487101-01-309710 | K130: 캄보디아 보건의료사업 후원 | N130: 2
A131: P1205-014 | B131: 2012.05.21 | C131: 2012.05.21 | D131: 캄보디아 보건의료사업 후원 | E131: 후원금 | F131: 후원금 | G131: 동남아후원 | H131: 1600000 | I131: 예금 | J131: 487101-01-309711 | K131: 캄보디아 보건의료사업 후원 | N131: 2
A132: P1205-015 | B132: 2012.05.24 | C132: 2012.05.24 | D132: 서울시정사업 이자수익 | E132: 후원금 | F132: 후원금 | G132: 개인후원금 | H132: 970000 | I132: 예금 | J132: 284001-04-030606 | K132: CMS집금
A133: P1205-016 | B133: 2012.05.24 | C133: 2012.05.24 | D133: 캄보디아 보건의료사업 후원 | E133: 후원금 | F133: 후원금 | G133: 개인후원금 | H133: 100000 | I133: 예금 | J133: 284001-04-030606 | K133: 김태현(M)
A134: P1205-017 | B134: 2012.05.24 | C134: 2012.05.24 | D134: 서울시정사업 보조금 2차 | E134: 회비 | F134: 회비 | G134: 개인회비 | H134: 410000 | I134: 예금 | J134: 284001-04-030606 | K134: CMS집금
A135: P1205-018 | B135: 2012.05.25 | C135: 2012.05.25 | D135: 프리패스환급(체크카드 사용 환급비) | E135: 후원금 | F135: 후원금 | G135: 개인후원금 | H135: 20000 | I135: 예금 | J135: 284001-04-030606 | K135: 김정아
A136: P1205-019 | B136: 2012.05.25 | C136: 2012.05.25 | D136: 지출통장 이자수익 | E136: 후원금 | F136: 후원금 | G136: 개인후원금 | H136: 135000 | I136: 예금 | J136: 284001-04-030606 | K136: 아생사
A137: P1205-020 | B137: 2012.05.29 | C137: 2012.05.29 | D137: 구정사업이자수익 | E137: 후원금 | F137: 후원금 | G137: 개인후원금 | H137: 40000 | I137: 예금 | J137: 284001-04-030606 | K137: 김연희
A138: P1205-021 | B138: 2012.05.29 | C138: 2012.05.29 | D138: 단체회비 | E138: 회비 | F138: 회비 | G138: 단체회비 | H138: 300000 | I138: 예금 | J138: 284001-04-030606 | K138: 한국누가회
A139: P1205-022 | B139: 2012.05.29 | C139: 2012.05.29 | D139: 기타후원금 | E139: 후원금 | F139: 후원금 | G139: 기타후원금 | H139: 1000 | I139: 예금 | J139: 284001-04-030606 | K139: 에스케이커뮤니티
A140: P1205-023 | B140: 2012.05.29 | C140: 2012.05.29 | D140: 치과목적후원금 | E140: 후원금 | F140: 후원금 | G140: 치과목적후원금 | H140: 22900 | I140: 예금 | J140: 284001-04-030606 | K140: 김윤숙
A141: P1205-024 | B141: 2012.05.29 | C141: 2012.05.29 | D141: 개인후원금 | E141: 후원금 | F141: 후원금 | G141: 개인후원금 | H141: 30000 | I141: 예금 | J141: 284001-04-030606 | K141: 유명희
A142: P1205-025 | B142: 2012.05.31 | C142: 2012.05.31 | D142: 개인후원금 | E142: 후원금 | F142: 후원금 | G142: 개인후원금 | H142: 20000 | I142: 예금 | J142: 284001-04-030606 | K142: 김지하
A143: P1205-026 | B143: 2012.05.31 | C143: 2012.05.31 | D143: 단체후원금 | E143: 후원금 | F143: 후원금 | G143: 단체후원금 | H143: 300000 | I143: 예금 | J143: 284001-04-030606 | K143: 서경누가회
... A149: P1206-005 | B149: 2012.06.05 | C149: 2012.06.05 | D149: 개인후원금 | E149: 후원금 | F149: 후원금 | G149: 개인후원금 | H149: 50000 | I149: 예금 | J149: 284001-04-030606 | K149: 고옥희
A150: P1206-006 | B150: 2012.06.05 | C150: 2012.06.05 | D150: 캄보디아 보건의료사업 후원 | E150: 후원금 | F150: 후원금 | G150: 동남아후원 | H150: 1200000 | I150: 예금 | J150: 487101-01-309711 | K150: 캄보디아 보건의료사업 후원 | N150: 2
A151: P1206-007 | B151: 2012.06.05 | C151: 2012.06.05 | D151: 캄보디아 보건의료사업 후원 | E151: 후원금 | F151: 후원금 | G151: 동남아후원 | H151: 2500000 | I151: 예금 | J151: 487101-01-309711 | K151: 캄보디아 보건의료사업 후원 | N151: 2
A152: P1206-008 | B152: 2012.06.07 | C152: 2012.06.07 | D152: 후원저금통 | E152: 후원금 | F152: 후원금 | G152: 후원저금통 | H152: 33000 | I152: 예금 | J152: 284001-04-030606 | K152: 김환희,김진혁
A153: P1206-009 | B153: 2012.06.08 | C153: 2012.06.08 | D153: 개인회비 | E153: 회비 | F153: 회비 | G153: 개인회비 | H153: 170000 | I153: 예금 | J153: 284001-04-030606 | K153: CMS집금
A154: P1206-010 | B154: 2012.06.08 | C154: 2012.06.08 | D154: 개인후원금 | E154: 후원금 | F154: 후원금 | G154: 개인후원금 | H154: 755000 | I154: 예금 | J154: 284001-04-030606 | K154: CMS집금
...

Sheet 2012-지출내역서
A1: 결의번호 | B1: 작성일 | C1: 지출일 | D1: 제목 | E1: 관 | F1: 항 | G1: 목 | H1: 세목 | I1: 프로젝트 | J1: 지원금구분 | K1: 지출금액 | L1: 지출방법 | M1: 증빙종류 | N1: 증빙자료 | O1: 추가증빙 | P1: 비고 | Q1: 거래처명 | R1: 내역
A2: 1201-0001 | B2: 2012-01-01 | C2: 2012-01-01 | D2: 이사회 다과비 | E2: 사업비 | F2: 진행비 | G2: 행사준비비 | I2: 사무국 | J2: 자부담 | K2: 32720 | L2: 예금 | M2: 카드 | N2: 카드전표 | Q2: (주)파리크라상파리바게트 | R2: ○제 목 : 이사회의 간식비 ○내역 : 김영진 외 9명 빵, 과자류 ○채 주 :(주)파리크라상파리바게트 ○금 액 :32,720
A3: 1201-0002 | B3: 2012-01-01 | C3: 2012-01-01 | D3: 이사회 식비 | E3: 사업비 | F3: 진행비 | G3: 행사준비비 | I3: 사무국 | J3: 자부담 | K3: 79000 | L3: 예금 | M3: 카드 | N3: 카드전표 | Q3: 진부령황태촌 | R3: ○제 목 : 이사회의 식비 ○내역 : 김영진 외 9명 빵, 과자류 ○채 주 :(주)파리크라상파리바게트 ○금 액 :79,000
A4: 1201-0003 | B4: 2012-01-02 | C4: 2012-01-02 | D4: 1월급여 지급 홍두호 | E4: 운영비 | F4: 인건비 | G4: 급여 | I4: 사무국 | J4: 자부담 | K4: 1664300 | L4: 예금 | M4: 계좌 | N4: 이체확인증 | Q4: 홍두호 | R4: ○제 목 : 홍두호사무총장 1월 급여지급 ○급여총액 : 1,820,000원 ○예수금 :155,700원 국민연금 81,900 장기요양 3,360 건강보험 51,320 소득세 17,390 주민세 800 ○예수금 공제 후 지급액 1,664,300원 *원천징수영수증 - 반기납부 사업장으로 반기분 합산영수증 첨부
A5: 1201-0004 | B5: 2012-01-02 | C5: 2012-01-02 | D5: 1월상여금 홍두호 | E5: 운영비 | F5: 인건비 | G5: 상여금 | I5: 사무국 | J5: 자부담 | K5: 600000 | L5: 예금 | M5: 계좌 | N5: 이체확인증 | Q5: 홍두호 | R5: ○제 목 : 홍두호사무총장 1월 상여금 지급 ○상여금액 : 600,000원
A6: 1201-0005 | B6: 2012-01-02 | C6: 2012-01-02 | D6: 1월급여 지급 조아라 | E6: 운영비 | F6: 인건비 | G6: 급여 | I6: 사무국 | J6: 자부담 | K6: 1267580 | L6: 예금 | M6: 계좌 | N6: 이체확인증 | Q6: 조아라 | R6: ○제 목 : 조아라간사 1월 급여지급 ○급여총액 : 1,380,000원 ○예수금 :112,420원 국민연금 62,100 장기요양2,540 건강보험 38,910 소득세 8,070 주민세 800 ○예수금 공제 후 지급액 1,267,580원 *원천징수영수증 - 반기납부 사업장으로 반기분 합산영수증 첨부
A7: 1201-0006 | B7: 2012-01-02 | C7: 2012-01-02 | D7: 1월상여금 조아라 | E7: 운영비 | F7: 인건비 | G7: 상여금 | I7: 사무국 | J7: 자부담 | K7: 600000 | L7: 예금 | M7: 계좌 | N7: 이체확인증 | Q7: 조아라 | R7: ○제 목 : 조아라간사 1월 상여금 지급 ○상여금액 : 600,000원
A8: 1201-0007 | B8: 2012-01-02 | C8: 2012-01-02 | D8: 1월급여 지급 진혜료 | E8: 운영비 | F8: 인건비 | G8: 급여 | I8: 사무국 | J8: 자부담 | K8: 1483940 | L8: 예금 | M8: 계좌 | N8: 이체확인증 | Q8: 진혜료 | R8: ○제 목 : 진혜료사무국장 1월 급여지급 ○급여총액 : 1,620,000원 ○예수금 :136,060원 국민연금 72,900 장기요양2,990 건강보험 45,680 소득세 13,810 주민세 1,310 ○예수금 공제 후 지급액 1,483,940원 *원천징수영수증 - 반기납부 사업장으로 반기분 합산영수증 첨부
A9: 1201-0008 | B9: 2012-01-02 | C9: 2012-01-02 | D9: 1월상여금 진혜료 | E9: 운영비 | F9: 인건비 | G9: 상여금 | I9: 사무국 | J9: 자부담 | K9: 600000 | L9: 예금 | M9: 계좌 | N9: 이체확인증 | Q9: 진혜료 | R9: ○제 목 : 진혜료사무국장 1월 상여금 지급 ○상여금액 : 600,000원
A10: 1201-0009 | B10: 2012-01-02 | C10: 2012-01-02 | D10: 활동비 | E10: 사업비 | F10: 진행비 | G10: 활동비 | I10: 가정방문보건의료 | J10: 자부담 | K10: 8500 | L10: 예금 | M10: 카드 | N10: 카드전표 | Q10: 김밥천국 | R10: ○제 목 : 활동비 ○채 주 : 김밥천국 ○내 역 : 조아라 외 2명 ○금 액 : 8,500원
A11: 1201-0010 | B11: 2012-01-02 | C11: 2012-01-02 | D11: 지역사회NGO실습 교제 구입 | E11: 사업비 | F11: 진행비 | G11: 행사준비비 | I11: 생명사랑 교육연구 | J11: 자부담 | K11: 24300 | L11: 예금 | M11: 카드 | N11: 카드전표 | Q11: 옥션(1588-0184) | R11: 지역사회NGO실습 교제 구입
A12: 1201-0011 | B12: 2012-01-02 | C12: 2012-01-02 | D12: 2011-12월전기료 | E12: 운영비 | F12: 관리비 | G12: 공공요금 | I12: 사무국 | J12: 자부담 | K12: 92010 | L12: 예금 | M12: 계좌 | N12: 이체확인증,영수증(공과금 별도화일 보관) | Q12: 12월전기료 | R12: ○제 목 : 12월 전기료 납부 ○채 주 : 한국전력공사 ○내 역 : 전기료 2011.12월 사용료 ○금 액 : 92,010원
A13: 1201-0012 | B13: 2012-01-02 | C13: 2012-01-02 | D13: 지역사회복지네트워크 분당금 | E13: 사업비 | F13: 진행비 | G13: 사업홍보/네트워크비 | I13: 사무국 | J13: 자부담 | K13: 100300 | L13: 예금 | M13: 계좌 | N13: 이체확인증 | Q13: #088110258690582/신한/김성훈 | R13: ○제 목 : 지역사회복지네트워크 분당금 ○채 주 : 김성훈(강북지역복지네트워크 대표) ○내 역 : 지역사회복지네트워크 분당금 2월 ○금 액 : 100,300원
... A204: 1203-0051 | B204: 2012.03.26 | C204: 2012.03.26 | D204: 삼성에스디에스 요금 | E204: 운영비 | F204: 관리비 | G204: 우편통신비 | I204: 사무국 | J204: 자부담 | K204: 64510 | L204: 예금 | M204: 계좌 | N204: 영수증 | Q204: 03삼성에스디에 | R204: ○제 목 : 2월 삼성에스디에스 요금 납부 ○채 주 : 삼성에스디에스 ○내 역 : 2월 삼성에스디에스 요금 ○금 액 : 66,100원
A205: 1203-0052 | B205: 2012.03.27 | C205: 2012.03.27 | D205: 활동비 지출 | E205: 사업비 | F205: 진행비 | G205: 활동비 | I205: 공부방어린이보건의료 | J205: 자부담 | K205: 15000 | L205: 예금 | M205: 카드 | N205: 카드전표 | Q205: 전주기사식당 | R205: ○제 목 : 활동비 ○채 주 : 전주기사식당 ○내 역 : 조아라 외 2명 ○금 액 : 15,000원 | S205: ○제 목 : 2월 전기료 납부 ○채 주 : 한국전력공사 ○내 역 : 전기료 2월 사용료 ○금 액 : 101,870원
A206: 1203-0053 | B206: 2012.03.27 | C206: 2012.03.27 | D206: 활동비 지출 | E206: 사업비 | F206: 진행비 | G206: 활동비 | I206: 공부방어린이보건의료 | J206: 자부담 | K206: 37880 | L206: 예금 | M206: 카드 | N206: 카드전표 | Q206: 강북농수산물유통센터 | R206: ○제 목 : 활동비 ○채 주 : 강북농수산물유통센터 ○내 역 : 봉사자 다과비 ○금 액 : 37,880원
A207: 1203-0054 | B207: 2012.03.27 | C207: 2012.03.27 | D207: 이후연 봉사자 감사선물 | E207: 사업비 | F207: 진행비 | G207: 활동비 | I207: 사무국 | J207: 자부담 | K207: 50000 | L207: 예금 | M207: 카드 | N207: 카드전표 | Q207: 교보핫트랙스(주) | R207: ○제 목 : 활동비 ○채 주 : 강북농수산물유통센터 ○내 역 : 봉사자 선물비(이후연) 도서상품권 ○금 액 : 50,000원
A208: 1203-0055 | B208: 2012.03.28 | C208: 2012.03.28 | D208: 활동비 지출 | E208: 사업비 | F208: 진행비 | G208: 활동비 | I208: 공부방어린이보건의료 | J208: 자부담 | K208: 39600 | L208: 예금 | M208: 카드 | N208: 카드전표 | Q208: 홈플러스테스코(주)방 | R208: ○제 목 : 활동비 ○채 주 : 강북농수산물유통센터 ○내 역 : 봉사자식사비 ○금 액 : 39,600원
A209: 1203-0056 | B209: 2012.03.28 | C209: 2012.03.28 | D209: 활동비 지출 | E209: 사업비 | F209: 진행비 | G209: 활동비 | I209: 공부방어린이보건의료 | J209: 자부담 | K209: 23000 | L209: 예금 | M209: 카드 | N209: 카드전표 | Q209: 영이네농장 | R209: ○제 목 : 활동비 ○채 주 : 전주기사식당 ○내 역 : 조아라 외 3명 ○금 액 : 23,000원
A210: 1203-0057 | B210: 2012.03.28 | C210: 2012.03.28 | D210: 우편비 지출 | E210: 운영비 | F210: 관리비 | G210: 우편통신비 | I210: 사무국 | J210: 자부담 | K210: 13740 | L210: 예금 | M210: 카드 | N210: 카드전표 | Q210: 서울강북우체국 | R210: ○제 목 : 우편비 지출 ○채 주 : 서울강북우체국 ○내 역 : 봉사활동 확인서 ○금 액 : 13,740원
A211: 1203-0058 | B211: 2012.03.29 | C211: 2012.03.29 | D211: 활동비 지출 | E211: 사업비 | F211: 진행비 | G211: 활동비 | I211: 공부방어린이보건의료 | J211: 자부담 | K211: 29000 | L211: 예금 | M211: 카드 | N211: 카드전표 | Q211: 백운맛집식당 | R211: ○제 목 : 활동비 ○채 주 : 백운맛집식당 ○내 역 : 진혜료 외 3명 ○금 액 : 29,000원
A212: 1203-0059 | B212: 2012.03.29 | C212: 2012.03.29 | D212: 활동비 지출 | E212: 사업비 | F212: 진행비 | G212: 활동비 | I212: 공부방어린이보건의료 | J212: 자부담 | K212: 4500 | L212: 예금 | M212: 카드 | N212: 카드전표 | Q212: 강북농수산물유통센터 | R212: ○제 목 : 활동비 ○채 주 : 강북농수산물유통센터 ○내 역 : 봉사자 다과비 ○금 액 : 4,500원
A213: 1203-0060 | B213: 2012.03.29 | C213: 2012.03.29 | D213: 1월 정서치료비 | E213: 사업비 | F213: 진행비 | G213: 심리검사및 치료 | I213: 공부방어린이보건의료 | J213: 자부담 | K213: 835200 | L213: 예금 | M213: 계좌 | N213: 이체확인증/치료내역서, 공문 - 별도철 보관 | Q213: 제일서울사이버대학교 | R213: ○제 목 : 공부방아동 정서치료비 ○채 주 : 서울사이버대학교 심리상담센터 ○내 역 : 공부방 아동12명 심리정서 치료비(4주) ○금 액 : 835,200원
A214: 1203-0061 | B214: 2012.03.29 | C214: 2012.03.29 | D214: 우편비 지출 | E214: 운영비 | F214: 관리비 | G214: 우편통신비 | I214: 사무국 | J214: 자부담 | K214: 3900 | L214: 예금 | M214: 카드 | N214: 카드전표 | Q214: 서울강북우체국 | R214: ○제 목 : 우편비 지출 ○채 주 : 서울강북우체국 ○내 역 : 봉사활동 확인서 ○금 액 : 3,900원
A215: 1203-0062 | B215: 2012.03.29 | C215: 2012.03.29 | D215: 신발장 구입 | E215: 운영비 | F215: 관리비 | G215: 소모품비 | I215: 사무국 | J215: 자부담 | K215: 53500 | L215: 예금 | M215: 카드 | N215: 카드전표 | Q215: 11번가(1599-0110) | R215: ○제 목 : 사무실 용품 구입 ○채 주 : 11번가 ○내 역 : 사무실신발장 구입 1개 ○금 액 : 101,800원
A216: 1203-0063 | B216: 2012.03.30 | C216: 2012.03.30 | D216: 활동비 지출 | E216: 사업비 | F216: 진행비 | G216: 활동비 | I216: 공부방어린이보건의료 | J216: 자부담 | K216: 12000 | L216: 예금 | M216: 카드 | N216: 카드전표 | Q216: 원할머니보삼미아역점 | R216: ○제 목 : 활동비 ○채 주 : 백운맛집식당 ○내 역 : 김영진 외 1명 ○금 액 : 12,000원
A217: 1203-0064 | B217: 2012.03.30 | C217: 2012.03.30 | D217: 외장하드 구입 | E217: 운영비 | F217: 관리비 | G217: 소모품비 | I217: 사무국 | J217: 자부담 | K217: 160000 | L217: 예금 | M217: 카드 | N217: 카드전표 | Q217: 교보핫트랙스(주) | R217: ○제 목 : 사무실 용품 구입 ○채 주 : 교보핫트랙스(주) ○내 역 : 외장하드 구입 1개 ○금 액 : 160,000원
... A264: 1204-0042 | B264: 2012.04.25 | C264: 2012.04.25 | D264: 우편비 지출 | E264: 운영비 | F264: 관리비 | G264: 우편통신비 | I264: 사무국 | J264: 자부담 | K264: 1860 | L264: 예금 | M264: 카드 | N264: 카드전표 | Q264: 서울강북우체국 | R264: ○제 목 : 기부금영수증 발송 ○채 주 : 서울강북우체국 ○내 역 : 기부금영수증 발송
A265: 1204-0043 | B265: 2012.04.25 | C265: 2012.04.25 | D265: 가정방문 교통비 | E265: 운영비 | F265: 관리비 | G265: 여비교통비 | I265: 가정방문보건의료 | J265: 자부담 | K265: 3000 | L265: 예금 | M265: 카드 | N265: 카드전표 | P265: 체크카드 | Q265: 티머니택시(서울) | R265: ○제 목 : 가정방문 교통비 ○채 주 : 티머니택시(서울) ○내 역 : 박순례님댁 방문
A266: 1204-0044 | B266: 2012.04.25 | C266: 2012.04.25 | D266: 활동비 지출 | E266: 사업비 | F266: 진행비 | G266: 활동비 | I266: 공부방어린이보건의료 | J266: 자부담 | K266: 10600 | L266: 예금 | M266: 카드 | N266: 카드전표 | Q266: 한아름슈퍼 | R266: ○제 목 : 활동비 지출 ○채 주 : 동북민우회생협 ○내 역 : 사무실 반찬류
A267: 1204-0045 | B267: 2012.04.25 | C267: 2012.04.25 | D267: 정수기 관리비 | E267: 운영비 | F267: 관리비 | G267: 정수기관리비 | I267: 사무국 | J267: 자부담 | K267: 33900 | L267: 예금 | M267: 계좌 | N267: 세금계산서(공과금 영수증철 별도 보관) | Q267: 웅진렌탈02 | R267: ○제 목 : 정수기관리비 ○채 주 : 웅진렌탈 ○내 역 : 4월정수기관리비
A268: 1204-0046 | B268: 2012.04.25 | C268: 2012.04.25 | D268: 삼성에스디에스 요금 | E268: 운영비 | F268: 관리비 | G268: 우편통신비 | I268: 사무국 | J268: 자부담 | K268: 73340 | L268: 예금 | M268: 계좌 | N268: 영수증(공과금 별도화일 보관) | Q268: 04삼성에스디에스 | R268: ○제 목 : 4월 삼성에스디에스 요금 납부 ○채 주 : 삼성에스디에스 ○내 역 : 4월 삼성에스디에스 요금
A269: 1204-0047 | B269: 2012.04.26 | C269: 2012.04.26 | D269: 김유리치과 치료비 지원 | E269: 사업비 | F269: 진행비 | G269: 치과의료지원비 | I269: 공부방어린이보건의료 | J269: 자부담 | K269: 247000 | L269: 예금 | M269: 계좌 | N269: 이체확인증 | Q269: 손영민(연세수치과) | R269: ○제 목 : 김유리치과 치료비 지원 ○채 주 : 손영민(연세수치과) ○내 역 : 김유리치과 치료비 지원(충치치료)
A270: 1204-0048 | B270: 2012.04.26 | C270: 2012.04.26 | D270: 우편비 지출 | E270: 운영비 | F270: 관리비 | G270: 우편통신비 | I270: 사무국 | J270: 자부담 | K270: 1860 | L270: 예금 | M270: 카드 | N270: 카드전표 | Q270: 서울강북우체국 | R270: ○제 목 : 기부금영수증 발송 ○채 주 : 서울강북우체국 ○내 역 : 기부금영수증 발송
A271: 1204-0049 | B271: 2012.04.26 | C271: 2012.04.26 | D271: LG유선 통신비 | E271: 운영비 | F271: 관리비 | G271: 우편통신비 | I271: 사무국 | J271: 자부담 | K271: 39010 | L271: 예금 | M271: 계좌 | N271: 영수증(공과금 별도화일 보관) | Q271: LGU+통신 | R271: ○제 목 : 4월 LG유선통신 요금 ○채 주 : LG유선통신 ○내 역 : 4월 LG유선통신 요금
A272: 1204-0050 | B272: 2012.04.27 | C272: 2012.04.27 | D272: 차량주유비 지출 | E272: 운영비 | F272: 관리비 | G272: 차량유지비 | I272: 사무국 | J272: 자부담 | K272: 20000 | L272: 예금 | M272: 카드 | N272: 카드전표 | Q272: (주)대천에너지동원주유소 | R272: ○제 목 : 차량 주유비 ○채 주 : (주)대천에너지동원주유소 ○내 역 : 차량 주유비
A273: 1204-0051 | B273: 2012.04.28 | C273: 2012.04.28 | D273: 활동비 지출 | E273: 사업비 | F273: 진행비 | G273: 활동비 | I273: 공부방어린이보건의료 | J273: 자부담 | K273: 12650 | L273: 예금 | M273: 카드 | N273: 카드전표 | Q273: 한아름슈퍼 | R273: ○제 목 : 활동비 지출(밝누모) ○채 주 : 동북민우회생협 ○내 역 : 사무실 다과류
A274: 1204-0052 | B274: 2012.04.28 | C274: 2012.04.28 | D274: 활동비 지출 | E274: 사업비 | F274: 진행비 | G274: 활동비 | I274: 공부방어린이보건의료 | J274: 자부담 | K274: 64500 | L274: 예금 | M274: 카드 | N274: 카드전표 | Q274: 패티앤빅왕돈가스 | R274: ○제 목 : 활동비 지출(밝누모) ○채 주 : 패티앤빅왕돈가스 ○내 역 : 밝누모 식사비(10명)
A275: 1204-0053 | B275: 2012.04.30 | C275: 2012.04.30 | D275: 활동비 지출 | E275: 사업비 | F275: 진행비 | G275: 활동비 | I275: 공부방어린이보건의료 | J275: 자부담 | K275: 10000 | L275: 예금 | M275: 카드 | N275: 카드전표 | Q275: 삼대냉면 | R275: ○제 목 : 활동비 지출 ○채 주 : 삼대냉면 ○내 역 : 조아라 외 1명
A276: 1204-0054 | B276: 2012.04.30 | C276: 2012.04.30 | D276: 활동비 지출 | E276: 사업비 | F276: 진행비 | G276: 활동비 | I276: 공부방어린이보건의료 | J276: 자부담 | K276: 28900 | L276: 예금 | M276: 카드 | N276: 카드전표 | Q276: 한아름슈퍼 | R276: ○제 목 : 활동비 지출 ○채 주 : 동북민우회생협 ○내 역 : 사무실 소모품
A277: 1204-0055 | B277: 2012.04.30 | C277: 2012.04.30 | D277: 손민우 심리치료비 지원 | E277: 사업비 | F277: 진행비 | G277: 심리검사및 치료 | I277: 공부방어린이보건의료 | J277: 자부담 | K277: 396800 | L277: 예금 | M277: 계좌 | N277: 이체확인증,영수증 | Q277: 하나김양렬서울탑정신과 | R277: ○제 목 : 손민우 정신과 의료비 지원 ○치료병원 : 서울탑정신과 ○채 주 : 하나김양렬서울탑정신과 ○내 역 : 손민우 정신과진료비(검사비-풀밧데리검사) 지원 ○금 액 : 396,800원
... A349: 1205-0068 | B349: 2012.05.16 | C349: 2012.05.16 | D349: CMS사용료 | E349: 운영비 | F349: 관리비 | G349: 지급수수료 | I349: 사무국 | J349: 자부담 | K349: 145365 | L349: 예금 | M349: 계좌 | N349: 세금계산서 | Q349: CMS수수료 | R349: ○제 목 : CMS사용료 ○채 주 : 엔콤소프트 ○금 액 : 72,655원
A350: 1205-0069 | B350: 2012.05.07 | C350: 2012.05.07 | D350: 보조금이자 환급 | E350: 운영비 | F350: 관리비 | G350: 지급수수료 | I350: 사무국 | J350: 서울시 | K350: 3712 | L350: 예금 | M350: 계좌 | N350: 이체확인증 | Q350: 서울시 | R350: ○제 목 : 서울시정사업 보조금 이자 환급 ○채 주 : 서울시 ○내 역 : 서울시 보조금 이자 3,712원 | S350: 보조금이자환급
A351: 1205-0070 | B351: 2012.05.12 | C351: 2012.05.12 | D351: 활동비 지출 | E351: 사업비 | F351: 진행비 | G351: 활동비 | I351: 가정방문보건의료 | J351: 서울시 | K351: 249000 | L351: 예금 | M351: 카드 | N351: 카드전표,이체확인증(서울시사업 지출결의서에 첨부) | Q351: 진가설렁탕/ 아름다운생명사랑 | R351: ○제 목 : 생명사랑의료학교 저녁식사비 ○채 주 : 진가설렁탕 ○내 역 : 홍종원외 1명 ○금 액 : 249,000원 * 자부담후 아름다운생명사랑 계좌로 전입(사업비 미입금 중 사업진행)
A352: 1205-0071 | B352: 2012.05.12 | C352: 2012.05.12 | D352: 활동비 지출 | E352: 사업비 | F352: 진행비 | G352: 활동비 | I352: 가정방문보건의료 | J352: 서울시 | K352: 118280 | L352: 예금 | M352: 카드 | N352: 카드전표,이체확인증(서울시사업 지출결의서에 첨부) | Q352: 강북농수산물유통센터/ 아름다운생명사랑 | R352: ○제 목 : 생명사랑의료학교 간식비 ○채 주 : 강북농수산물유통센터 ○내 역 : 홍종원외 1명 ○금 액 : 118,280원 * 자부담후 아름다운생명사랑 계좌로 전입(사업비 미입금 중 사업진행)
A353: 1205-0072 | B353: 2012.05.24 | C353: 2012.05.24 | D353: 의료학교 강사비-이충형 | E353: 사업비 | F353: 진행비 | G353: 행사준비비 | I353: 생명사랑 교육연구 | J353: 서울시 | K353: 230000 | L353: 예금 | M353: 계좌 | N353: 이체확인증,이력서,강의확인서(서울시사업 지출결의서에 첨부) | Q353: 이충형 | R353: ○제 목 : 생명사랑의료학교 강사비 ○채 주 : 이충형 ○내 역 : 강의료 ○금 액 : 230,000원 | S353: 기업교육강사비이충형
A354: 1205-0073 | B354: 2012.05.24 | C354: 2012.05.24 | D354: 의료학교강사비-장원모 | E354: 사업비 | F354: 진행비 | G354: 행사준비비 | I354: 생명사랑 교육연구 | J354: 서울시 | K354: 135000 | L354: 예금 | M354: 계좌 | N354: 이체확인증,이력서,강의확인서(서울시사업 지출결의서에 첨부) | Q354: 장원모 | R354: ○제 목 : 생명사랑의료학교 강사비 ○채 주 : 장원모 ○내 역 : 강의료 ○금 액 : 135,000원 | S354: 신한교육강사비장원모
A355: 1205-0074 | B355: 2012.05.24 | C355: 2012.05.24 | D355: 의료학교강사비-강충원 | E355: 사업비 | F355: 진행비 | G355: 행사준비비 | I355: 생명사랑 교육연구 | J355: 서울시 | K355: 135000 | L355: 예금 | M355: 계좌 | N355: 이체확인증,이력서,강의확인서(서울시사업 지출결의서에 첨부) | Q355: 강충원 | R355: ○제 목 : 생명사랑의료학교 강사비 ○채 주 : 강충원 ○내 역 : 강의료 ○금 액 : 135,000원 | S355: 신한교육강사비강충원
A356: 1205-0075 | B356: 2012.05.24 | C356: 2012.05.24 | D356: 의료학교강사비-홍종원 | E356: 사업비 | F356: 진행비 | G356: 행사준비비 | I356: 생명사랑 교육연구 | J356: 서울시 | K356: 135000 | L356: 예금 | M356: 계좌 | N356: 이체확인증,이력서,강의확인서(서울시사업 지출결의서에 첨부) | Q356: 홍종원 | R356: ○제 목 : 생명사랑의료학교 강사비 ○채 주 : 홍종원 ○내 역 : 강의료 ○금 액 : 135,000원 | S356: 국민교육강사비홍종원
A357: 1205-0076 | B357: 2012.05.24 | C357: 2012.05.24 | D357: 사례자문회의비-손홍석 | E357: 사업비 | F357: 진행비 | G357: 행사준비비 | I357: 생명사랑 교육연구 | J357: 서울시 | K357: 100000 | L357: 예금 | M357: 계좌 | N357: 이체확인증,회의록,회의비지급확인서(서울시사업 지출결의서에 첨부) | Q357: 손홍석 | R357: ○제 목 : 사례자문회의비 ○채 주 : 손홍석 ○내 역 : 사례자문회의비 ○금 액 : 100,000원 | S357: 농협자문회의비손홍석
A358: 1205-0077 | B358: 2012.05.24 | C358: 2012.05.24 | D358: 사례자문회의비-홍남기 | E358: 사업비 | F358: 진행비 | G358: 행사준비비 | I358: 생명사랑 교육연구 | J358: 서울시 | K358: 100000 | L358: 예금 | M358: 계좌 | N358: 이체확인증,회의록,회의비지급확인서(서울시사업 지출결의서에 첨부) | Q358: 홍남기 | R358: ○제 목 : 사례자문회의비 ○채 주 : 홍남기 ○내 역 : 사례자문회의비 ○금 액 : 100,000원 | S358: 국민자문회의비홍남기
A359: 1205-0078 | B359: 2012.05.24 | C359: 2012.05.24 | D359: 사례자문회의비-김현수 | E359: 사업비 | F359: 진행비 | G359: 행사준비비 | I359: 생명사랑 교육연구 | J359: 서울시 | K359: 100000 | L359: 예금 | M359: 계좌 | N359: 이체확인증,회의록,회의비지급확인서(서울시사업 지출결의서에 첨부) | Q359: 김현수 | R359: ○제 목 : 사례자문회의비 ○채 주 : 김현수 ○내 역 : 사례자문회의비 ○금 액 : 100,000원 | S359: 국민자문회의비김현수
A360: 1205-0079 | B360: 2012.05.24 | C360: 2012.05.24 | D360: 사례자문회의비-임열리 | E360: 사업비 | F360: 진행비 | G360: 행사준비비 | I360: 생명사랑 교육연구 | J360: 서울시 | K360: 100000 | L360: 예금 | M360: 계좌 | N360: 이체확인증,회의록,회의비지급확인서(서울시사업 지출결의서에 첨부) | Q360: 임열리 | R360: ○제 목 : 사례자문회의비 ○채 주 : 임열리 ○내 역 : 사례자문회의비 ○금 액 : 100,000원 | S360: 국민자문회의비임열리
A361: 1205-0080 | B361: 2012.05.24 | C361: 2012.05.24 | D361: 사례자문회의비-박철우 | E361: 사업비 | F361: 진행비 | G361: 행사준비비 | I361: 생명사랑 교육연구 | J361: 서울시 | K361: 100000 | L361: 예금 | M361: 계좌 | N361: 이체확인증,회의록,회의비지급확인서(서울시사업 지출결의서에 첨부) | Q361: 박철우 | R361: ○제 목 : 사례자문회의비 ○채 주 : 박철우 ○내 역 : 사례자문회의비 ○금 액 : 100,000원 | S361: 국민자문회의비박철우
A362: 1205-0081 | B362: 2012.05.24 | C362: 2012.05.24 | D362: 사례자문회의비-백수정 | E362: 사업비 | F362: 진행비 | G362: 행사준비비 | I362: 생명사랑 교육연구 | J362: 서울시 | K362: 100000 | L362: 예금 | M362: 계좌 | N362: 이체확인증,회의록,회의비지급확인서(서울시사업 지출결의서에 첨부) | Q362: 백수정 | R362: ○제 목 : 사례자문회의비 ○채 주 : 백수정 ○내 역 : 사례자문회의비 ○금 액 : 100,000원 | S362: 국민자문회의비백수정
A363: 1205-0082 | B363: 2012.05.24 | C363: 2012.05.24 | D363: 사례자문회의비-홍종원 | E363: 사업비 | F363: 진행비 | G363: 행사준비비 | I363: 생명사랑 교육연구 | J363: 서울시 | K363: 100000 | L363: 예금 | M363: 계좌 | N363: 이체확인증,회의록,회의비지급확인서(서울시사업 지출결의서에 첨부) | Q363: 홍종원 | R363: ○제 목 : 사례자문회의비 ○채 주 : 홍종원 ○내 역 : 사례자문회의비 ○금 액 : 100,000원 | S363: 국민자문회의비홍종원
A364: 1205-0083 | B364: 2012.05.24 | C364: 2012.05.24 | D364: 의료학교 도서비 | E364: 사업비 | F364: 진행비 | G364: 행사준비비 | I364: 생명사랑 교육연구 | J364: 서울시 | K364: 101500 | L364: 예금 | M364: 계좌 | N364: 이체확인증,회의록,회의비지급확인서(서울시사업 지출결의서에 첨부) | Q364: 알라딘/아름다운생명사랑 | R364: ○제 목 : 생명사랑의료학교 도서구입비 ○채 주 : 조아라 ○내 역 : 도서구입비(5권) ○금 액 : 101,500원 | S364: 국민교육행사도서비
A365: 1205-0084 | B365: 2012.05.29 | C365: 2012.05.29 | D365: 영양보충제 구입비 | E365: 사업비 | F365: 진행비 | G365: 영양보충비 | I365: 가정방문보건의료 | J365: 서울시 | K365: 102400 | L365: 예금 | M365: 카드 | N365: 카드전표 | Q365: Ｇ마켓＿１５６６ | R365: ○제 목 : 영양보충제 구입비 ○채 주 : G마켓 ○내 역 : 30캔*4box ○금 액 : 102,400원 | S365: Ｇ마켓＿１５６６
A366: 1206-0001 | B366: 2012.06.01 | C366: 2012.06.01 | D366: 조아라간사 6월 급여 | E366: 운영비 | F366: 인건비 | G366: 급여 | I366: 사무국 | J366: 자부담 | K366: 1483940 | L366: 예금 | M366: 계좌 | N366: 이체확인증 | Q366: 진혜료 | R366: 조아라간사 6월 급여
A367: 1206-0002 | B367: 2012.06.01 | C367: 2012.06.01 | D367: 진혜료간사 6월 급여 | E367: 운영비 | F367: 인건비 | G367: 급여 | I367: 사무국 | J367: 자부담 | K367: 1267580 | L367: 예금 | M367: 계좌 | N367: 이체확인증 | Q367: 조아라 | R367: 진혜료간사 6월 급여
A368: 1206-0003 | B368: 2012.06.01 | C368: 2012.06.01 | D368: 활동비 지출 | E368: 사업비 | F368: 진행비 | G368: 활동비 | I368: 가정방문보건의료 | J368: 자부담 | K368: 6000 | L368: 예금 | M368: 카드 | N368: 카드전표 | Q368: 다라수감자탕 | R368: 활동비 지출
A369: 1206-0004 | B369: 2012.06.01 | C369: 2012.06.01 | D369: 활동비 지출 | E369: 사업비 | F369: 진행비 | G369: 활동비 | I369: 가정방문보건의료 | J369: 자부담 | K369: 18000 | L369: 예금 | M369: 카드 | N369: 카드전표 | Q369: 인사동찜닭전문 | R369: 활동비 지출
A370: 1206-0005 | B370: 2012.06.02 | C370: 2012.06.02 | D370: 진혜료간사 생일 꽃구입 | E370: 사업비 | F370: 진행비 | G370: 활동비 | I370: 사무국 | J370: 자부담 | K370: 20000 | L370: 예금 | M370: 카드 | N370: 카드전표 | Q370: 동궁화원 | R370: 진혜료간사 생일 꽃구입
A371: 1206-0006 | B371: 2012.06.04 | C371: 2012.06.04 | D371: 나눔과셈 수수료 | E371: 운영비 | F371: 관리비 | G371: 지급수수료 | I371: 사무국 | J371: 자부담 | K371: 44000 | L371: 예금 | M371: 계좌 | N371: 세금계산서 | Q371: (주)엔지오웨어 | R371: 나눔과셈 수수료
A372: 1206-0007 | B372: 2012.06.04 | C372: 2012.06.04 | D372: 약사회 의약품 전달식 현수막 제작비 | E372: 사업비 | F372: 진행비 | G372: 행사준비비 | I372: 공부방어린이보건의료 | J372: 자부담 | K372: 24500 | L372: 예금 | M372: 계좌 | N372: 이체확인증 | Q372: 구자권(오렌지애드) | R372: 약사회 의약품 전달식 현수막 제작비
A373: 1206-0008 | B373: 2012.06.05 | C373: 2012.06.05 | D373: 활동비 지출 | E373: 사업비 | F373: 진행비 | G373: 활동비 | I373: 가정방문보건의료 | J373: 자부담 | K373: 21000 | L373: 예금 | M373: 카드 | N373: 카드전표 | Q373: 백운맛집식당 | R373: 활동비 지출
A374: 1206-0009 | B374: 2012.06.05 | C374: 2012.06.05 | D374: 캄보디아 항공비 | E374: 사업비 | F374: 진행비 | G374: 행사준비비 | I374: 동남아시아보건의료 | J374: 자부담 | K374: 8666500 | L374: 예금 | M374: 계좌 | N374: 이체확인증 | Q374: 코엑스여행사 | R374: 캄보디아 항공비
A375: 1206-0010 | B375: 2012.06.05 | C375: 2012.06.05 | D375: 지역사회복지네트워크 분당금 | E375: 사업비 | F375: 진행비 | G375: 활동비 | I375: 사무국 | J375: 자부담 | K375: 100300 | L375: 예금 | M375: 계좌 | N375: 이체확인증 | Q375: 최건철 | R375: 강북지역복지네트워크 회비
A376: 1206-0011 | B376: 2012.06.07 | C376: 2012.06.07 | D376: 활동비 지출 | E376: 사업비 | F376: 진행비 | G376: 활동비 | I376: 가정방문보건의료 | J376: 자부담 | K376: 12000 | L376: 예금 | M376: 카드 | N376: 카드전표 | Q376: 인사동찜닭전문 | R376: 활동비 지출
A377: 1206-0012 | B377: 2012.06.08 | C377: 2012.06.08 | D377: 캄보디아 항공비 | E377: 사업비 | F377: 진행비 | G377: 행사준비비 | I377: 동남아시아보건의료 | J377: 자부담 | K377: 2476500 | L377: 예금 | M377: 계좌 | N377: 이체확인증 | Q377: 코엑스여행사 | R377: 캄보디아 항공비
... A414: 1206-0049 | B414: 2012.06.18 | C414: 2012.06.18 | D414: CMS사용료 | E414: 운영비 | F414: 관리비 | G414: 지급수수료 | I414: 사무국 | J414: 자부담 | K414: 147565 | L414: 예금 | M414: 계좌 | N414: 세금계산서 | Q414: CMS수수료 | R414: CMS사용료
A415: 1206-0050 | B415: 2012.06.07 | C415: 2012.06.07 | D415: 교통카드충전 | E415: 운영비 | F415: 관리비 | G415: 지급수수료 | I415: 사무국 | J415: 서울시 | K415: 50000 | L415: 예금 | M415: 현금 | N415: 이체확인증 | R415: 교통카드충전
A416: 1206-0051 | B416: 2012.06.16 | C416: 2012.06.16 | D416: 경로당 강사비 지급 | E416: 사업비 | F416: 진행비 | G416: 행사준비비 | I416: 가정방문보건의료 | J416: 서울시 | K416: 170000 | L416: 예금 | M416: 계좌 | N416: 이체확인증 | Q416: 홍종원 | R416: 경로당 강사비 지급
A417: 1206-0052 | B417: 2012.06.18 | C417: 2012.06.18 | D417: 강북농수산물유통 | E417: 사업비 | F417: 진행비 | G417: 활동비 | I417: 가정방문보건의료 | J417: 서울시 | K417: 11800 | L417: 예금 | M417: 카드 | N417: 카드전표 | Q417: 강북농수산물유통 | R417: 강북농수산물유통
A418: 1206-0053 | B418: 2012.06.23 | C418: 2012.06.23 | D418: 이수내가마솥순두 | E418: 사업비 | F418: 진행비 | G418: 활동비 | I418: 가정방문보건의료 | J418: 서울시 | K418: 44000 | L418: 예금 | M418: 카드 | N418: 카드전표 | Q418: 이수내가마솥순두 | R418: 이수내가마솥순두
A419: 1207-0001 | B419: 2012.07.02 | C419: 2012.07.02 | D419: 진혜료간사 7월 급여 | E419: 운영비 | F419: 인건비 | G419: 급여 | I419: 사무국 | J419: 자부담 | K419: 1483940 | L419: 예금 | M419: 계좌 | N419: 이체확인증 | Q419: 진혜료 | R419: 진혜료간사 7월 급여
A420: 1207-0002 | B420: 2012.07.02 | C420: 2012.07.02 | D420: 조아라 간사 7월 급여 | E420: 운영비 | F420: 인건비 | G420: 급여 | I420: 사무국 | J420: 자부담 | K420: 1267580 | L420: 예금 | M420: 계좌 | N420: 이체확인증 | Q420: 조아라 | R420: 조아라 간사 7월 급여
A421: 1207-0003 | B421: 2012.07.02 | C421: 2012.07.02 | D421: 조아라 간사 상여금 | E421: 운영비 | F421: 인건비 | G421: 상여금 | I421: 사무국 | J421: 자부담 | K421: 300000 | L421: 예금 | M421: 계좌 | N421: 이체확인증 | Q421: 조아라 | R421: 조아라 간사 상여금
A422: 1207-0004 | B422: 2012.07.02 | C422: 2012.07.02 | D422: 진혜료간사 상여금 | E422: 운영비 | F422: 인건비 | G422: 상여금 | I422: 사무국 | J422: 자부담 | K422: 300000 | L422: 예금 | M422: 계좌 | N422: 이체확인증 | Q422: 진혜료 | R422: 진혜료간사 상여금
A423: 1207-0005 | B423: 2012.07.02 | C423: 2012.07.02 | D423: 앤팩스 사용료 | E423: 운영비 | F423: 관리비 | G423: 지급수수료 | I423: 사무국 | J423: 자부담 | K423: 60000 | L423: 예금 | M423: 카드 | N423: 카드전표 | Q423: KCP(결제대행) | R423: 앤팩스 사용료
A424: 1207-0006 | B424: 2012.07.02 | C424: 2012.07.02 | D424: 활동비 지출 | E424: 사업비 | F424: 진행비 | G424: 활동비 | I424: 가정방문보건의료 | J424: 자부담 | K424: 13200 | L424: 예금 | M424: 카드 | N424: 카드전표 | Q424: 한스델리-번동 | R424: 활동비 지출
A425: 1207-0007 | B425: 2012.07.02 | C425: 2012.07.02 | D425: 조아라 간사 상여금 | E425: 운영비 | F425: 인건비 | G425: 상여금 | I425: 사무국 | J425: 자부담 | K425: 300000 | L425: 예금 | M425: 계좌 | N425: 이체확인증 | Q425: 조아라 | R425: 조아라 간사 상여금
A426: 1207-0008 | B426: 2012.07.02 | C426: 2012.07.02 | D426: 진혜료간사 상여금 | E426: 운영비 | F426: 인건비 | G426: 상여금 | I426: 사무국 | J426: 자부담 | K426: 300000 | L426: 예금 | M426: 계좌 | N426: 이체확인증 | Q426: 진혜료 | R426: 진혜료간사 상여금
A427: 1207-0009 | B427: 2012.07.02 | C427: 2012.07.02 | D427: 비키 치과치료비지원 | E427: 사업비 | F427: 진행비 | G427: 치과의료지원비 | I427: 공부방어린이보건의료 | J427: 자부담 | K427: 6200 | L427: 예금 | M427: 카드 | N427: 카드전표 | Q427: 아이세상치과의원 | R427: 비키 치과치료비지원
... A743: 1210-0069 | B743: 2012.10.27 | C743: 2012.10.27 | D743: 활동가 및 봉사자 식비 | E743: 사업비 | F743: 진행비 | G743: 활동비 | I743: 가정방문보건의료 | J743: 서울시 | K743: 93000 | L743: 예금 | M743: 카드 | N743: 카드전표 | Q743: 수유닭한마리 | R743: 활동가 및 봉사자 식비
A744: 1210-0070 | B744: 2012.10.30 | C744: 2012.10.30 | D744: 활동가 및 봉사자 식비 | E744: 사업비 | F744: 진행비 | G744: 활동비 | I744: 가정방문보건의료 | J744: 서울시 | K744: 89860 | L744: 예금 | M744: 카드 | N744: 카드전표 | R744: 혈압계구입비
A745: 1210-0071 | B745: 2012.10.30 | C745: 2012.10.30 | D745: 의료자원활동가 교육행사 강사비 | E745: 사업비 | F745: 진행비 | G745: 행사준비비 | I745: 가정방문보건의료 | J745: 서울시 | K745: 230000 | L745: 예금 | M745: 계좌이체 | N745: 이체확인증 | Q745: 이충형 | R745: 의료자원활동가 교육행사 강사비
A746: 1210-0072 | B746: 2012.10.30 | C746: 2012.10.30 | D746: 의료자원활동가 교육행사 강사비 | E746: 사업비 | F746: 진행비 | G746: 행사준비비 | I746: 가정방문보건의료 | J746: 서울시 | K746: 135000 | L746: 예금 | M746: 계좌이체 | N746: 이체확인증 | Q746: 장원모 | R746: 의료자원활동가 교육행사 강사비
A747: 1210-0073 | B747: 2012.10.30 | C747: 2012.10.30 | D747: 의료자원활동가 교육행사 강사비 | E747: 사업비 | F747: 진행비 | G747: 행사준비비 | I747: 가정방문보건의료 | J747: 서울시 | K747: 135000 | L747: 예금 | M747: 계좌이체 | N747: 이체확인증 | Q747: 강충원 | R747: 의료자원활동가 교육행사 강사비
A748: 1210-0074 | B748: 2012.10.30 | C748: 2012.10.30 | D748: 의료자원활동가 교육행사 강사비 | E748: 사업비 | F748: 진행비 | G748: 행사준비비 | I748: 가정방문보건의료 | J748: 서울시 | K748: 135000 | L748: 예금 | M748: 계좌이체 | N748: 이체확인증 | Q748: 홍종원 | R748: 의료자원활동가 교육행사 강사비
A749: 1210-0075 | B749: 2012.10.30 | C749: 2012.10.30 | D749: 10월사례자문회의 회의참석비(자문비) | E749: 사업비 | F749: 진행비 | G749: 행사준비비 | I749: 가정방문보건의료 | J749: 서울시 | K749: 100000 | L749: 예금 | M749: 계좌이체 | N749: 이체확인증 | Q749: 손홍석 | R749: 10월사례자문회의 회의참석비(자문비)
A750: 1210-0076 | B750: 2012.10.30 | C750: 2012.10.30 | D750: 10월사례자문회의 회의참석비(자문비) | E750: 사업비 | F750: 진행비 | G750: 행사준비비 | I750: 가정방문보건의료 | J750: 서울시 | K750: 100000 | L750: 예금 | M750: 계좌이체 | N750: 이체확인증 | Q750: 홍남기 | R750: 10월사례자문회의 회의참석비(자문비)
A751: 1210-0077 | B751: 2012.10.30 | C751: 2012.10.30 | D751: 10월사례자문회의 회의참석비(자문비) | E751: 사업비 | F751: 진행비 | G751: 행사준비비 | I751: 가정방문보건의료 | J751: 서울시 | K751: 100000 | L751: 예금 | M751: 계좌이체 | N751: 이체확인증 | Q751: 김현수 | R751: 10월사례자문회의 회의참석비(자문비)
A752: 1210-0078 | B752: 2012.10.30 | C752: 2012.10.30 | D752: 10월사례자문회의 회의참석비(자문비) | E752: 사업비 | F752: 진행비 | G752: 행사준비비 | I752: 가정방문보건의료 | J752: 서울시 | K752: 100000 | L752: 예금 | M752: 계좌이체 | N752: 이체확인증 | Q752: 박철우 | R752: 10월사례자문회의 회의참석비(자문비)
A753: 1210-0079 | B753: 2012.10.30 | C753: 2012.10.30 | D753: 10월사례자문회의 회의참석비(자문비) | E753: 사업비 | F753: 진행비 | G753: 행사준비비 | I753: 가정방문보건의료 | J753: 서울시 | K753: 100000 | L753: 예금 | M753: 계좌이체 | N753: 이체확인증 | Q753: 임유림 | R753: 10월사례자문회의 회의참석비(자문비)
A754: 1210-0080 | B754: 2012.10.30 | C754: 2012.10.30 | D754: 10월사례자문회의 회의참석비(자문비) | E754: 사업비 | F754: 진행비 | G754: 행사준비비 | I754: 가정방문보건의료 | J754: 서울시 | K754: 100000 | L754: 예금 | M754: 계좌이체 | N754: 이체확인증 | Q754: 홍종원 | R754: 10월사례자문회의 회의참석비(자문비)
A755: 1210-0081 | B755: 2012.10.30 | C755: 2012.10.30 | D755: 10월사례자문회의 회의참석비(자문비) | E755: 사업비 | F755: 진행비 | G755: 행사준비비 | I755: 가정방문보건의료 | J755: 서울시 | K755: 100000 | L755: 예금 | M755: 계좌이체 | N755: 이체확인증 | Q755: 이경진 | R755: 10월사례자문회의 회의참석비(자문비)
A756: 1210-0082 | B756: 2012.10.30 | C756: 2012.10.30 | D756: 10월 경로당보건교육 및 상담 강사비 | E756: 사업비 | F756: 진행비 | G756: 행사준비비 | I756: 가정방문보건의료 | J756: 서울시 | K756: 170000 | L756: 예금 | M756: 계좌이체 | N756: 이체확인증 | Q756: 윤동현 | R756: 10월 경로당보건교육 및 상담 강사비
A757: 1210-0083 | B757: 2012.10.31 | C757: 2012.10.31 | D757: 주유비 | E757: 운영비 | F757: 관리비 | G757: 차량유지비 | I757: 사무국 | J757: 서울시 | K757: 34112 | L757: 예금 | M757: 카드 | N757: 카드전표 | Q757: ＳＫ네트웍스（주 ) | R757: 주유비 | S757: 이수내가마솥순두 | T757: 이수내가마솥순두
A758: 1211-0001 | B758: 2012.11.01 | C758: 2012.11.01 | D758: 조아라간사 상여금 | E758: 운영비 | F758: 인건비 | G758: 상여금 | I758: 사무국 | J758: 자부담 | K758: 600000 | L758: 예금 | M758: 계좌 | N758: 이체확인증 | Q758: 조아라 | R758: 조아라간사 상여금
...

Sheet 2013급여
D1: < 인건비 세부변경 내역 >
D2: 아생사 현 기준 (2012예산) | F2: 기본급 | G2: 호봉 | H2: 상여금 | Q2: 연봉 | R2: 월평균 총액 | S2: 월 공제액 | T2: 월평균 실수령 | V2: 사업비,운영비 | W2: 160000000 | X2: =I18/W37 -> #DIV/0!
D3: (기본급1,300,000) | E3: 2호봉 | F3: 15600000 | G3: 960000 | H3: 3600000 | Q3: 20160000 | R3: =Q3/12 -> 1680000 | S3: 112420 | T3: =R3-S3 -> 1567580 | V3: 인건비 | W3: =I27 -> 57976013
D4: (1호봉 40,000) | E4: 8호봉 | F4: 15600000 | G4: 3840000 | H4: 3600000 | Q4: 23040000 | R4: =Q4/12 -> 1920000 | S4: 136060 | T4: =R4-S4 -> 1783940
F6: 연봉 | G6: 4대보험 | H6: 퇴직적립
E7: 2호봉 | F7: =Q3 -> 20160000 | G7: =S3*12 -> 1349040 | H7: 1680000 | W7: 139990
E8: 8호봉 | F8: =Q4 -> 23040000 | G8: =S4*12 -> 1632720 | H8: 1920000 | V8: 사업비,운영비 | W8: 160000000
E9: 총액 | F9: =SUM(F7:F8) -> 43200000 | G9: =SUM(G7:G8) -> 2981760 | H9: =SUM(H7:H8) -> 3600000 | I9: =SUM(F9:H9) -> 49781760 | Q9: 인건비 비율 31% | V9: 인건비 | W9: =I9 -> 49781760
D11: 아생사 현 기준 (2013예산) | F11: 기본급 | G11: 호봉 | H11: 상여금 | Q11: 연봉 | R11: 월평균 총액 | S11: 월 공제액 | T11: 월평균 실수령 | U11: 월평균 증액(원) | W11: =W9/W8 -> 0.311136
D12: (기본급1,350,000) | E12: 3호봉 | F12: =1350000*12 -> 16200000 | G12: =120000*12 -> 1440000 | H12: 3600000 | Q12: =SUM(F12:H12) -> 21240000 | R12: =Q12/12 -> 1770000 | S12: 121270 | T12: =R12-S12 -> 1648730 | U12: =T12-T3 -> 81150
D13: (1홍봉 40,000) | E13: 9호봉 | F13: =1350000*12 -> 16200000 | G13: =360000*12 -> 4320000 | H13: 3600000 | Q13: =SUM(F13:H13) -> 24120000 | R13: =Q13/12 -> 2010000 | S13: 144900 | T13: =R13-S13 -> 1865100 | U13: =T13-T4 -> 81160
F15: 연봉 | G15: 4대보험 | H15: 퇴직적립
E16: 3호봉 | F16: =Q12 -> 21240000 | G16: =S12*12 -> 1455240 | H16: 1770000
E17: 9호봉 | F17: =Q13 -> 24120000 | G17: =S13*12 -> 1738800 | H17: 2010000
E18: 총액 | F18: =SUM(F16:F17) -> 45360000 | G18: =SUM(G16:G17) -> 3194040 | H18: =SUM(H16:H17) -> 3780000 | I18: =SUM(F18:H18) -> 52334040 | Q18: 증액: 255만원/ 예산총액 대비 인건비 비율 33% | V18: 사업비,운영비 | W18: 160000000
D20: 아생사 바뀐기준 (2013예산) | F20: 기본급 | G20: 호봉 | H20: 여름휴가비 | Q20: 연봉 | R20: 월평균 총액 | S20: 월 공제액 | T20: 월평균 실수령 | U20: 월평균 증액(원) | V20: 인건비 | W20: =I18 -> 52334040 | X20: =I17/W18 -> 0
D21: (기본급1,700,000) | E21: 3호봉 | F21: 20400000 | G21: 2160000 | H21: 500000 | Q21: =SUM(F21:H21) -> 23060000 | R21: =Q21/12 -> 1921666.7 | S21: 116370 | T21: =R21-S21 -> 1805296.7 | U21: =T21-T3 -> 237716.67 | W21: =I18-I9 -> 2552280
D22: (1호봉 60,000) | E22: 9호봉 | F22: 20400000 | G22: 6480000 | H22: 500000 | Q22: =SUM(F22:H22) -> 27380000 | R22: =Q22/12 -> 2281666.7 | S22: 139990 | T22: =R22-S22 -> 2141676.7 | U22: =T22-T4 -> 357736.67 | W22: =W20/W18 -> 0.32708775
F24: 연봉 | G24: 4대보험 | H24: 퇴직적립 | Q24: 휴가비 제외 | R24: 월평균 총액 | S24: 월 공제액 | T24: 월평균 실수령
E25: 3호봉 | F25: =Q21 -> 23060000 | G25: =S21*13 -> 1512810 | H25: =R21 -> 1921666.7 | R25: =(F21+G21)/12 -> 1880000 | S25: 88220 | T25: =R25-S25 -> 1791780 | W25: 139990
E26: 9호봉 | F26: =Q22 -> 27380000 | G26: =S22*13 -> 1819870 | H26: =R22 -> 2281666.7 | R26: =(F22+G22)/12 -> 2240000 | S26: 110470 | T26: =R26-S26 -> 2129530 | W26: 116370
E27: 총액 | F27: =SUM(F25:F26) -> 50440000 | G27: =SUM(G25:G26) -> 3332680 | H27: =SUM(H25:H26) -> 4203333.3 | I27: =SUM(F27:H27) -> 57976013 | Q27: 증액: 819만원/ 예산총액 대비 인건비 비율 36% | V27: =I27-I9 -> 8194253.3
B29: 본봉(기본급) | C29: 봉급 | D29: 2012 서울시 사회복지관 종사자 보수지원기준 | E29: 호봉 | F29: 기본급 | G29: 기말수당 (3,6,9,12) | H29: 정근수당 (1,7) | I29: 복지수당 | J29: 직무수당 매월 | K29: 자격 수당 | L29: 가계 보조 | M29: 효도휴가 (2,9) | N29: 가계안정 (2,11) | O29: 교통 | P29: 식비 | Q29: 연봉 | R29: 월평균 | S29: 공제액 | T29: 월평균 실수령 | U29: 월평균 증액(원) | W29: =I27/W18 -> 0.36235008
A30: 963000 | B30: =A30+(963000*3%) -> 991890 | C30: 1306890 | D30: (기본급991,890) | E30: 3호봉 | F30: =B30*12 -> 11902680 | G30: =C30*4 -> 5227560 | H30: =C30*55%*2 -> 1437579 | I30: =135000*12 -> 1620000 | J30: =C30*10%*12 -> 1568268 | K30: 360000 | L30: 360000 | M30: =C30*0.5*2 -> 1306890 | N30: =C30*25%*2 -> 653445 | O30: 600000 | P30: 840000 | Q30: =SUM(F30:P30) -> 25876422 | R30: =Q30/12 -> 2156368.5 | S30: 174880 | T30: =R30-S30 -> 1981488.5 | U30: =T30-T3 -> 413908.5
A31: 1158000 | B31: =A31+(1158000*3%) -> 1192740 | C31: 1507740 | D31: (기본급1,192,740) | E31: 9호봉 | F31: =B31*12 -> 14312880 | G31: =C31*4 -> 6030960 | H31: =C31*80%*2 -> 2412384 | I31: =190000*12 -> 2280000 | J31: =C31*10%*12 -> 1809288 | K31: 360000 | L31: 360000 | M31: =C31*0.5*2 -> 1507740 | N31: =C31*25%*2 -> 753870 | O31: 600000 | P31: 840000 | Q31: =SUM(F31:P31) -> 31267122 | R31: =Q31/12 -> 2605593.5 | S31: 226020 | T31: =R31-S31 -> 2379573.5 | U31: =T31-T4 -> 595633.5
F33: 연봉 | G33: 4대보험 | H33: 퇴직적립 | V33: 사업비,운영비 | W33: 16000000
E34: 3호봉 | F34: =Q30 -> 25876422 | G34: =S30*12 -> 2098560 | H34: 2156369 | V34: 인건비 | W34: =I36 -> 66716307
E35: 9호봉 | F35: =Q31 -> 31267122 | G35: =S31*12 -> 2712240 | H35: 2605594 | W35: =W34/W33 -> 4.1697692
E36: 총액 | F36: =SUM(F34:F35) -> 57143544 | G36: =SUM(G34:G35) -> 4810800 | H36: =SUM(H34:H35) -> 4761963 | I36: =SUM(F36:H36) -> 66716307 | Q36: 증액: 1,693만원/ 예산총액 대비 인건비 비율 42% | V36: =I36-I9 -> 16934547
F40: 991890 | I40: 135000 | K40: 30000 | L40: 30000 | O40: 50000 | P40: 70000 | R40: =SUM(F40:Q40) -> 1306890
F41: 1192740 | I41: 135000 | K41: 30000 | L41: 30000 | O41: 50000 | P41: 70000 | R41: =SUM(F41:Q41) -> 1507740
S45: 1567000
S46: 1783000

Sheet 1213급여-산출기초 (2)
A6: 지급년도 | C6: 2013 | E6: 회사명
A7: 지급월 | C7: 1 | E7: 아름다운생명사랑
A8: NO | B8: 성명 | C8: 호봉 | D8: 지 급 내 역(과세) | K8: 지 급 내 역(비과세) | O8: 지급액 | P8: 공 제 내 역 | W8: 공제계 | X8: 월평균 지급총액
D9: 기본급 | E9: 자격수당 | F9: 직무수당 | G9: 특별수당 | H9: 월차수당 | I9: 근속수당 (호봉) | J9: 상여금 | K9: 활동비지원 | L9: 식비 | M9: 교통비 | N9: 교육비 | P9: 소득세 | Q9: 주민세 | R9: 국민연금 | T9: 장기요양 | U9: 건강보험 | V9: 고용보험 | Z9: 상여금 | AA9: 여름휴가 | AB9: 월평균 총액
A10: =IF(ISBLANK(B10),"",ROW(A1)) | C10: 13 | O10: =SUM(D10:J10) -> 0 | P10: =IF(O10/1000<770,0,IF(OR(ISBLANK(B10),O10<1000000),0,IF(O10>10000000,VLOOKUP(10000,갑근세,3)+((O10-10000000)*95%*35%),VLOOKUP(O10*0.001,갑근세,3)))) -> 0 | Q10: =ROUNDDOWN(P10*10%,-1) -> 0 | R10: =IF(ISBLANK(D10),"",ROUNDDOWN(ROUNDDOWN(IF(O10<230000,230000,IF(O10>3750000,3750000,O10)),-3)*4.5%,-1)) | T10: =IF(ISBLANK(D10),"",IF(Y10=FALSE,ROUNDDOWN(ROUNDDOWN(IF(O10<280000,280000,IF(O10>65790000,65790000,O10))*2.82%,-1)*6.55%,-1),ROUNDDOWN(ROUNDDOWN(IF(O10<280000,280000,IF(O10>65790000,65790000,O10))*2.82%,-1)*6.55%,-1)-ROUNDUP(ROUNDDOWN(ROUNDDOWN(IF(O10<280000,280000,IF(O10>65790000,65790000,O10))*2.82%,-1)*6.55%,-1)*30%,-1))) | U10: =IF(ISBLANK(D10),"",ROUNDDOWN(IF(O10<280000,280000,IF(O10>65790000,65790000,O10))*2.9%,-1)) | W10: =SUM(P10:V10) -> 0 | X10: =ROUNDUP(O10-W10,-1) -> 0 | Y10: FALSE
A11: 1 | B11: 진혜료 | C11: 9 | D11: 800000 | E11: 50000 | F11: 50000 | I11: 360000 | J11: 100000 | K11: 380000 | L11: 100000 | M11: 200000 | N11: 200000 | O11: =SUM(D11:J11) -> 1360000 | P11: =IF(O11/1000<770,0,IF(OR(ISBLANK(B11),O11<1000000),0,IF(O11>10000000,VLOOKUP(10000,갑근세,3)+((O11-10000000)*95%*35%),VLOOKUP(O11*0.001,갑근세,3)))) -> 7650 | Q11: =ROUNDDOWN(P11*10%,-1) -> 760 | R11: =IF(ISBLANK(D11),"",ROUNDDOWN(ROUNDDOWN(IF(O11<230000,230000,IF(O11>3750000,3750000,O11)),-3)*4.5%,-1)) -> 61200 | T11: =IF(ISBLANK(D11),"",IF(Y11=FALSE,ROUNDDOWN(ROUNDDOWN(IF(O11<280000,280000,IF(O11>65790000,65790000,O11))*2.82%,-1)*6.55%,-1),ROUNDDOWN(ROUNDDOWN(IF(O11<280000,280000,IF(O11>65790000,65790000,O11))*2.82%,-1)*6.55%,-1)-ROUNDUP(ROUNDDOWN(ROUNDDOWN(IF(O11<280000,280000,IF(O11>65790000,65790000,O11))*2.82%,-1)*6.55%,-1)*30%,-1))) -> 2510 | U11: =IF(ISBLANK(D11),"",ROUNDDOWN(IF(O11<280000,280000,IF(O11>65790000,65790000,O11))*2.82%,-1)) -> 38350 | W11: =SUM(P11:V11) -> 110470 | X11: =AB11-W11 -> 2129530 | Y11: FALSE | AA11: 500000 | AB11: =O11+K11+L11+M11+N11 -> 2240000
A12: 2 | B12: 조아라 | C12: 3 | D12: 800000 | E12: 50000 | F12: 50000 | I12: 120000 | J12: 100000 | K12: 260000 | L12: 100000 | M12: 200000 | N12: 200000 | O12: =SUM(D12:J12) -> 1120000 | P12: =IF(O12/1000<770,0,IF(OR(ISBLANK(B12),O12<1000000),0,IF(O12>10000000,VLOOKUP(10000,갑근세,3)+((O12-10000000)*95%*35%),VLOOKUP(O12*0.001,갑근세,3)))) -> 3800 | Q12: =ROUNDDOWN(P12*10%,-1) -> 380 | R12: =IF(ISBLANK(D12),"",ROUNDDOWN(ROUNDDOWN(IF(O12<230000,230000,IF(O12>3750000,3750000,O12)),-3)*4.5%,-1)) -> 50400 | T12: =IF(ISBLANK(D12),"",IF(Y12=FALSE,ROUNDDOWN(ROUNDDOWN(IF(O12<280000,280000,IF(O12>65790000,65790000,O12))*2.82%,-1)*6.55%,-1),ROUNDDOWN(ROUNDDOWN(IF(O12<280000,280000,IF(O12>65790000,65790000,O12))*2.82%,-1)*6.55%,-1)-ROUNDUP(ROUNDDOWN(ROUNDDOWN(IF(O12<280000,280000,IF(O12>65790000,65790000,O12))*2.82%,-1)*6.55%,-1)*30%,-1))) -> 2060 | U12: =IF(ISBLANK(D12),"",ROUNDDOWN(IF(O12<280000,280000,IF(O12>65790000,65790000,O12))*2.82%,-1)) -> 31580 | W12: =SUM(P12:V12) -> 88220 | X12: =AB12-W12 -> 1791780 | Y12: FALSE | AA12: 500000 | AB12: =O12+K12+L12+M12+N12 -> 1880000
A13: =IF(ISBLANK(B13),"",ROW(A4)) | O13: =SUM(D13:N13) -> 0 | P13: =IF(O13/1000<770,0,IF(OR(ISBLANK(B13),O13<1000000),0,IF(O13>10000000,VLOOKUP(10000,갑근세,3)+((O13-10000000)*95%*35%),VLOOKUP(O13*0.001,갑근세,3)))) -> 0 | Q13: =ROUNDDOWN(P13*10%,-1) -> 0 | R13: =IF(ISBLANK(D13),"",ROUNDDOWN(ROUNDDOWN(IF(O13<230000,230000,IF(O13>3750000,3750000,O13)),-3)*4.5%,-1)) | T13: =IF(ISBLANK(D13),"",IF(Y13=FALSE,ROUNDDOWN(ROUNDDOWN(IF(O13<280000,280000,IF(O13>65790000,65790000,O13))*2.82%,-1)*6.55%,-1),ROUNDDOWN(ROUNDDOWN(IF(O13<280000,280000,IF(O13>65790000,65790000,O13))*2.82%,-1)*6.55%,-1)-ROUNDUP(ROUNDDOWN(ROUNDDOWN(IF(O13<280000,280000,IF(O13>65790000,65790000,O13))*2.82%,-1)*6.55%,-1)*30%,-1))) | U13: =IF(ISBLANK(D13),"",ROUNDDOWN(IF(O13<280000,280000,IF(O13>65790000,65790000,O13))*2.82%,-1)) | V13: =ROUNDDOWN(O13*0.55%,-1) -> 0 | W13: =SUM(P13:V13) -> 0 | X13: =ROUNDUP(O13-W13,-1) -> 0 | Y13: FALSE
A14: =IF(ISBLANK(B14),"",ROW(A5)) | O14: =SUM(D14:N14) -> 0 | P14: =IF(O14/1000<770,0,IF(OR(ISBLANK(B14),O14<1000000),0,IF(O14>10000000,VLOOKUP(10000,갑근세,3)+((O14-10000000)*95%*35%),VLOOKUP(O14*0.001,갑근세,3)))) -> 0 | Q14: =ROUNDDOWN(P14*10%,-1) -> 0 | R14: =IF(ISBLANK(D14),"",ROUNDDOWN(ROUNDDOWN(IF(O14<230000,230000,IF(O14>3750000,3750000,O14)),-3)*4.5%,-1)) | T14: =IF(ISBLANK(D14),"",IF(Y14=FALSE,ROUNDDOWN(ROUNDDOWN(IF(O14<280000,280000,IF(O14>65790000,65790000,O14))*2.82%,-1)*6.55%,-1),ROUNDDOWN(ROUNDDOWN(IF(O14<280000,280000,IF(O14>65790000,65790000,O14))*2.82%,-1)*6.55%,-1)-ROUNDUP(ROUNDDOWN(ROUNDDOWN(IF(O14<280000,280000,IF(O14>65790000,65790000,O14))*2.82%,-1)*6.55%,-1)*30%,-1))) | U14: =IF(ISBLANK(D14),"",ROUNDDOWN(IF(O14<280000,280000,IF(O14>65790000,65790000,O14))*2.82%,-1)) | V14: =ROUNDDOWN(O14*0.55%,-1) -> 0 | W14: =SUM(P14:V14) -> 0 | X14: =ROUNDUP(O14-W14,-1) -> 0 | Y14: FALSE
A15: =IF(ISBLANK(B15),"",ROW(A7)) | O15: =SUM(D15:N15) -> 0 | P15: =IF(O15/1000<770,0,IF(OR(ISBLANK(B15),O15<1000000),0,IF(O15>10000000,VLOOKUP(10000,갑근세,3)+((O15-10000000)*95%*35%),VLOOKUP(O15*0.001,갑근세,3)))) -> 0 | Q15: =ROUNDDOWN(P15*10%,-1) -> 0 | R15: =IF(ISBLANK(D15),"",ROUNDDOWN(ROUNDDOWN(IF(O15<230000,230000,IF(O15>3750000,3750000,O15)),-3)*4.5%,-1)) | T15: =IF(ISBLANK(D15),"",IF(Y15=FALSE,ROUNDDOWN(ROUNDDOWN(IF(O15<280000,280000,IF(O15>65790000,65790000,O15))*2.82%,-1)*6.55%,-1),ROUNDDOWN(ROUNDDOWN(IF(O15<280000,280000,IF(O15>65790000,65790000,O15))*2.82%,-1)*6.55%,-1)-ROUNDUP(ROUNDDOWN(ROUNDDOWN(IF(O15<280000,280000,IF(O15>65790000,65790000,O15))*2.82%,-1)*6.55%,-1)*30%,-1))) | U15: =IF(ISBLANK(D15),"",ROUNDDOWN(IF(O15<280000,280000,IF(O15>65790000,65790000,O15))*2.82%,-1)) | V15: =ROUNDDOWN(O15*0.55%,-1) -> 0 | W15: =SUM(P15:V15) -> 0 | X15: =ROUNDUP(O15-W15,-1) -> 0 | Y15: FALSE
A16: =IF(ISBLANK(B16),"",ROW(A8)) | O16: =SUM(D16:N16) -> 0 | P16: =IF(O16/1000<770,0,IF(OR(ISBLANK(B16),O16<1000000),0,IF(O16>10000000,VLOOKUP(10000,갑근세,3)+((O16-10000000)*95%*35%),VLOOKUP(O16*0.001,갑근세,3)))) -> 0 | Q16: =ROUNDDOWN(P16*10%,-1) -> 0 | R16: =IF(ISBLANK(D16),"",ROUNDDOWN(ROUNDDOWN(IF(O16<230000,230000,IF(O16>3750000,3750000,O16)),-3)*4.5%,-1)) | T16: =IF(ISBLANK(D16),"",IF(Y16=FALSE,ROUNDDOWN(ROUNDDOWN(IF(O16<280000,280000,IF(O16>65790000,65790000,O16))*2.82%,-1)*6.55%,-1),ROUNDDOWN(ROUNDDOWN(IF(O16<280000,280000,IF(O16>65790000,65790000,O16))*2.82%,-1)*6.55%,-1)-ROUNDUP(ROUNDDOWN(ROUNDDOWN(IF(O16<280000,280000,IF(O16>65790000,65790000,O16))*2.82%,-1)*6.55%,-1)*30%,-1))) | U16: =IF(ISBLANK(D16),"",ROUNDDOWN(IF(O16<280000,280000,IF(O16>65790000,65790000,O16))*2.82%,-1)) | V16: =ROUNDDOWN(O16*0.55%,-1) -> 0 | W16: =SUM(P16:V16) -> 0 | X16: =ROUNDUP(O16-W16,-1) -> 0 | Y16: FALSE
A17: =IF(ISBLANK(B17),"",ROW(A9)) | O17: =SUM(D17:N17) -> 0 | P17: =IF(O17/1000<770,0,IF(OR(ISBLANK(B17),O17<1000000),0,IF(O17>10000000,VLOOKUP(10000,갑근세,3)+((O17-10000000)*95%*35%),VLOOKUP(O17*0.001,갑근세,3)))) -> 0 | Q17: =ROUNDDOWN(P17*10%,-1) -> 0 | R17: =IF(ISBLANK(D17),"",ROUNDDOWN(ROUNDDOWN(IF(O17<230000,230000,IF(O17>3750000,3750000,O17)),-3)*4.5%,-1)) | T17: =IF(ISBLANK(D17),"",IF(Y17=FALSE,ROUNDDOWN(ROUNDDOWN(IF(O17<280000,280000,IF(O17>65790000,65790000,O17))*2.82%,-1)*6.55%,-1),ROUNDDOWN(ROUNDDOWN(IF(O17<280000,280000,IF(O17>65790000,65790000,O17))*2.82%,-1)*6.55%,-1)-ROUNDUP(ROUNDDOWN(ROUNDDOWN(IF(O17<280000,280000,IF(O17>65790000,65790000,O17))*2.82%,-1)*6.55%,-1)*30%,-1))) | U17: =IF(ISBLANK(D17),"",ROUNDDOWN(IF(O17<280000,280000,IF(O17>65790000,65790000,O17))*2.82%,-1)) | V17: =ROUNDDOWN(O17*0.55%,-1) -> 0 | W17: =SUM(P17:V17) -> 0 | X17: =ROUNDUP(O17-W17,-1) -> 0 | Y17: FALSE
A18: =IF(ISBLANK(B18),"",ROW(A10)) | O18: =SUM(D18:N18) -> 0 | P18: =IF(O18/1000<770,0,IF(OR(ISBLANK(B18),O18<1000000),0,IF(O18>10000000,VLOOKUP(10000,갑근세,3)+((O18-10000000)*95%*35%),VLOOKUP(O18*0.001,갑근세,3)))) -> 0 | Q18: =ROUNDDOWN(P18*10%,-1) -> 0 | R18: =IF(ISBLANK(D18),"",ROUNDDOWN(ROUNDDOWN(IF(O18<230000,230000,IF(O18>3750000,3750000,O18)),-3)*4.5%,-1)) | T18: =IF(ISBLANK(D18),"",IF(Y18=FALSE,ROUNDDOWN(ROUNDDOWN(IF(O18<280000,280000,IF(O18>65790000,65790000,O18))*2.82%,-1)*6.55%,-1),ROUNDDOWN(ROUNDDOWN(IF(O18<280000,280000,IF(O18>65790000,65790000,O18))*2.82%,-1)*6.55%,-1)-ROUNDUP(ROUNDDOWN(ROUNDDOWN(IF(O18<280000,280000,IF(O18>65790000,65790000,O18))*2.82%,-1)*6.55%,-1)*30%,-1))) | U18: =IF(ISBLANK(D18),"",ROUNDDOWN(IF(O18<280000,280000,IF(O18>65790000,65790000,O18))*2.82%,-1)) | V18: =ROUNDDOWN(O18*0.55%,-1) -> 0 | W18: =SUM(P18:V18) -> 0 | X18: =ROUNDUP(O18-W18,-1) -> 0 | Y18: FALSE
A19: =IF(ISBLANK(B19),"",ROW(A11)) | O19: =SUM(D19:N19) -> 0 | P19: =IF(O19/1000<770,0,IF(OR(ISBLANK(B19),O19<1000000),0,IF(O19>10000000,VLOOKUP(10000,갑근세,3)+((O19-10000000)*95%*35%),VLOOKUP(O19*0.001,갑근세,3)))) -> 0 | Q19: =ROUNDDOWN(P19*10%,-1) -> 0 | R19: =IF(ISBLANK(D19),"",ROUNDDOWN(ROUNDDOWN(IF(O19<230000,230000,IF(O19>3750000,3750000,O19)),-3)*4.5%,-1)) | T19: =IF(ISBLANK(D19),"",IF(Y19=FALSE,ROUNDDOWN(ROUNDDOWN(IF(O19<280000,280000,IF(O19>65790000,65790000,O19))*2.82%,-1)*6.55%,-1),ROUNDDOWN(ROUNDDOWN(IF(O19<280000,280000,IF(O19>65790000,65790000,O19))*2.82%,-1)*6.55%,-1)-ROUNDUP(ROUNDDOWN(ROUNDDOWN(IF(O19<280000,280000,IF(O19>65790000,65790000,O19))*2.82%,-1)*6.55%,-1)*30%,-1))) | U19: =IF(ISBLANK(D19),"",ROUNDDOWN(IF(O19<280000,280000,IF(O19>65790000,65790000,O19))*2.82%,-1)) | V19: =ROUNDDOWN(O19*0.55%,-1) -> 0 | W19: =SUM(P19:V19) -> 0 | X19: =ROUNDUP(O19-W19,-1) -> 0 | Y19: FALSE
A20: =IF(ISBLANK(B20),"",ROW(A12)) | O20: =SUM(D20:N20) -> 0 | P20: =IF(O20/1000<770,0,IF(OR(ISBLANK(B20),O20<1000000),0,IF(O20>10000000,VLOOKUP(10000,갑근세,3)+((O20-10000000)*95%*35%),VLOOKUP(O20*0.001,갑근세,3)))) -> 0 | Q20: =ROUNDDOWN(P20*10%,-1) -> 0 | R20: =IF(ISBLANK(D20),"",ROUNDDOWN(ROUNDDOWN(IF(O20<230000,230000,IF(O20>3750000,3750000,O20)),-3)*4.5%,-1)) | T20: =IF(ISBLANK(D20),"",IF(Y20=FALSE,ROUNDDOWN(ROUNDDOWN(IF(O20<280000,280000,IF(O20>65790000,65790000,O20))*2.82%,-1)*6.55%,-1),ROUNDDOWN(ROUNDDOWN(IF(O20<280000,280000,IF(O20>65790000,65790000,O20))*2.82%,-1)*6.55%,-1)-ROUNDUP(ROUNDDOWN(ROUNDDOWN(IF(O20<280000,280000,IF(O20>65790000,65790000,O20))*2.82%,-1)*6.55%,-1)*30%,-1))) | U20: =IF(ISBLANK(D20),"",ROUNDDOWN(IF(O20<280000,280000,IF(O20>65790000,65790000,O20))*2.82%,-1)) | V20: =ROUNDDOWN(O20*0.55%,-1) -> 0 | W20: =SUM(P20:V20) -> 0 | X20: =ROUNDUP(O20-W20,-1) -> 0 | Y20: FALSE
A21: =IF(ISBLANK(B21),"",ROW(A13)) | O21: =SUM(D21:N21) -> 0 | P21: =IF(O21/1000<770,0,IF(OR(ISBLANK(B21),O21<1000000),0,IF(O21>10000000,VLOOKUP(10000,갑근세,3)+((O21-10000000)*95%*35%),VLOOKUP(O21*0.001,갑근세,3)))) -> 0 | Q21: =ROUNDDOWN(P21*10%,-1) -> 0 | R21: =IF(ISBLANK(D21),"",ROUNDDOWN(ROUNDDOWN(IF(O21<230000,230000,IF(O21>3750000,3750000,O21)),-3)*4.5%,-1)) | T21: =IF(ISBLANK(D21),"",IF(Y21=FALSE,ROUNDDOWN(ROUNDDOWN(IF(O21<280000,280000,IF(O21>65790000,65790000,O21))*2.82%,-1)*6.55%,-1),ROUNDDOWN(ROUNDDOWN(IF(O21<280000,280000,IF(O21>65790000,65790000,O21))*2.82%,-1)*6.55%,-1)-ROUNDUP(ROUNDDOWN(ROUNDDOWN(IF(O21<280000,280000,IF(O21>65790000,65790000,O21))*2.82%,-1)*6.55%,-1)*30%,-1))) | U21: =IF(ISBLANK(D21),"",ROUNDDOWN(IF(O21<280000,280000,IF(O21>65790000,65790000,O21))*2.82%,-1)) | V21: =ROUNDDOWN(O21*0.55%,-1) -> 0 | W21: =SUM(P21:V21) -> 0 | X21: =ROUNDUP(O21-W21,-1) -> 0 | Y21: TRUE
A22: =IF(ISBLANK(B22),"",ROW(A14)) | O22: =SUM(D22:N22) -> 0 | P22: =IF(O22/1000<770,0,IF(OR(ISBLANK(B22),O22<1000000),0,IF(O22>10000000,VLOOKUP(10000,갑근세,3)+((O22-10000000)*95%*35%),VLOOKUP(O22*0.001,갑근세,3)))) -> 0 | Q22: =ROUNDDOWN(P22*10%,-1) -> 0 | R22: =IF(ISBLANK(D22),"",ROUNDDOWN(ROUNDDOWN(IF(O22<230000,230000,IF(O22>3750000,3750000,O22)),-3)*4.5%,-1)) | T22: =IF(ISBLANK(D22),"",IF(Y22=FALSE,ROUNDDOWN(ROUNDDOWN(IF(O22<280000,280000,IF(O22>65790000,65790000,O22))*2.82%,-1)*6.55%,-1),ROUNDDOWN(ROUNDDOWN(IF(O22<280000,280000,IF(O22>65790000,65790000,O22))*2.82%,-1)*6.55%,-1)-ROUNDUP(ROUNDDOWN(ROUNDDOWN(IF(O22<280000,280000,IF(O22>65790000,65790000,O22))*2.82%,-1)*6.55%,-1)*30%,-1))) | U22: =IF(ISBLANK(D22),"",ROUNDDOWN(IF(O22<280000,280000,IF(O22>65790000,65790000,O22))*2.82%,-1)) | V22: =ROUNDDOWN(O22*0.55%,-1) -> 0 | W22: =SUM(P22:V22) -> 0 | X22: =ROUNDUP(O22-W22,-1) -> 0 | Y22: FALSE
A23: =IF(ISBLANK(B23),"",ROW(A15)) | O23: =SUM(D23:N23) -> 0 | P23: =IF(O23/1000<770,0,IF(OR(ISBLANK(B23),O23<1000000),0,IF(O23>10000000,VLOOKUP(10000,갑근세,3)+((O23-10000000)*95%*35%),VLOOKUP(O23*0.001,갑근세,3)))) -> 0 | Q23: =ROUNDDOWN(P23*10%,-1) -> 0 | R23: =IF(ISBLANK(D23),"",ROUNDDOWN(ROUNDDOWN(IF(O23<230000,230000,IF(O23>3750000,3750000,O23)),-3)*4.5%,-1)) | T23: =IF(ISBLANK(D23),"",IF(Y23=FALSE,ROUNDDOWN(ROUNDDOWN(IF(O23<280000,280000,IF(O23>65790000,65790000,O23))*2.82%,-1)*6.55%,-1),ROUNDDOWN(ROUNDDOWN(IF(O23<280000,280000,IF(O23>65790000,65790000,O23))*2.82%,-1)*6.55%,-1)-ROUNDUP(ROUNDDOWN(ROUNDDOWN(IF(O23<280000,280000,IF(O23>65790000,65790000,O23))*2.82%,-1)*6.55%,-1)*30%,-1))) | U23: =IF(ISBLANK(D23),"",ROUNDDOWN(IF(O23<280000,280000,IF(O23>65790000,65790000,O23))*2.82%,-1)) | V23: =ROUNDDOWN(O23*0.55%,-1) -> 0 | W23: =SUM(P23:V23) -> 0 | X23: =ROUNDUP(O23-W23,-1) -> 0 | Y23: FALSE
A24: =IF(ISBLANK(B24),"",ROW(A16)) | O24: =SUM(D24:N24) -> 0 | P24: =IF(O24/1000<770,0,IF(OR(ISBLANK(B24),O24<1000000),0,IF(O24>10000000,VLOOKUP(10000,갑근세,3)+((O24-10000000)*95%*35%),VLOOKUP(O24*0.001,갑근세,3)))) -> 0 | Q24: =ROUNDDOWN(P24*10%,-1) -> 0 | R24: =IF(ISBLANK(D24),"",ROUNDDOWN(ROUNDDOWN(IF(O24<230000,230000,IF(O24>3750000,3750000,O24)),-3)*4.5%,-1)) | T24: =IF(ISBLANK(D24),"",IF(Y24=FALSE,ROUNDDOWN(ROUNDDOWN(IF(O24<280000,280000,IF(O24>65790000,65790000,O24))*2.82%,-1)*6.55%,-1),ROUNDDOWN(ROUNDDOWN(IF(O24<280000,280000,IF(O24>65790000,65790000,O24))*2.82%,-1)*6.55%,-1)-ROUNDUP(ROUNDDOWN(ROUNDDOWN(IF(O24<280000,280000,IF(O24>65790000,65790000,O24))*2.82%,-1)*6.55%,-1)*30%,-1))) | U24: =IF(ISBLANK(D24),"",ROUNDDOWN(IF(O24<280000,280000,IF(O24>65790000,65790000,O24))*2.82%,-1)) | V24: =ROUNDDOWN(O24*0.55%,-1) -> 0 | W24: =SUM(P24:V24) -> 0 | X24: =ROUNDUP(O24-W24,-1) -> 0 | Y24: FALSE
A25: =IF(ISBLANK(B25),"",ROW(A17)) | O25: =SUM(D25:N25) -> 0 | P25: =IF(O25/1000<770,0,IF(OR(ISBLANK(B25),O25<1000000),0,IF(O25>10000000,VLOOKUP(10000,갑근세,3)+((O25-10000000)*95%*35%),VLOOKUP(O25*0.001,갑근세,3)))) -> 0 | Q25: =ROUNDDOWN(P25*10%,-1) -> 0 | R25: =IF(ISBLANK(D25),"",ROUNDDOWN(ROUNDDOWN(IF(O25<230000,230000,IF(O25>3750000,3750000,O25)),-3)*4.5%,-1)) | T25: =IF(ISBLANK(D25),"",IF(Y25=FALSE,ROUNDDOWN(ROUNDDOWN(IF(O25<280000,280000,IF(O25>65790000,65790000,O25))*2.82%,-1)*6.55%,-1),ROUNDDOWN(ROUNDDOWN(IF(O25<280000,280000,IF(O25>65790000,65790000,O25))*2.82%,-1)*6.55%,-1)-ROUNDUP(ROUNDDOWN(ROUNDDOWN(IF(O25<280000,280000,IF(O25>65790000,65790000,O25))*2.82%,-1)*6.55%,-1)*30%,-1))) | U25: =IF(ISBLANK(D25),"",ROUNDDOWN(IF(O25<280000,280000,IF(O25>65790000,65790000,O25))*2.82%,-1)) | V25: =ROUNDDOWN(O25*0.55%,-1) -> 0 | W25: =SUM(P25:V25) -> 0 | X25: =ROUNDUP(O25-W25,-1) -> 0 | Y25: FALSE
A26: =IF(ISBLANK(B26),"",ROW(A18)) | O26: =SUM(D26:N26) -> 0 | P26: =IF(O26/1000<770,0,IF(OR(ISBLANK(B26),O26<1000000),0,IF(O26>10000000,VLOOKUP(10000,갑근세,3)+((O26-10000000)*95%*35%),VLOOKUP(O26*0.001,갑근세,3)))) -> 0 | Q26: =ROUNDDOWN(P26*10%,-1) -> 0 | R26: =IF(ISBLANK(D26),"",ROUNDDOWN(ROUNDDOWN(IF(O26<230000,230000,IF(O26>3750000,3750000,O26)),-3)*4.5%,-1)) | T26: =IF(ISBLANK(D26),"",IF(Y26=FALSE,ROUNDDOWN(ROUNDDOWN(IF(O26<280000,280000,IF(O26>65790000,65790000,O26))*2.82%,-1)*6.55%,-1),ROUNDDOWN(ROUNDDOWN(IF(O26<280000,280000,IF(O26>65790000,65790000,O26))*2.82%,-1)*6.55%,-1)-ROUNDUP(ROUNDDOWN(ROUNDDOWN(IF(O26<280000,280000,IF(O26>65790000,65790000,O26))*2.82%,-1)*6.55%,-1)*30%,-1))) | U26: =IF(ISBLANK(D26),"",ROUNDDOWN(IF(O26<280000,280000,IF(O26>65790000,65790000,O26))*2.82%,-1)) | V26: =ROUNDDOWN(O26*0.55%,-1) -> 0 | W26: =SUM(P26:V26) -> 0 | X26: =ROUNDUP(O26-W26,-1) -> 0 | Y26: FALSE
... A39: =IF(ISBLANK(B39),"",ROW(A31)) | O39: =SUM(D39:N39) -> 0 | P39: =IF(O39/1000<770,0,IF(OR(ISBLANK(B39),O39<1000000),0,IF(O39>10000000,VLOOKUP(10000,갑근세,3)+((O39-10000000)*95%*35%),VLOOKUP(O39*0.001,갑근세,3)))) -> 0 | Q39: =ROUNDDOWN(P39*10%,-1) -> 0 | R39: =IF(ISBLANK(D39),"",ROUNDDOWN(ROUNDDOWN(IF(O39<230000,230000,IF(O39>3750000,3750000,O39)),-3)*4.5%,-1)) | T39: =IF(ISBLANK(D39),"",IF(Y39=FALSE,ROUNDDOWN(ROUNDDOWN(IF(O39<280000,280000,IF(O39>65790000,65790000,O39))*2.82%,-1)*6.55%,-1),ROUNDDOWN(ROUNDDOWN(IF(O39<280000,280000,IF(O39>65790000,65790000,O39))*2.82%,-1)*6.55%,-1)-ROUNDUP(ROUNDDOWN(ROUNDDOWN(IF(O39<280000,280000,IF(O39>65790000,65790000,O39))*2.82%,-1)*6.55%,-1)*30%,-1))) | U39: =IF(ISBLANK(D39),"",ROUNDDOWN(IF(O39<280000,280000,IF(O39>65790000,65790000,O39))*2.82%,-1)) | V39: =ROUNDDOWN(O39*0.55%,-1) -> 0 | W39: =SUM(P39:V39) -> 0 | X39: =ROUNDUP(O39-W39,-1) -> 0 | Y39: FALSE
A40: 월 합 계 | D40: =SUM(D10:D39) -> 1600000 | E40: =SUM(E10:E39) -> 100000 | F40: =SUM(F10:F39) -> 100000 | G40: =SUM(G10:G39) -> 0 | H40: =SUM(H10:H39) -> 0 | I40: =SUM(I10:I39) -> 480000 | J40: =SUM(J10:J39) -> 200000 | K40: =SUM(K10:K39) -> 640000 | ... R40: =SUM(R10:R39) -> 111600 | T40: =SUM(T10:T39) -> 4570 | U40: =SUM(U10:U39) -> 69930 | V40: =SUM(V10:V39) -> 0 | W40: =SUM(W10:W39) -> 198690 | X40: =SUM(X10:X39) -> 3921310 | Z40: =SUM(Z10:Z39) -> 0 | AB40: =SUM(AB10:AB12) -> 4120000
A41: 연 합 계 | D41: =D40*12 -> 19200000 | E41: =SUM(E11:E40) -> 200000 | F41: =SUM(F11:F40) -> 200000 | G41: =SUM(G11:G40) -> 0 | H41: =SUM(H11:H40) -> 0 | I41: =I40*12 -> 5760000 | J41: =SUM(J11:J40) -> 400000 | K41: =SUM(K11:K40) -> 1280000 | L41: =SUM(L11:L40) -> 400000 | M41: =SUM(M11:M40) -> 800000 | N41: =SUM(N11:N40) -> 800000 | O41: =O40*12 -> 29760000 | P41: =P40*12 -> 137400 | Q41: =Q40*12 -> 13680 | R41: =R40*12 -> 1339200 | T41: =T40*12 -> 54840 | U41: =U40*12 -> 839160 | V41: =SUM(V11:V40) -> 0 | W41: =W40*12 -> 2384280 | X41: =X40*12 -> 47055720 | Z41: =Z40*12 -> 0 | AA41: =AA40*12 -> 0 | AB41: =AB40*12 -> 49440000
A42: 상여금포함 | D42: =D41 -> 19200000 | E42: =SUM(E12:E41) -> 350000 | F42: =SUM(F12:F41) -> 350000 | G42: =SUM(G12:G41) -> 0 | H42: =SUM(H12:H41) -> 0 | I42: =I41 -> 5760000 | J42: =SUM(J12:J41) -> 700000 | K42: =SUM(K12:K41) -> 2180000 | L42: =SUM(L12:L41) -> 700000 | M42: =SUM(M12:M41) -> 1400000 | N42: =SUM(N12:N41) -> 1400000 | O42: =D42+I42+Z42+AA42 -> 24960000 | Z42: =Z41 -> 0 | AA42: =AA41 -> 0
AD44: 소득반기 | AE44: 지방반기 | AF44: 소득반기
N45: 2240000 | O45: =N45-D11-E11-F11-G11-H11-I11-J11 -> 880000 | AD45: =P11*6 -> 45900 | AE45: =Q11*6 -> 4560 | AF45: =O11*6 -> 8160000
N46: 1880000 | O46: =N46-D12-E12-F12-G12-H12-I12-J12 -> 760000 | AD46: =P12*6 -> 22800 | AE46: =Q12*6 -> 2280 | AF46: =O12*6 -> 6720000
AD47: =SUM(AD45:AD46) -> 68700 | AE47: =SUM(AE45:AE46) -> 6840 | AF47: =SUM(AF45:AF46) -> 14880000
AE48: =AD47+AE47 -> 75540

Sheet 1212급여-산출기초
A6: 지급년도 | C6: 2012 | E6: 회사명
A7: 지급월 | C7: 1 | E7: 아름다운생명사랑
A8: NO | B8: 성명 | C8: 호봉 | D8: 지 급 내 역 | O8: 지급액 | P8: 공 제 내 역 | W8: 공제계 | X8: 지급총액
D9: 기본급 | E9: 자격수당 | F9: 직무수당 | G9: 식대 | H9: 월차수당 | I9: 근속수당 (호봉) | J9: 상여금 | K9: 특별수당 | L9: 퇴직수당 | M9: 기타1 | N9: 기타2 | P9: 소득세 | Q9: 주민세 | R9: 국민연금 | T9: 장기요양 | U9: 건강보험 | V9: 고용보험 | Z9: 상여금 | AA9: 여름휴가 | AB9: 월평균 실지급액
A10: =IF(ISBLANK(B10),"",ROW(A1)) -> 1 | B10: 홍두호 | C10: 13 | D10: 1300000 | I10: 520000 | O10: =SUM(D10:N10) -> 1820000 | P10: =IF(O10/1000<770,0,IF(OR(ISBLANK(B10),O10<1000000),0,IF(O10>10000000,VLOOKUP(10000,갑근세,3)+((O10-10000000)*95%*35%),VLOOKUP(O10*0.001,갑근세,3)))) -> 17390 | Q10: =ROUNDDOWN(P10*10%,-1) -> 1730 | R10: =IF(ISBLANK(D10),"",ROUNDDOWN(ROUNDDOWN(IF(O10<230000,230000,IF(O10>3750000,3750000,O10)),-3)*4.5%,-1)) -> 81900 | T10: =IF(ISBLANK(D10),"",IF(Y10=FALSE,ROUNDDOWN(ROUNDDOWN(IF(O10<280000,280000,IF(O10>65790000,65790000,O10))*2.82%,-1)*6.55%,-1),ROUNDDOWN(ROUNDDOWN(IF(O10<280000,280000,IF(O10>65790000,65790000,O10))*2.82%,-1)*6.55%,-1)-ROUNDUP(ROUNDDOWN(ROUNDDOWN(IF(O10<280000,280000,IF(O10>65790000,65790000,O10))*2.82%,-1)*6.55%,-1)*30%,-1))) -> 3360 | U10: =IF(ISBLANK(D10),"",ROUNDDOWN(IF(O10<280000,280000,IF(O10>65790000,65790000,O10))*2.9%,-1)) -> 52780 | W10: =SUM(P10:V10) -> 157160 | X10: =ROUNDUP(O10-W10,-1) -> 1662840 | Y10: FALSE | Z10: 300000 | AA10: 25000 | AB10: =X10+Z10+AA10 -> 1987840
A11: =IF(ISBLANK(B11),"",ROW(A2)) -> 2 | B11: 진혜료 | C11: 8 | D11: 1300000 | I11: 320000 | O11: =SUM(D11:N11) -> 1620000 | P11: =IF(O11/1000<770,0,IF(OR(ISBLANK(B11),O11<1000000),0,IF(O11>10000000,VLOOKUP(10000,갑근세,3)+((O11-10000000)*95%*35%),VLOOKUP(O11*0.001,갑근세,3)))) -> 13180 | Q11: =ROUNDDOWN(P11*10%,-1) -> 1310 | R11: =IF(ISBLANK(D11),"",ROUNDDOWN(ROUNDDOWN(IF(O11<230000,230000,IF(O11>3750000,3750000,O11)),-3)*4.5%,-1)) -> 72900 | T11: =IF(ISBLANK(D11),"",IF(Y11=FALSE,ROUNDDOWN(ROUNDDOWN(IF(O11<280000,280000,IF(O11>65790000,65790000,O11))*2.82%,-1)*6.55%,-1),ROUNDDOWN(ROUNDDOWN(IF(O11<280000,280000,IF(O11>65790000,65790000,O11))*2.82%,-1)*6.55%,-1)-ROUNDUP(ROUNDDOWN(ROUNDDOWN(IF(O11<280000,280000,IF(O11>65790000,65790000,O11))*2.82%,-1)*6.55%,-1)*30%,-1))) -> 2990 | U11: =IF(ISBLANK(D11),"",ROUNDDOWN(IF(O11<280000,280000,IF(O11>65790000,65790000,O11))*2.82%,-1)) -> 45680 | W11: =SUM(P11:V11) -> 136060 | X11: =ROUNDUP(O11-W11,-1) -> 1483940 | Y11: FALSE | Z11: 300000 | AA11: 25000 | AB11: =X11+Z11+AA11 -> 1808940
A12: =IF(ISBLANK(B12),"",ROW(A3)) -> 3 | B12: 조아라 | C12: 2 | D12: 1300000 | I12: 80000 | O12: =SUM(D12:N12) -> 1380000 | P12: =IF(O12/1000<770,0,IF(OR(ISBLANK(B12),O12<1000000),0,IF(O12>10000000,VLOOKUP(10000,갑근세,3)+((O12-10000000)*95%*35%),VLOOKUP(O12*0.001,갑근세,3)))) -> 8070 | Q12: =ROUNDDOWN(P12*10%,-1) -> 800 | R12: =IF(ISBLANK(D12),"",ROUNDDOWN(ROUNDDOWN(IF(O12<230000,230000,IF(O12>3750000,3750000,O12)),-3)*4.5%,-1)) -> 62100 | T12: =IF(ISBLANK(D12),"",IF(Y12=FALSE,ROUNDDOWN(ROUNDDOWN(IF(O12<280000,280000,IF(O12>65790000,65790000,O12))*2.82%,-1)*6.55%,-1),ROUNDDOWN(ROUNDDOWN(IF(O12<280000,280000,IF(O12>65790000,65790000,O12))*2.82%,-1)*6.55%,-1)-ROUNDUP(ROUNDDOWN(ROUNDDOWN(IF(O12<280000,280000,IF(O12>65790000,65790000,O12))*2.82%,-1)*6.55%,-1)*30%,-1))) -> 2540 | U12: =IF(ISBLANK(D12),"",ROUNDDOWN(IF(O12<280000,280000,IF(O12>65790000,65790000,O12))*2.82%,-1)) -> 38910 | W12: =SUM(P12:V12) -> 112420 | X12: =ROUNDUP(O12-W12,-1) -> 1267580 | Y12: FALSE | Z12: 300000 | AA12: 25000 | AB12: =X12+Z12+AA12 -> 1592580
A13: =IF(ISBLANK(B13),"",ROW(A4)) | O13: =SUM(D13:N13) -> 0 | P13: =IF(O13/1000<770,0,IF(OR(ISBLANK(B13),O13<1000000),0,IF(O13>10000000,VLOOKUP(10000,갑근세,3)+((O13-10000000)*95%*35%),VLOOKUP(O13*0.001,갑근세,3)))) -> 0 | Q13: =ROUNDDOWN(P13*10%,-1) -> 0 | R13: =IF(ISBLANK(D13),"",ROUNDDOWN(ROUNDDOWN(IF(O13<230000,230000,IF(O13>3750000,3750000,O13)),-3)*4.5%,-1)) | T13: =IF(ISBLANK(D13),"",IF(Y13=FALSE,ROUNDDOWN(ROUNDDOWN(IF(O13<280000,280000,IF(O13>65790000,65790000,O13))*2.82%,-1)*6.55%,-1),ROUNDDOWN(ROUNDDOWN(IF(O13<280000,280000,IF(O13>65790000,65790000,O13))*2.82%,-1)*6.55%,-1)-ROUNDUP(ROUNDDOWN(ROUNDDOWN(IF(O13<280000,280000,IF(O13>65790000,65790000,O13))*2.82%,-1)*6.55%,-1)*30%,-1))) | U13: =IF(ISBLANK(D13),"",ROUNDDOWN(IF(O13<280000,280000,IF(O13>65790000,65790000,O13))*2.82%,-1)) | V13: =ROUNDDOWN(O13*0.55%,-1) -> 0 | W13: =SUM(P13:V13) -> 0 | X13: =ROUNDUP(O13-W13,-1) -> 0 | Y13: FALSE
A14: =IF(ISBLANK(B14),"",ROW(A5)) | O14: =SUM(D14:N14) -> 0 | P14: =IF(O14/1000<770,0,IF(OR(ISBLANK(B14),O14<1000000),0,IF(O14>10000000,VLOOKUP(10000,갑근세,3)+((O14-10000000)*95%*35%),VLOOKUP(O14*0.001,갑근세,3)))) -> 0 | Q14: =ROUNDDOWN(P14*10%,-1) -> 0 | R14: =IF(ISBLANK(D14),"",ROUNDDOWN(ROUNDDOWN(IF(O14<230000,230000,IF(O14>3750000,3750000,O14)),-3)*4.5%,-1)) | T14: =IF(ISBLANK(D14),"",IF(Y14=FALSE,ROUNDDOWN(ROUNDDOWN(IF(O14<280000,280000,IF(O14>65790000,65790000,O14))*2.82%,-1)*6.55%,-1),ROUNDDOWN(ROUNDDOWN(IF(O14<280000,280000,IF(O14>65790000,65790000,O14))*2.82%,-1)*6.55%,-1)-ROUNDUP(ROUNDDOWN(ROUNDDOWN(IF(O14<280000,280000,IF(O14>65790000,65790000,O14))*2.82%,-1)*6.55%,-1)*30%,-1))) | U14: =IF(ISBLANK(D14),"",ROUNDDOWN(IF(O14<280000,280000,IF(O14>65790000,65790000,O14))*2.82%,-1)) | V14: =ROUNDDOWN(O14*0.55%,-1) -> 0 | W14: =SUM(P14:V14) -> 0 | X14: =ROUNDUP(O14-W14,-1) -> 0 | Y14: FALSE
A15: =IF(ISBLANK(B15),"",ROW(A7)) | O15: =SUM(D15:N15) -> 0 | P15: =IF(O15/1000<770,0,IF(OR(ISBLANK(B15),O15<1000000),0,IF(O15>10000000,VLOOKUP(10000,갑근세,3)+((O15-10000000)*95%*35%),VLOOKUP(O15*0.001,갑근세,3)))) -> 0 | Q15: =ROUNDDOWN(P15*10%,-1) -> 0 | R15: =IF(ISBLANK(D15),"",ROUNDDOWN(ROUNDDOWN(IF(O15<230000,230000,IF(O15>3750000,3750000,O15)),-3)*4.5%,-1)) | T15: =IF(ISBLANK(D15),"",IF(Y15=FALSE,ROUNDDOWN(ROUNDDOWN(IF(O15<280000,280000,IF(O15>65790000,65790000,O15))*2.82%,-1)*6.55%,-1),ROUNDDOWN(ROUNDDOWN(IF(O15<280000,280000,IF(O15>65790000,65790000,O15))*2.82%,-1)*6.55%,-1)-ROUNDUP(ROUNDDOWN(ROUNDDOWN(IF(O15<280000,280000,IF(O15>65790000,65790000,O15))*2.82%,-1)*6.55%,-1)*30%,-1))) | U15: =IF(ISBLANK(D15),"",ROUNDDOWN(IF(O15<280000,280000,IF(O15>65790000,65790000,O15))*2.82%,-1)) | V15: =ROUNDDOWN(O15*0.55%,-1) -> 0 | W15: =SUM(P15:V15) -> 0 | X15: =ROUNDUP(O15-W15,-1) -> 0 | Y15: FALSE
A16: =IF(ISBLANK(B16),"",ROW(A8)) | O16: =SUM(D16:N16) -> 0 | P16: =IF(O16/1000<770,0,IF(OR(ISBLANK(B16),O16<1000000),0,IF(O16>10000000,VLOOKUP(10000,갑근세,3)+((O16-10000000)*95%*35%),VLOOKUP(O16*0.001,갑근세,3)))) -> 0 | Q16: =ROUNDDOWN(P16*10%,-1) -> 0 | R16: =IF(ISBLANK(D16),"",ROUNDDOWN(ROUNDDOWN(IF(O16<230000,230000,IF(O16>3750000,3750000,O16)),-3)*4.5%,-1)) | T16: =IF(ISBLANK(D16),"",IF(Y16=FALSE,ROUNDDOWN(ROUNDDOWN(IF(O16<280000,280000,IF(O16>65790000,65790000,O16))*2.82%,-1)*6.55%,-1),ROUNDDOWN(ROUNDDOWN(IF(O16<280000,280000,IF(O16>65790000,65790000,O16))*2.82%,-1)*6.55%,-1)-ROUNDUP(ROUNDDOWN(ROUNDDOWN(IF(O16<280000,280000,IF(O16>65790000,65790000,O16))*2.82%,-1)*6.55%,-1)*30%,-1))) | U16: =IF(ISBLANK(D16),"",ROUNDDOWN(IF(O16<280000,280000,IF(O16>65790000,65790000,O16))*2.82%,-1)) | V16: =ROUNDDOWN(O16*0.55%,-1) -> 0 | W16: =SUM(P16:V16) -> 0 | X16: =ROUNDUP(O16-W16,-1) -> 0 | Y16: FALSE
A17: =IF(ISBLANK(B17),"",ROW(A9)) | O17: =SUM(D17:N17) -> 0 | P17: =IF(O17/1000<770,0,IF(OR(ISBLANK(B17),O17<1000000),0,IF(O17>10000000,VLOOKUP(10000,갑근세,3)+((O17-10000000)*95%*35%),VLOOKUP(O17*0.001,갑근세,3)))) -> 0 | Q17: =ROUNDDOWN(P17*10%,-1) -> 0 | R17: =IF(ISBLANK(D17),"",ROUNDDOWN(ROUNDDOWN(IF(O17<230000,230000,IF(O17>3750000,3750000,O17)),-3)*4.5%,-1)) | T17: =IF(ISBLANK(D17),"",IF(Y17=FALSE,ROUNDDOWN(ROUNDDOWN(IF(O17<280000,280000,IF(O17>65790000,65790000,O17))*2.82%,-1)*6.55%,-1),ROUNDDOWN(ROUNDDOWN(IF(O17<280000,280000,IF(O17>65790000,65790000,O17))*2.82%,-1)*6.55%,-1)-ROUNDUP(ROUNDDOWN(ROUNDDOWN(IF(O17<280000,280000,IF(O17>65790000,65790000,O17))*2.82%,-1)*6.55%,-1)*30%,-1))) | U17: =IF(ISBLANK(D17),"",ROUNDDOWN(IF(O17<280000,280000,IF(O17>65790000,65790000,O17))*2.82%,-1)) | V17: =ROUNDDOWN(O17*0.55%,-1) -> 0 | W17: =SUM(P17:V17) -> 0 | X17: =ROUNDUP(O17-W17,-1) -> 0 | Y17: FALSE
A18: =IF(ISBLANK(B18),"",ROW(A10)) | O18: =SUM(D18:N18) -> 0 | P18: =IF(O18/1000<770,0,IF(OR(ISBLANK(B18),O18<1000000),0,IF(O18>10000000,VLOOKUP(10000,갑근세,3)+((O18-10000000)*95%*35%),VLOOKUP(O18*0.001,갑근세,3)))) -> 0 | Q18: =ROUNDDOWN(P18*10%,-1) -> 0 | R18: =IF(ISBLANK(D18),"",ROUNDDOWN(ROUNDDOWN(IF(O18<230000,230000,IF(O18>3750000,3750000,O18)),-3)*4.5%,-1)) | T18: =IF(ISBLANK(D18),"",IF(Y18=FALSE,ROUNDDOWN(ROUNDDOWN(IF(O18<280000,280000,IF(O18>65790000,65790000,O18))*2.82%,-1)*6.55%,-1),ROUNDDOWN(ROUNDDOWN(IF(O18<280000,280000,IF(O18>65790000,65790000,O18))*2.82%,-1)*6.55%,-1)-ROUNDUP(ROUNDDOWN(ROUNDDOWN(IF(O18<280000,280000,IF(O18>65790000,65790000,O18))*2.82%,-1)*6.55%,-1)*30%,-1))) | U18: =IF(ISBLANK(D18),"",ROUNDDOWN(IF(O18<280000,280000,IF(O18>65790000,65790000,O18))*2.82%,-1)) | V18: =ROUNDDOWN(O18*0.55%,-1) -> 0 | W18: =SUM(P18:V18) -> 0 | X18: =ROUNDUP(O18-W18,-1) -> 0 | Y18: FALSE
A19: =IF(ISBLANK(B19),"",ROW(A11)) | O19: =SUM(D19:N19) -> 0 | P19: =IF(O19/1000<770,0,IF(OR(ISBLANK(B19),O19<1000000),0,IF(O19>10000000,VLOOKUP(10000,갑근세,3)+((O19-10000000)*95%*35%),VLOOKUP(O19*0.001,갑근세,3)))) -> 0 | Q19: =ROUNDDOWN(P19*10%,-1) -> 0 | R19: =IF(ISBLANK(D19),"",ROUNDDOWN(ROUNDDOWN(IF(O19<230000,230000,IF(O19>3750000,3750000,O19)),-3)*4.5%,-1)) | T19: =IF(ISBLANK(D19),"",IF(Y19=FALSE,ROUNDDOWN(ROUNDDOWN(IF(O19<280000,280000,IF(O19>65790000,65790000,O19))*2.82%,-1)*6.55%,-1),ROUNDDOWN(ROUNDDOWN(IF(O19<280000,280000,IF(O19>65790000,65790000,O19))*2.82%,-1)*6.55%,-1)-ROUNDUP(ROUNDDOWN(ROUNDDOWN(IF(O19<280000,280000,IF(O19>65790000,65790000,O19))*2.82%,-1)*6.55%,-1)*30%,-1))) | U19: =IF(ISBLANK(D19),"",ROUNDDOWN(IF(O19<280000,280000,IF(O19>65790000,65790000,O19))*2.82%,-1)) | V19: =ROUNDDOWN(O19*0.55%,-1) -> 0 | W19: =SUM(P19:V19) -> 0 | X19: =ROUNDUP(O19-W19,-1) -> 0 | Y19: FALSE
A20: =IF(ISBLANK(B20),"",ROW(A12)) | O20: =SUM(D20:N20) -> 0 | P20: =IF(O20/1000<770,0,IF(OR(ISBLANK(B20),O20<1000000),0,IF(O20>10000000,VLOOKUP(10000,갑근세,3)+((O20-10000000)*95%*35%),VLOOKUP(O20*0.001,갑근세,3)))) -> 0 | Q20: =ROUNDDOWN(P20*10%,-1) -> 0 | R20: =IF(ISBLANK(D20),"",ROUNDDOWN(ROUNDDOWN(IF(O20<230000,230000,IF(O20>3750000,3750000,O20)),-3)*4.5%,-1)) | T20: =IF(ISBLANK(D20),"",IF(Y20=FALSE,ROUNDDOWN(ROUNDDOWN(IF(O20<280000,280000,IF(O20>65790000,65790000,O20))*2.82%,-1)*6.55%,-1),ROUNDDOWN(ROUNDDOWN(IF(O20<280000,280000,IF(O20>65790000,65790000,O20))*2.82%,-1)*6.55%,-1)-ROUNDUP(ROUNDDOWN(ROUNDDOWN(IF(O20<280000,280000,IF(O20>65790000,65790000,O20))*2.82%,-1)*6.55%,-1)*30%,-1))) | U20: =IF(ISBLANK(D20),"",ROUNDDOWN(IF(O20<280000,280000,IF(O20>65790000,65790000,O20))*2.82%,-1)) | V20: =ROUNDDOWN(O20*0.55%,-1) -> 0 | W20: =SUM(P20:V20) -> 0 | X20: =ROUNDUP(O20-W20,-1) -> 0 | Y20: FALSE
A21: =IF(ISBLANK(B21),"",ROW(A13)) | O21: =SUM(D21:N21) -> 0 | P21: =IF(O21/1000<770,0,IF(OR(ISBLANK(B21),O21<1000000),0,IF(O21>10000000,VLOOKUP(10000,갑근세,3)+((O21-10000000)*95%*35%),VLOOKUP(O21*0.001,갑근세,3)))) -> 0 | Q21: =ROUNDDOWN(P21*10%,-1) -> 0 | R21: =IF(ISBLANK(D21),"",ROUNDDOWN(ROUNDDOWN(IF(O21<230000,230000,IF(O21>3750000,3750000,O21)),-3)*4.5%,-1)) | T21: =IF(ISBLANK(D21),"",IF(Y21=FALSE,ROUNDDOWN(ROUNDDOWN(IF(O21<280000,280000,IF(O21>65790000,65790000,O21))*2.82%,-1)*6.55%,-1),ROUNDDOWN(ROUNDDOWN(IF(O21<280000,280000,IF(O21>65790000,65790000,O21))*2.82%,-1)*6.55%,-1)-ROUNDUP(ROUNDDOWN(ROUNDDOWN(IF(O21<280000,280000,IF(O21>65790000,65790000,O21))*2.82%,-1)*6.55%,-1)*30%,-1))) | U21: =IF(ISBLANK(D21),"",ROUNDDOWN(IF(O21<280000,280000,IF(O21>65790000,65790000,O21))*2.82%,-1)) | V21: =ROUNDDOWN(O21*0.55%,-1) -> 0 | W21: =SUM(P21:V21) -> 0 | X21: =ROUNDUP(O21-W21,-1) -> 0 | Y21: TRUE
A22: =IF(ISBLANK(B22),"",ROW(A14)) | O22: =SUM(D22:N22) -> 0 | P22: =IF(O22/1000<770,0,IF(OR(ISBLANK(B22),O22<1000000),0,IF(O22>10000000,VLOOKUP(10000,갑근세,3)+((O22-10000000)*95%*35%),VLOOKUP(O22*0.001,갑근세,3)))) -> 0 | Q22: =ROUNDDOWN(P22*10%,-1) -> 0 | R22: =IF(ISBLANK(D22),"",ROUNDDOWN(ROUNDDOWN(IF(O22<230000,230000,IF(O22>3750000,3750000,O22)),-3)*4.5%,-1)) | T22: =IF(ISBLANK(D22),"",IF(Y22=FALSE,ROUNDDOWN(ROUNDDOWN(IF(O22<280000,280000,IF(O22>65790000,65790000,O22))*2.82%,-1)*6.55%,-1),ROUNDDOWN(ROUNDDOWN(IF(O22<280000,280000,IF(O22>65790000,65790000,O22))*2.82%,-1)*6.55%,-1)-ROUNDUP(ROUNDDOWN(ROUNDDOWN(IF(O22<280000,280000,IF(O22>65790000,65790000,O22))*2.82%,-1)*6.55%,-1)*30%,-1))) | U22: =IF(ISBLANK(D22),"",ROUNDDOWN(IF(O22<280000,280000,IF(O22>65790000,65790000,O22))*2.82%,-1)) | V22: =ROUNDDOWN(O22*0.55%,-1) -> 0 | W22: =SUM(P22:V22) -> 0 | X22: =ROUNDUP(O22-W22,-1) -> 0 | Y22: FALSE
A23: =IF(ISBLANK(B23),"",ROW(A15)) | O23: =SUM(D23:N23) -> 0 | P23: =IF(O23/1000<770,0,IF(OR(ISBLANK(B23),O23<1000000),0,IF(O23>10000000,VLOOKUP(10000,갑근세,3)+((O23-10000000)*95%*35%),VLOOKUP(O23*0.001,갑근세,3)))) -> 0 | Q23: =ROUNDDOWN(P23*10%,-1) -> 0 | R23: =IF(ISBLANK(D23),"",ROUNDDOWN(ROUNDDOWN(IF(O23<230000,230000,IF(O23>3750000,3750000,O23)),-3)*4.5%,-1)) | T23: =IF(ISBLANK(D23),"",IF(Y23=FALSE,ROUNDDOWN(ROUNDDOWN(IF(O23<280000,280000,IF(O23>65790000,65790000,O23))*2.82%,-1)*6.55%,-1),ROUNDDOWN(ROUNDDOWN(IF(O23<280000,280000,IF(O23>65790000,65790000,O23))*2.82%,-1)*6.55%,-1)-ROUNDUP(ROUNDDOWN(ROUNDDOWN(IF(O23<280000,280000,IF(O23>65790000,65790000,O23))*2.82%,-1)*6.55%,-1)*30%,-1))) | U23: =IF(ISBLANK(D23),"",ROUNDDOWN(IF(O23<280000,280000,IF(O23>65790000,65790000,O23))*2.82%,-1)) | V23: =ROUNDDOWN(O23*0.55%,-1) -> 0 | W23: =SUM(P23:V23) -> 0 | X23: =ROUNDUP(O23-W23,-1) -> 0 | Y23: FALSE
A24: =IF(ISBLANK(B24),"",ROW(A16)) | O24: =SUM(D24:N24) -> 0 | P24: =IF(O24/1000<770,0,IF(OR(ISBLANK(B24),O24<1000000),0,IF(O24>10000000,VLOOKUP(10000,갑근세,3)+((O24-10000000)*95%*35%),VLOOKUP(O24*0.001,갑근세,3)))) -> 0 | Q24: =ROUNDDOWN(P24*10%,-1) -> 0 | R24: =IF(ISBLANK(D24),"",ROUNDDOWN(ROUNDDOWN(IF(O24<230000,230000,IF(O24>3750000,3750000,O24)),-3)*4.5%,-1)) | T24: =IF(ISBLANK(D24),"",IF(Y24=FALSE,ROUNDDOWN(ROUNDDOWN(IF(O24<280000,280000,IF(O24>65790000,65790000,O24))*2.82%,-1)*6.55%,-1),ROUNDDOWN(ROUNDDOWN(IF(O24<280000,280000,IF(O24>65790000,65790000,O24))*2.82%,-1)*6.55%,-1)-ROUNDUP(ROUNDDOWN(ROUNDDOWN(IF(O24<280000,280000,IF(O24>65790000,65790000,O24))*2.82%,-1)*6.55%,-1)*30%,-1))) | U24: =IF(ISBLANK(D24),"",ROUNDDOWN(IF(O24<280000,280000,IF(O24>65790000,65790000,O24))*2.82%,-1)) | V24: =ROUNDDOWN(O24*0.55%,-1) -> 0 | W24: =SUM(P24:V24) -> 0 | X24: =ROUNDUP(O24-W24,-1) -> 0 | Y24: FALSE
A25: =IF(ISBLANK(B25),"",ROW(A17)) | O25: =SUM(D25:N25) -> 0 | P25: =IF(O25/1000<770,0,IF(OR(ISBLANK(B25),O25<1000000),0,IF(O25>10000000,VLOOKUP(10000,갑근세,3)+((O25-10000000)*95%*35%),VLOOKUP(O25*0.001,갑근세,3)))) -> 0 | Q25: =ROUNDDOWN(P25*10%,-1) -> 0 | R25: =IF(ISBLANK(D25),"",ROUNDDOWN(ROUNDDOWN(IF(O25<230000,230000,IF(O25>3750000,3750000,O25)),-3)*4.5%,-1)) | T25: =IF(ISBLANK(D25),"",IF(Y25=FALSE,ROUNDDOWN(ROUNDDOWN(IF(O25<280000,280000,IF(O25>65790000,65790000,O25))*2.82%,-1)*6.55%,-1),ROUNDDOWN(ROUNDDOWN(IF(O25<280000,280000,IF(O25>65790000,65790000,O25))*2.82%,-1)*6.55%,-1)-ROUNDUP(ROUNDDOWN(ROUNDDOWN(IF(O25<280000,280000,IF(O25>65790000,65790000,O25))*2.82%,-1)*6.55%,-1)*30%,-1))) | U25: =IF(ISBLANK(D25),"",ROUNDDOWN(IF(O25<280000,280000,IF(O25>65790000,65790000,O25))*2.82%,-1)) | V25: =ROUNDDOWN(O25*0.55%,-1) -> 0 | W25: =SUM(P25:V25) -> 0 | X25: =ROUNDUP(O25-W25,-1) -> 0 | Y25: FALSE
A26: =IF(ISBLANK(B26),"",ROW(A18)) | O26: =SUM(D26:N26) -> 0 | P26: =IF(O26/1000<770,0,IF(OR(ISBLANK(B26),O26<1000000),0,IF(O26>10000000,VLOOKUP(10000,갑근세,3)+((O26-10000000)*95%*35%),VLOOKUP(O26*0.001,갑근세,3)))) -> 0 | Q26: =ROUNDDOWN(P26*10%,-1) -> 0 | R26: =IF(ISBLANK(D26),"",ROUNDDOWN(ROUNDDOWN(IF(O26<230000,230000,IF(O26>3750000,3750000,O26)),-3)*4.5%,-1)) | T26: =IF(ISBLANK(D26),"",IF(Y26=FALSE,ROUNDDOWN(ROUNDDOWN(IF(O26<280000,280000,IF(O26>65790000,65790000,O26))*2.82%,-1)*6.55%,-1),ROUNDDOWN(ROUNDDOWN(IF(O26<280000,280000,IF(O26>65790000,65790000,O26))*2.82%,-1)*6.55%,-1)-ROUNDUP(ROUNDDOWN(ROUNDDOWN(IF(O26<280000,280000,IF(O26>65790000,65790000,O26))*2.82%,-1)*6.55%,-1)*30%,-1))) | U26: =IF(ISBLANK(D26),"",ROUNDDOWN(IF(O26<280000,280000,IF(O26>65790000,65790000,O26))*2.82%,-1)) | V26: =ROUNDDOWN(O26*0.55%,-1) -> 0 | W26: =SUM(P26:V26) -> 0 | X26: =ROUNDUP(O26-W26,-1) -> 0 | Y26: FALSE
... A39: =IF(ISBLANK(B39),"",ROW(A31)) | O39: =SUM(D39:N39) -> 0 | P39: =IF(O39/1000<770,0,IF(OR(ISBLANK(B39),O39<1000000),0,IF(O39>10000000,VLOOKUP(10000,갑근세,3)+((O39-10000000)*95%*35%),VLOOKUP(O39*0.001,갑근세,3)))) -> 0 | Q39: =ROUNDDOWN(P39*10%,-1) -> 0 | R39: =IF(ISBLANK(D39),"",ROUNDDOWN(ROUNDDOWN(IF(O39<230000,230000,IF(O39>3750000,3750000,O39)),-3)*4.5%,-1)) | T39: =IF(ISBLANK(D39),"",IF(Y39=FALSE,ROUNDDOWN(ROUNDDOWN(IF(O39<280000,280000,IF(O39>65790000,65790000,O39))*2.82%,-1)*6.55%,-1),ROUNDDOWN(ROUNDDOWN(IF(O39<280000,280000,IF(O39>65790000,65790000,O39))*2.82%,-1)*6.55%,-1)-ROUNDUP(ROUNDDOWN(ROUNDDOWN(IF(O39<280000,280000,IF(O39>65790000,65790000,O39))*2.82%,-1)*6.55%,-1)*30%,-1))) | U39: =IF(ISBLANK(D39),"",ROUNDDOWN(IF(O39<280000,280000,IF(O39>65790000,65790000,O39))*2.82%,-1)) | V39: =ROUNDDOWN(O39*0.55%,-1) -> 0 | W39: =SUM(P39:V39) -> 0 | X39: =ROUNDUP(O39-W39,-1) -> 0 | Y39: FALSE
A40: 월 합 계 | D40: =SUM(D10:D39) -> 3900000 | E40: =SUM(E10:E39) -> 0 | F40: =SUM(F10:F39) -> 0 | G40: =SUM(G10:G39) -> 0 | H40: =SUM(H10:H39) -> 0 | I40: =SUM(I10:I39) -> 920000 | J40: =SUM(J10:J39) -> 0 | K40: =SUM(K10:K39) -> 0 | ... R40: =SUM(R10:R39) -> 216900 | T40: =SUM(T10:T39) -> 8890 | U40: =SUM(U10:U39) -> 137370 | V40: =SUM(V10:V39) -> 0 | W40: =SUM(W10:W39) -> 405640 | X40: =SUM(X10:X39) -> 4414360 | Z40: =SUM(Z10:Z39) -> 900000 | AA40: 25000 | AB40: =SUM(AB10:AB12) -> 5389360
A41: 연 합 계 | D41: =D40*12 -> 46800000 | E41: =SUM(E11:E40) -> 0 | F41: =SUM(F11:F40) -> 0 | G41: =SUM(G11:G40) -> 0 | H41: =SUM(H11:H40) -> 0 | I41: =I40*12 -> 11040000 | J41: =SUM(J11:J40) -> 0 | K41: =SUM(K11:K40) -> 0 | L41: =SUM(L11:L40) -> 0 | M41: =SUM(M11:M40) -> 0 | N41: =SUM(N11:N40) -> 0 | O41: =O40*12 -> 57840000 | P41: =P40*12 -> 463680 | Q41: =Q40*12 -> 46080 | R41: =R40*12 -> 2602800 | T41: =T40*12 -> 106680 | U41: =U40*12 -> 1648440 | V41: =SUM(V11:V40) -> 0 | W41: =W40*12 -> 4867680 | X41: =X40*12 -> 52972320 | Z41: =Z40*12 -> 10800000 | AA41: =AA40*12 -> 300000 | AB41: =AB40*12 -> 64672320
A42: 상여금포함 | D42: =D41 -> 46800000 | E42: =SUM(E12:E41) -> 0 | F42: =SUM(F12:F41) -> 0 | G42: =SUM(G12:G41) -> 0 | H42: =SUM(H12:H41) -> 0 | I42: =I41 -> 11040000 | J42: =SUM(J12:J41) -> 0 | K42: =SUM(K12:K41) -> 0 | L42: =SUM(L12:L41) -> 0 | M42: =SUM(M12:M41) -> 0 | N42: =SUM(N12:N41) -> 0 | O42: =D42+I42+Z42+AA42 -> 68940000 | Z42: =Z41 -> 10800000 | AA42: =AA41 -> 300000
R45: .= | AB45: =P11*12 -> 158160 | AC45: =Q11*12 -> 15720
AB46: =P12*12 -> 96840 | AC46: =Q12*12 -> 9600

Sheet 2012세출개요
A2: 2-1) 2013년 세출 예산서
A3: 1. 총예산 150,000,000 (일억오천만원정) -------------------------------------- 자부담 216,154,000 (약 2억1천6백만) / 72.1% 보조금 83,616,000 (약 8천4백만) / 27.9% | E3: 2. 금년도(2010)예산 대비 104,025,683원 (약 1억4백만원) 증액/ 53.1% 3. 금년도(2010)결산 대비 60,674,209원 (약 7천1백만원) 증액/ 24%
A5: ※ 항목별 구성비 변화 | B5: ※ 2011-2012년 세출 개요 | K5: ※ 사업단위별 구성비 변화 | Q5: ※ 항목별 구성비 변화
B6: 1)사무국 | C6: 인원감소로 인건비 외 예산 감소 29.3% | K6: 1)사무국 | L6: 인원감소로 인건비 외 예산 감소 29.3% | R6: 1)진행비: 금년 대비 34% ▼(약 4천9백만원 감소)
C7: 회원/ 연대 사업단위를 사무국으로 예산 통합(홍보,후원자의 밤 외) | L7: 회원/ 연대 사업단위를 사무국으로 예산 통합(홍보,후원자의 밤 외)
B8: 2)가정방문 | C8: 금년 대비 31.7%▼ | K8: 2)가정방문 | L8: 금년 대비 31.7%▼ | R8: 2)인건비:금년 대비 37.4% ▼(약 4천8백만원 감소) 간사 2인 사직으로 인건비 감소
B9: 3)공부방 | C9: 금년 대비 54.7%▼(모금회 3차 사업 미신청) | K9: 3)공부방 | L9: 금년 대비 54.7%▼(모금회 3차 사업 미신청)
B10: 4)동남아시아 | C10: 캄보디아 사업 진행 및 예산확대로 3천만원 증액 | K10: 4)동남아시아 | L10: 캄보디아 사업 진행 및 예산확대로 3천만원 증액
B11: 5)교육/연구 | C11: 금년도 사업 예산 기준 | K11: 5)교육/연구 | L11: 금년도 사업 예산 기준 | R11: 3)관리비: 금년 대비 8.2% ▼(약 2백만원 감소) 사무실 유지에 필요한 기본경비 금년과 유사
B12: 6)북한분유 보내기사업 | C12: 2012신규 사업으로 1천만원 신규 | K12: 6)북한분유 보내기사업 | L12: 2012신규 사업으로 1천만원 신규
N13: ※ 항목별 구성비 변화
O14: 1) 사업비 : 1억 * 총액 : 금년 대비 28.9% ▼(약 2천팔백 만원 감소) →모금회 3차 미지원 * 사업비 확대 항목 : 동남아시아보건의료사업 (1천7백만원 지출 → 3천만원으로 확대) * 2012년 신규 항목 : 북한 분유보내기 사업( 1천만원)
O19: 2)인건비: 8천만원 * 금년 대비 34.6% ▼(약 2천7백만원 감소) : 간사 1인 사직, 1인 출산휴가로 인건비 감소 * 기존 활동가 급여체계 변경(상세 내역 참조)
O24: 3)관리비: 2천만원 * 금년 대비 8.2% ▼(약 2백만원 감소) : 사무실 유지에 필요한 기본경비 금년과 유사
K27: =K39+N39+Q39+T39+W39 -> 194919269
AT31: 홍보비 | AU31: 행사비 | AV31: 인건비 | AW31: 사무실관리비 | AX31: 가정방문 | AY31: 공부방 | AZ31: 동남아시아 | BA31: 교육·연구
AT32: =M59 -> 0 | AU32: =M58 -> 0 | AV32: =M80 -> 0 | AW32: =M96 -> 0 | AX32: =P45 -> 0 | AY32: =S45 -> 0 | AZ32: =V45 -> 0 | BA32: =Y45 -> 0
W35: (단위:원) | AW35: 2012년예산 | AX35: 2011년예산
A36: 과 목 | D36: 총계 | K36: 사무국 | N36: 가정방문보건의료 | Q36: 공부방아동보건의료 | T36: 동남아시아 보건의료사업 | W36: 생명사랑의료 교육·연구사업 | Z36: 북한분유 보내기 | AW36: 200000000 | AX36: 299770000
A37: 관 | B37: 항 | C37: 목 | D37: 2012년예산 | E37: 2011년예산 | F37: (A)-(B) | G37: 예산대비증감 | H37: 2011 결산 | I37: (A)-(C) (단위:원) | J37: 2011결산 대비증감 | K37: 2012 | L37: 2011 | M37: 2011결산 | N37: 2012 | O37: 2011 | P37: 2011결산 | Q37: 2012 예산 | R37: 2011 예산 | S37: 2011결산 | T37: 2012 | U37: 2011 | V37: 2011결산 | W37: 2012 | X37: 2011 | Y37: 2011결산 | Z37: 2012 | AE37: 2012 | AT37: 홍보비 | AU37: 행사비 | AV37: 인건비 | AW37: 사무실관리비 | AX37: 가정방문 | AY37: 공부방 | AZ37: 동남아시아 | BA37: 교육·연구 | BB37: 북한분유
D38: (A) | E38: (B) | F38: (단위:원) | K38: 예산 | L38: 예산 | N38: 예산 | O38: 예산 | T38: 예산 | U38: 예산 | W38: 예산 | X38: 예산 | Z38: 예산 | AT38: =K68 -> 10000000 | AU38: =K67 -> 4500000 | AV38: =K89 -> 81823269 | AW38: =K105 -> 20836000 | AX38: =N54 -> 21300000 | AY38: =Q54 -> 21300000 | AZ38: 30000000 | BA38: 3000000 | BB38: 10000000 | BC38: =SUM(AT38:BB38) -> 202759269
A39: 총 계 | D39: =D40+D41+D44+D45+D46 -> 212199250 | E39: =E40+E41+E44+E45+E46 -> 299770000 | F39: =D39-E39 -> -87570750 | G39: =F39/E39 -> -0.29212646 | H39: =H40+H41+H44+H45+H46 -> 270768597 | I39: =D39-H39 -> -58569347 | J39: =I39/D39 -> -0.27601109 | K39: =K54 -> 119319269 | L39: =L40+L41+L44+L45+L46 -> 106688327 | M39: =M40+M41+M44 -> 145912419 | N39: =N40+N41+N44+N46 -> 21300000 | O39: 33880000 | P39: =P40+P41+P44 -> 42930370 | Q39: =Q40+Q41+Q44 -> 21300000 | R39: =R40+R41+R44 -> 71592000 | S39: =S40+S41+S44 -> 60192300 | T39: =T40+T41+T44 -> 30000000 | U39: =U40+U41+U44 -> 30000000 | V39: =V40+V41+V44 -> 17711100 | W39: =W54 -> 3000000 | X39: 3600000 | Y39: =Y40+Y41+Y44 -> 1816330 | Z39: =Z54 -> 10000000 | AT39: =AT38/BC38 -> 0.04931957 | AU39: =AU38/BC38 -> 0.022193807 | AV39: =AV38/BC38 -> 0.40354885 | AW39: =AW38/BC38 -> 0.10276226 | AX39: =AX38/BC38 -> 0.10505068 | AY39: =AY38/BC38 -> 0.10505068 | AZ39: =AZ38/BC38 -> 0.14795871 | BA39: =BA38/BC38 -> 0.014795871 | BB39: =BB38/BC38 -> 0.04931957
A40: 사업비 | B40: 사업비 | C40: 소 계 | D40: =D55 -> 100160000 | E40: =E55 -> 144160000 | F40: =D40-E40 -> -44000000 | G40: =F40/E40 -> -0.30521643 | H40: 129056986 | I40: =D40-H40 -> -28896986 | J40: =I40/D40 -> -0.28850825 | K40: =K55 -> 16660000 | L40: 10160000 | M40: 16783207 | N40: =N55 -> 20260000 | O40: 32680000 | P40: =P55 -> 40496480 | Q40: =Q55 -> 20240000 | R40: =R55 -> 70740000 | S40: =S55 -> 57317880 | T40: =T55 -> 30000000 | U40: 30000000 | V40: =V55 -> 16945300 | W40: =W55 -> 3000000 | X40: 3600000 | Y40: =Y55 -> 1665110 | Z40: =Z55 -> 10000000 | AE40: 2011 | AS40: 세부항목 | AT40: 홍보비 | AU40: 행사비 | AV40: 인건비 | AW40: 사무실관리비 | AX40: 가정방문 | AY40: 공부방 | AZ40: 동남아시아 | BA40: 교육·연구 | BB40: 북한분유
A41: 운영비 | B41: 인건비 | C41: 소 계 | D41: =D89 -> 80746827 | E41: =E89 -> 130548958 | F41: =D41-E41 -> -49802131 | G41: =F41/E41 -> -0.38148241 | H41: 108680219 | I41: =D41-H41 -> -27933392 | J41: =I41/D41 -> -0.34593795 | K41: =K89 -> 81823269 | L41: 70265400 | M41: =M89 -> 108680219 | N41: =N89 -> 0 | O41: 0 | P41: =P89 -> 0 | Q41: =Q89 -> 0 | R41: =R89 -> 0 | S41: =S89 -> 0 | T41: 0 | U41: 0 | V41: =V89 -> 0 | W41: 0 | X41: 0 | Y41: =Y89 -> 0 | Z41: 0 | AS41: 2011 | AT41: =M68 -> 6619417 | AU41: =M67 -> 4252169 | AV41: =M89 -> 108680219 | AW41: =M105 -> 20448993 | AX41: =P54 -> 42930370 | AY41: =S54 -> 60192300 | AZ41: =V54 -> 17711100 | BA41: =Y54 -> 1816330 | BC41: =SUM(AT41:BB41) -> 262650898
AS42: 2012 | AT42: 10000000 | AU42: 4500000 | AV42: 81823269 | AW42: 20836000 | AX42: 21300000 | AY42: 21300000 | AZ42: 30000000 | BA42: 3000000 | BB42: 10000000
AS43: 증감(원) | AT43: =AT42-AT41 -> 3380583 | AU43: =AU42-AU41 -> 247831 | AV43: =AV42-AV41 -> -26856950 | AW43: =AW42-AW41 -> 387007 | AX43: =AX42-AX41 -> -21630370 | AY43: =AY42-AY41 -> -38892300 | AZ43: =AZ42-AZ41 -> 12288900 | BA43: =BA42-BA41 -> 1183670 | BB43: =BB42-BB41 -> 10000000
B44: 관리비 | C44: 소 계 | D44: =D105 -> 22936000 | E44: =E105 -> 24998000 | F44: =F105 -> -2062000 | G44: =F44/E44 -> -0.082486599 | H44: 26496623 | I44: =D44-H44 -> -3560623 | J44: =I44/D44 -> -0.15524167 | K44: =K105 -> 20836000 | L44: 25956000 | M44: =M105 -> 20448993 | N44: =N105 -> 1040000 | O44: 1200000 | P44: =P105 -> 2433890 | Q44: =Q105 -> 1060000 | R44: =R105 -> 852000 | S44: =S105 -> 2874420 | T44: 0 | U44: 0 | V44: =V105 -> 765800 | X44: 0 | Y44: =Y105 -> 151220 | AT44: =AT41/BC41 -> 0.025202339 | AU44: =AU41/BC41 -> 0.016189433 | AV44: =AV41/BC41 -> 0.41378202 | AW44: =AW41/BC41 -> 0.07785617 | AX44: =AX41/BC41 -> 0.16345031 | AY44: =AY41/BC41 -> 0.22917226 | AZ44: =AZ41/BC41 -> 0.067432094 | BA44: =BA41/BC41 -> 0.0069153771
A45: 사업외비용 | B45: 사업외 | C45: 잡손실 | L45: 100000 | M45: 0 | AW45: 95160000 | AX45: 81691863 | AY45: 22936000 | AZ45: =SUM(AW45:AY45) -> 199787863
B46: 예비비 | C46: 예비비(이월금) | D46: 8356423 | E46: =E134 -> 63042 | F46: =D46-E46 -> 8293381 | G46: =F46/E46 -> 131.55327 | H46: 6534769 | I46: =D46-H46 -> 1821654 | J46: =I46/H46 -> 0.27876334 | K46: 0 | L46: 206927 | M46: 0 | AW46: =AW45/AZ45 -> 0.47630521 | AX46: =AX45/AZ45 -> 0.40889302 | AY46: =AY45/AZ45 -> 0.11480177
D47: =D40+D41+D44 -> 203842827 | E47: =E40+E41+E44+E45 -> 299706958 | F47: =D47-E47 -> -95864131 | G47: =D47/E47 -> 0.68014046
H49: =D55-H55 -> -28896986 | K49: =H49/H55 -> -0.22390873 | M49: =M54+Y54 -> 143577758 | N49: 128941801 | X49: (단위:원)
K50: =K54-L54 -> -49438731 | L50: =K50/L54 -> -0.29295637 | M50: =L54/K54 -> 1.4143399 | N50: =N54-P54 -> -21630370 | O50: =N50/O54 -> -0.4142162 | P50: =O54/N54 -> 2.4516432 | Q50: =Q54/S54 -> 0.35386586 | R50: =Q54-S54 -> -38892300 | S50: =R50/R54*100 -> -54.324925 | T50: =R50/R54 -> -0.54324925 | U50: =T54-U54 -> 0 | V50: =U50/U54*100 -> 0 | X50: =W54-X54 -> -600000 | Y50: =X50/X54*100 -> -16.666667
A52: 과 목 | D52: 총계 | K52: 사무국 | N52: 가정방문보건의료 | Q52: 공부방아동보건의료 | T52: 동남아시아 보건의료 | W52: 생명사랑의료 교육·연구 | Z52: 북한분유 보내기
A53: 관 | B53: 항 | C53: 목 | D53: 2012년예산 (A) | E53: 2011년예산 (B) | F53: (A)-(B) (단위:원) | G53: 금년대비증감(%) | H53: 2011결산 (C) | I53: (A)-(C) (단위:원) | J53: 2011결산 대비증감 | K53: 2012 예산 | L53: 2011 예산 | M53: 2011결산 | N53: 2012 예산 | O53: 2011 예산 | P53: 2011결산 | Q53: 2012 예산 | R53: 2011 예산 | S53: 2011결산 | T53: 2012 예산 | U53: 2012 예산 | V53: 2011결산 | W53: 2012 예산 | X53: 2011 예산 | Y53: 2011결산 | Z53: 2012 예산
A54: 총 계 | D54: =D55+D89+D105+D133+D134 -> 212199250 | E54: =E55+E89+E105+E134 -> 299770000 | F54: =D54-E54 -> -87570750 | G54: =F54/E54 -> -0.29212646 | H54: =H55+H89+H105+H133+H134 -> 270946297 | I54: =D54-H54 -> -58747047 | J54: =I54/D54 -> -0.27684851 | K54: =K55+K89+K105 -> 119319269 | L54: =L55+L89+L105+L133+L134 -> 168758000 | M54: =M55+M89+M105+M133+M134 -> 141761428 | N54: =SUM(N55+N89+N105) -> 21300000 | O54: =O55+O89+O105+O133+O134 -> 52220000 | P54: =P55+P89+P105+P133+P134 -> 42930370 | Q54: =Q55+Q89+Q105 -> 21300000 | R54: =R55+R89+R105+R133+R134 -> 71592000 | S54: =S55+S89+S105+S133+S134 -> 60192300 | T54: =T55+T89+T105 -> 30000000 | U54: =U55+U89+U105+U133+U134 -> 30000000 | V54: =V55+V89+V105+V133+V134 -> 17711100 | W54: =W55+W89+W105 -> 3000000 | X54: =X55+X89+X105+X133+X134 -> 3600000 | Y54: =Y55+Y89+Y105+Y133+Y134 -> 1816330 | Z54: =Z55+Z89+Z105 -> 10000000 | AS54: 2012년 | AT54: 홍보비 | AU54: 행사비 | AV54: 인건비 | AW54: 사무실관리비 | AX54: 가정방문 | AY54: 공부방 | AZ54: 동남아시아 | BA54: 교육·연구 | BB54: 북한분유
A55: 사업비 | B55: 사업비 | C55: 소 계 | D55: =SUM(D56:D69) -> 100160000 | E55: =SUM(E56:E69) -> 144160000 | F55: =D55-E55 -> -44000000 | G55: =F55/E55 -> -0.30521643 | H55: =SUM(H56:H69) -> 129056986 | I55: =D55-H55 -> -28896986 | J55: =I55/D55 -> -0.28850825 | K55: =SUM(K56:K85) -> 16660000 | L55: =SUM(L56:L69) -> 14360000 | M55: =SUM(M56:M69) -> 12632216 | N55: =SUM(N56:N69) -> 20260000 | O55: =SUM(O56:O69) -> 51860000 | P55: =SUM(P56:P69) -> 40496480 | Q55: =SUM(Q56:Q69) -> 20240000 | R55: =SUM(R56:R69) -> 70740000 | S55: =SUM(S56:S69) -> 57317880 | T55: 30000000 | U55: 30000000 | V55: =SUM(V56:V69) -> 16945300 | W55: 3000000 | X55: =SUM(X56:X69) -> 3600000 | Y55: =SUM(Y56:Y69) -> 1665110 | Z55: 10000000 | AT55: 0.049 | AU55: 0.022 | AV55: 0.404 | AW55: 0.103 | AX55: 0.105 | AY55: 0.105 | AZ55: 0.148 | BA55: 0.015 | BB55: 0.049
C56: 치과의료지원비 | D56: 10000000 | E56: 30000000 | F56: =D56-E56 -> -20000000 | G56: =F56/E56 -> -0.66666667 | H56: =SUM(M56,P56,S56,V56,Y56) -> 25654270 | I56: =D56-H56 -> -15654270 | J56: =I56/D56 -> -1.565427 | K56: - | L56: - | N56: 6000000 | O56: 7500000 | P56: 17000000 | Q56: 4000000 | R56: 22500000 | S56: 8654270 | T56: - | U56: 0 | V56: 0 | W56: - | X56: 0 | Y56: 0 | Z56: - | AW56: 사업비 | AX56: 인건비 | AY56: 관리비
C57: 의과의료지원비 | D57: 7000000 | E57: 26400000 | F57: =D57-E57 -> -19400000 | G57: =F57/E57 -> -0.73484848 | H57: =SUM(M57,P57,S57,V57,Y57) -> 3859647 | I57: =D57-H57 -> 3140353 | J57: =I57/D57 -> 0.44862186 | K57: - | L57: - | N57: 6000000 | O57: 21900000 | P57: 2776190 | Q57: 1000000 | R57: 4500000 | S57: 1083457 | T57: - | V57: - | W57: - | X57: - | Y57: - | Z57: - | AW57: 0.476 | AX57: 0.409 | AY57: 0.115
C58: 안과의료지원비 | D58: 1000000 | E58: 5800000 | F58: =D58-E58 -> -4800000 | G58: =F58/E58 -> -0.82758621 | H58: =SUM(M58,P58,S58,V58,Y58) -> 4136650 | I58: =D58-H58 -> -3136650 | J58: =I58/D58 -> -3.13665 | K58: - | L58: - | N58: 1000000 | O58: 4800000 | R58: 1000000 | S58: 4136650 | T58: - | U58: - | V58: - | W58: - | X58: - | Y58: - | Z58: -
C59: 심리검사및치료 | D59: 10800000 | E59: 20000000 | F59: =D59-E59 -> -9200000 | G59: =F59/E59 -> -0.46 | H59: =SUM(M59,P59,S59,V59,Y59) -> 26313300 | I59: =D59-H59 -> -15513300 | J59: =I59/D59 -> -1.4364167 | K59: - | L59: - | N59: - | O59: - | Q59: 10800000 | R59: 20000000 | S59: 26313300 | T59: - | U59: - | V59: - | W59: - | X59: - | Y59: - | Z59: - | AT59: 홍보비 | AU59: 행사비 | AV59: 인건비 | AW59: 사무실관리비 | AX59: 가정방문 | AY59: 공부방 | AZ59: 동남아시아 | BA59: 교육·연구
C60: 재가의료용품지원비 | D60: 360000 | E60: 360000 | F60: =D60-E60 -> 0 | G60: =F60/E60 -> 0 | H60: =SUM(M60,P60,S60,V60,Y60) -> 27400 | I60: =D60-H60 -> 332600 | J60: =I60/D60 -> 0.92388889 | K60: - | L60: - | N60: 360000 | O60: 360000 | P60: 27400 | Q60: - | R60: - | T60: - | U60: - | V60: - | W60: - | X60: - | Y60: - | Z60: - | AT60: 0.025 | AU60: 0.016 | AV60: 0.414 | AW60: 0.078 | AX60: 0.163 | AY60: 0.229 | AZ60: 0.067 | BA60: 0.007
C61: 재가복지용품지원비 | D61: 300000 | E61: 1480000 | F61: =D61-E61 -> -1180000 | G61: =F61/E61 -> -0.7972973 | H61: =SUM(M61,P61,S61,V61,Y61) -> 847400 | I61: =D61-H61 -> -547400 | J61: =I61/D61 -> -1.8246667 | K61: - | L61: - | N61: 300000 | O61: 1240000 | P61: 547400 | R61: 240000 | S61: 300000 | T61: - | U61: - | V61: - | W61: - | X61: - | Y61: - | Z61: - | AV61: 2012예산 | AW61: 2011결산 | AY61: 2011결산
C62: 가정환경지원비 | D62: 840000 | E62: 840000 | F62: =D62-E62 -> 0 | G62: =F62/E62 -> 0 | H62: =SUM(M62,P62,S62,V62,Y62) -> 1043600 | I62: =D62-H62 -> -203600 | J62: =I62/D62 -> -0.24238095 | K62: - | L62: - | N62: - | O62: - | P62: 100000 | Q62: 840000 | R62: 840000 | S62: 943600 | T62: - | U62: - | V62: - | W62: - | X62: - | Y62: - | Z62: - | AU62: 사업비 | AV62: 100160000 | AW62: 129056986 | AX62: 사업비 | AY62: 129056986
C63: 건강교육물품구입비 | D63: 200000 | E63: 5200000 | F63: =D63-E63 -> -5000000 | G63: =F63/E63 -> -0.96153846 | H63: =SUM(M63,P63,S63,V63,Y63) -> 6586650 | I63: =D63-H63 -> -6386650 | J63: =I63/D63 -> -31.93325 | K63: - | L63: - | N63: 200000 | O63: - | P63: 23870 | R63: 5200000 | S63: 6562780 | T63: - | U63: - | X63: - | Y63: - | AU63: 인건비 | AV63: 80746827 | AW63: 108680219 | AX63: 인건비 | AY63: 108680219
C64: 영양보충비 | D64: 1800000 | E64: 3900000 | F64: =D64-E64 -> -2100000 | G64: =F64/E64 -> -0.53846154 | H64: =SUM(M64,P64,S64,V64,Y64) -> 833000 | I64: =D64-H64 -> 967000 | J64: =I64/D64 -> 0.53722222 | K64: - | L64: - | N64: 1800000 | O64: 1800000 | P64: 833000 | R64: 2100000 | T64: - | U64: - | V64: - | W64: - | X64: - | Y64: - | Z64: - | AU64: 관리비 | AV64: 22936000 | AW64: 26496623 | AX64: 관리비 | AY64: 26496623
C65: 의료물품비 | D65: 1000000 | E65: 2500000 | F65: =D65-E65 -> -1500000 | G65: =F65/E65 -> -0.6 | H65: =SUM(M65,P65,S65,V65,Y65) -> 2694130 | I65: =D65-H65 -> -1694130 | J65: =I65/D65 -> -1.69413 | K65: - | L65: - | N65: 1000000 | O65: 2000000 | P65: 2694130 | Q65: - | R65: 500000 | T65: - | U65: - | V65: - | W65: - | X65: - | Y65: - | Z65: - | AV65: 2012예산 | AY65: =SUM(AY62:AY64) -> 264233828
C66: 기타물품비 | D66: 400000 | E66: 240000 | F66: =D66-E66 -> 160000 | G66: =F66/E66 -> 0.66666667 | H66: =SUM(M66,P66,S66,V66,Y66) -> 193570 | I66: =D66-H66 -> 206430 | J66: =I66/D66 -> 0.516075 | K66: - | L66: - | N66: 200000 | O66: - | P66: 137530 | Q66: 200000 | R66: 240000 | S66: 56040 | T66: - | U66: - | V66: - | Y66: - | AU66: 사업비 | AV66: 100160000 | AW66: =AV66/AV69 -> 0.49135896
C67: 행사준비비 | D67: 17500000 | E67: 7220000 | F67: =D67-E67 -> 10280000 | G67: =F67/E67 -> 1.4238227 | H67: =SUM(M67,P67,S67,V67,Y67) -> 7156149 | I67: =D67-H67 -> 10343851 | J67: =I67/D67 -> 0.5910772 | K67: 4500000 | L67: 3100000 | M67: 4252169 | N67: 500000 | O67: 2100000 | P67: 1317500 | R67: 2020000 | S67: 57000 | T67: - | U67: - | V67: - | W67: 2500000 | Y67: 1529480 | Z67: 10000000 | AU67: 인건비 | AV67: 80746827 | AW67: =AV67/AV69 -> 0.39612297
C68: 사업홍보비 | D68: 11500000 | E68: 8660000 | F68: =D68-E68 -> 2840000 | G68: =F68/E68 -> 0.32794457 | H68: =SUM(M68,P68,S68,V68,Y68) -> 9513840 | I68: =D68-H68 -> 1986160 | J68: =I68/D68 -> 0.17270957 | K68: 10000000 | L68: 7660000 | M68: 6619417 | N68: 500000 | O68: - | P68: 912700 | Q68: 1000000 | R68: 1000000 | S68: 1746093 | T68: - | U68: - | V68: 100000 | W68: - | Y68: 135630 | Z68: - | AU68: 관리비 | AV68: 22936000 | AW68: =AV68/AV69 -> 0.11251806
C69: 활동비 | D69: 37460000 | E69: 31560000 | F69: =D69-E69 -> 5900000 | G69: =F69/E69 -> 0.1869455 | H69: =SUM(M69,P69,S69,V69,Y69) -> 40197380 | I69: =D69-H69 -> -2737380 | J69: =I69/D69 -> -0.073074746 | K69: 2160000 | L69: 3600000 | M69: 1760630 | N69: 2400000 | O69: 10160000 | P69: 14126760 | Q69: 2400000 | R69: 10600000 | S69: 7464690 | T69: 30000000 | U69: 3600000 | V69: 16845300 | W69: 500000 | X69: 3600000 | Y69: - | Z69: - | AV69: =SUM(AV66:AV68) -> 203842827
D70: ※ 전체 (사업)진행비는 전년도예산 대비 30.1%▼ , 결산대비29.3%▼( 약 6천만원 - 모금회 사업 미신청 관련) | AU70: 사업비 | AV70: 0.491 | AW70: 사업비 | AX70: =AY62/AY65 -> 0.48841962
C71: 치과의료지원비 | D71: 생명사랑 자부담 금액은 감소(직접의료비 지원 지양) 및 모금회 지원금 중단으로 결산대비( 156.5% ▼ , 지역 치과연계 확대 및 연대 치과 연계를 통해 무료 치료가 가능하도록 진행 | AU71: 인건비 | AV71: 0.396 | AW71: 인건비 | AX71: =AY63/AY65 -> 0.4113032
C72: 의과의료지원비 | D72: 진단을 위한 초기 검사비(실비) 지급의 필요가 있는 사례 증가 등 의료비 지원사례 증가에 따라 (44.9%) 예산 증액 (어르신1인 30만원 X 20명)으로 질병 조기 발견 및 치료연계가 가능하도록 하기 위함 | AU72: 관리비 | AV72: 0.113 | AW72: 관리비 | AX72: =AY64/AY65 -> 0.10027718
C73: 안과의료지원비 | D73: 타지원처 개발 및 연계의 기회가 있어 사업비 지출 비율을 축소함
C74: 심리검사및치료 | D74: 공부방아동사업 관련 ; 금년도 검진결과 심리검사및 치료에 대한 필요가 있어 큰 폭으로 증액하여 지출하였으나 모금회 지원 중단 및 사업비 축소로 총 사업비는 감소 : 지역기관 연계 및 추후 공부방 정신건강프로그램으로 프로포절 신청 예정(1~2천만원 예상) : 지원처 확정 시 금년과 유사한 수준에서 지원이 가능할 것으로 보임(공부방이용 아동 중 중증아동 10명 1년간 치료를 목표로 함)
C75: 재가의료용품지원비 | D75: 직접 의료용품 지원 사례가 적었으나 어르신 대상 재활의료용품 등 서울시 지원금으로 계획하여 지급할 예정
C76: 재가복지용품지원비 | D76: 금년 예산집행액을 참조하여 하향조절 함, 직접 복지용품 전달은 지양하고 구청,지역복지기관에서 지급하는 재가복지용품 지원 및 서비스 연계를 확대하는 방향으로 진행할 예정(KT&G복지재단 난방비 지원 ,구청 생필품 지원 등)
C77: 가정환경지원비 | D77: 김재환아동(삼육재활원) 지원금, 금년과 동일하게 진행
C78: (선물구입비) | D78: 기관방문 및 아동 건강선물 구입비 ☞건강교육물품비로 비목변경 의결 ( *2010.12.12 이사회)
C79: 영양보충비 | D79: 아동영양관리 관련해서는 약사회 의약품 지원받음, 어르신은 필요가 있는 사례 의뢰가 증가하여 추가로 지원할 예정(5명)
C80: (장례지원비) | D80: 금년도 집행 건수가 발생하지 않아 차기년도 항목 삭제 의결 (* 2010.1212.이사회)
C81: 의료물품비 | D81: 예산대비 금년도 집행액 증가로 상향조절 ( 23.5%증가)
C82: 기타물품비 | D82: 금년 예산집행액이 예산을 초과하였으나 1회적 지출항목이 대부분이었고 비품비 등 다른 목으로 전용할 수 있는 품목이어서 하향조절함
C83: 행사준비비 | D83: 기존 진행해 오던 사업은 금년도 예산에 준하여 집행되었으나 내년도 북한 분유보내기 사업으로 1천만원 예산액 증액 함
C84: 사업홍보비 | D84: 올해 홈페이지 리뉴얼 및 CMS약정서 제작 등 비용 지출이 예정되어 증액함 (결산대비 17.3% 약 200만원)
C85: 활동비 | D85: 지역복지네트워크 사업비(모금회 지원분) 감소로 결산대비 하향조절(7.3%▼,270만원), 지속적인 비용이 필요한 항목으로 금년 예산대비로는 증액(예산대비 약 600만원)
A87: 과 목 | D87: 총계 | K87: 사무국 | N87: 가정방문보건의료 | Q87: 공부방아동보건의료 | T87: 동남아시아 보건의료 | W87: 생명사랑의료 교육·연구 | Z87: 북한분유 보내기
A88: 관 | B88: 항 | C88: 목 | D88: 2012년예산 (A) | E88: 2011년예산 (B) | F88: (A)-(B) (단위:원) | G88: 예산대비증감 | H88: 2011결산 (C) | I88: (A)-(C) (단위:원) | J88: 2011결산 대비증감 | K88: 2012년 예산 | L88: 2011년 예산 | M88: 2011결산 | N88: 2012년 예산 | O88: 2011년 예산 | P88: 2011결산 | Q88: 2012년예산 | R88: 2011년예산 | S88: 2011결산 | T88: 2012년 예산 | U88: 2011년 예산 | V88: 2011 결산 | W88: 2012년 예산 | X88: 2011년 예산 | Y88: 2011결산 | Z88: 2011년 예산
A89: 운영비 | B89: 인건비 | C89: 소 계 | D89: =SUM(D90:D95) -> 80746827 | E89: =SUM(E90:E95) -> 130548958 | F89: =D89-E89 -> -49802131 | G89: =F89/D89 -> -0.61676889 | H89: =SUM(M89,P89,S89,V89,Y89) -> 108680219 | I89: =D89-H89 -> -27933392 | J89: =I89/D89 -> -0.34593795 | K89: =SUM(K90:K95) -> 81823269 | L89: =SUM(L90:L95) -> 130548958 | M89: =SUM(M90:M95) -> 108680219 | N89: =SUM(N90:N95) -> 0 | O89: =SUM(O90:O95) -> 0 | P89: =SUM(P90:P95) -> 0 | R89: 0 | S89: =SUM(S90:S95) -> 0 | T89: =SUM(T90:T95) -> 0 | U89: =SUM(U90:U95) -> 0 | V89: =SUM(V90:V95) -> 0 | W89: =SUM(W90:W95) -> 0 | X89: =SUM(X90:X95) -> 0 | Y89: =SUM(Y90:Y95) -> 0 | Z89: =SUM(Z90:Z95) -> 0
C90: 급여 | D90: 57840000 | E90: 103270000 | F90: =D90-E90 -> -45430000 | G90: =F90/D90 -> -0.7854426 | H90: =SUM(M90,P90,S90,V90,Y90) -> 78759439 | I90: =D90-H90 -> -20919439 | J90: =I90/D90 -> -0.36167771 | K90: 65160000 | L90: 103270000 | M90: 78759439 | N90: - | O90: - | P90: - | R90: - | S90: - | T90: - | U90: - | V90: - | W90: - | X90: - | Y90: - | Z90: -
C91: 상여 | D91: 10800000 | E91: 6000000 | F91: =D91-E91 -> 4800000 | G91: =F91/D91 -> 0.44444444 | H91: =SUM(M91,P91,S91,V91,Y91) -> 4800000 | I91: =D91-H91 -> 6000000 | J91: =I91/D91 -> 0.55555556 | K91: 3600000 | L91: 6000000 | M91: 4800000 | N91: - | O91: - | P91: - | R91: - | S91: - | T91: - | U91: - | V91: - | W91: - | X91: - | Y91: - | Z91: -
C92: 강사비 | D92: - | E92: - | H92: =SUM(M92,P92,S92,V92,Y92) -> 0 | I92: 0 | K92: - | L92: - | M92: - | N92: - | O92: - | P92: - | R92: - | S92: - | T92: - | U92: - | V92: - | W92: - | X92: - | Y92: - | Z92: -
C93: 법정복리비 | D93: 5546827 | E93: 9478958 | F93: =D93-E93 -> -3932131 | G93: =F93/D93 -> -0.70889736 | H93: =SUM(M93,P93,S93,V93,Y93) -> 13477110 | I93: =D93-H93 -> -7930283 | J93: =I93/D93 -> -1.4296972 | K93: 6193269 | L93: 9478958 | M93: 13477110 | N93: - | O93: - | P93: - | R93: - | S93: - | T93: - | U93: - | V93: - | W93: - | X93: - | Y93: - | Z93: -
C94: 기타후생경비 | D94: 1740000 | E94: 3000000 | F94: =D94-E94 -> -1260000 | G94: =F94/D94 -> -0.72413793 | H94: =SUM(M94,P94,S94,V94,Y94) -> 4598670 | I94: =D94-H94 -> -2858670 | J94: =I94/D94 -> -1.6429138 | K94: 1440000 | L94: 3000000 | M94: 4598670 | N94: - | O94: - | P94: - | R94: - | S94: - | T94: - | U94: - | V94: - | W94: - | X94: - | Y94: - | Z94: -
C95: 퇴직급여전입 | D95: 4820000 | E95: 8800000 | F95: =D95-E95 -> -3980000 | G95: =F95/D95 -> -0.82572614 | H95: =SUM(M95,P95,S95,V95,Y95) -> 7045000 | I95: =D95-H95 -> -2225000 | J95: =I95/D95 -> -0.46161826 | K95: 5430000 | L95: 8800000 | M95: 7045000 | N95: - | O95: - | P95: - | R95: - | S95: - | V95: - | Y95: -
C96: 급여 | D96: 간사 1인 사직, 1인 출산휴가로 인건비 감소 ( 36.2% ▼), 기본급여 하향조절(130만원) - 호봉 및 상여금으로 충당(1인당 총 급여 인상액 상여금, 휴가비 포함 월평균 20만원 )
C97: 상여 | D97: 연간 6회기 상여금 지급 1회 60만원 X 6월 (1인당 연간 360만원)
C98: 강사비 | D98: 가정방문 및 공부방 사업비 조절에 따른 하향조절 (73.9% ▼)
C99: 법정복리비 | D99: 간사 1인 사직, 1인 출산휴가로 인건비 감소
C100: 기타후생경비 | D100: 교육비 및 여름휴가비(30만원)
C101: 퇴직급여전입 | D101: 간사 1인 사직, 1인 출산휴가로 인건비 감소/ 퇴직연금(DC형 - 연말 불입에서 월별불입으로 변경)
A103: 과 목 | D103: 총계 | K103: 사무국 | N103: 가정방문보건의료 | Q103: 공부방아동보건의료 | T103: 동남아시아 보건의료사업 | W103: 생명사랑의료 교육·연구 | Z103: 북한분유 보내기
A104: 관 | B104: 항 | C104: 목 | D104: 2012년예산 (A) | E104: 2011년예산 (B) | F104: (A)-(B) (단위:원) | G104: 금년대비증감(%) | H104: 2011결산 (C) | I104: (A)-(C) (단위:원) | J104: 2011결산 대비증감 | K104: 2012년 예산 | L104: 2011년 예산 | M104: 2011 결산 | N104: 2012년 예산 | O104: 2011년 예산 | P104: 2011 결산 | Q104: 2012년예산 | R104: 2011년예산 | S104: 2011 결산 | T104: 2012년 예산 | U104: 2011년 예산 | V104: 2011 결산 | W104: 2012년 예산 | X104: 2011년 예산 | Y104: 2011 결산 | Z104: 2012년 예산
A105: 운영비 | B105: 관리비 | C105: 소 계 | D105: =SUM(D106:D118) -> 22936000 | E105: =SUM(E106:E118) -> 24998000 | F105: =D105-E105 -> -2062000 | G105: =F105/D105 -> -0.089902337 | H105: =SUM(M105,P105,S105,V105,Y105) -> 26674323 | I105: =D105-H105 -> -3738323 | J105: =I105/D105 -> -0.16298932 | K105: =SUM(K106:K118) -> 20836000 | L105: =SUM(L106:L118) -> 23786000 | M105: =SUM(M106:M118) -> 20448993 | N105: =SUM(N106:N118) -> 1040000 | O105: =SUM(O106:O118) -> 360000 | P105: =SUM(P106:P118) -> 2433890 | Q105: =SUM(Q106:Q118) -> 1060000 | R105: =SUM(R106:R118) -> 852000 | ... Z105: =SUM(Z106:Z118) -> 0
C106: 임차료 | D106: 8760000 | E106: 8760000 | F106: =E106-D106 -> 0 | G106: =F106/D106 -> 0 | H106: =SUM(M106,P106,S106,V106,Y106) -> 8643600 | I106: =D106-H106 -> 116400 | J106: =I106/D106 -> 0.013287671 | K106: 8760000 | L106: 8760000 | M106: 8643600 | N106: - | O106: - | Q106: - | R106: - | T106: - | U106: - | W106: - | X106: - | Z106: -
C107: 공공요금 | D107: 1560000 | E107: 1800000 | F107: =E107-D107 -> 240000 | G107: =F107/D107 -> 0.15384615 | H107: =SUM(M107,P107,S107,V107,Y107) -> 1780270 | I107: =D107-H107 -> -220270 | J107: =I107/D107 -> -0.14119872 | K107: 1160000 | L107: 1800000 | M107: 1780270 | N107: - | O107: - | Q107: - | R107: - | T107: - | U107: - | W107: - | X107: - | Z107: -
C108: 정수기관리비 | D108: 408000 | E108: 408000 | F108: =E108-D108 -> 0 | G108: =F108/D108 -> 0 | H108: =SUM(M108,P108,S108,V108,Y108) -> 372900 | I108: =D108-H108 -> 35100 | J108: =I108/D108 -> 0.086029412 | K108: 408000 | L108: 408000 | M108: 372900 | R108: - | X108: -
C109: 우편통신비 | D109: 2520000 | E109: 2892000 | F109: =E109-D109 -> 372000 | G109: =F109/D109 -> 0.14761905 | H109: =SUM(M109,P109,S109,V109,Y109) -> 2695540 | I109: =D109-H109 -> -175540 | J109: =I109/D109 -> -0.06965873 | K109: 2400000 | L109: 2760000 | M109: 2312670 | N109: - | O109: - | Q109: 120000 | R109: 132000 | S109: 231650 | T109: - | U109: - | X109: - | Y109: 151220
C110: 소모품비 | D110: 1400000 | E110: 1440000 | F110: =E110-D110 -> 40000 | G110: =F110/D110 -> 0.028571429 | H110: =SUM(M110,P110,S110,V110,Y110) -> 1482170 | I110: =D110-H110 -> -82170 | J110: =I110/D110 -> -0.058692857 | K110: 600000 | L110: 1440000 | M110: 993280 | N110: 600000 | O110: - | P110: 478890 | Q110: 600000 | R110: - | S110: 10000 | T110: - | U110: - | W110: - | X110: - | Z110: -
C111: 전산소모품비 | D111: 600000 | E111: 600000 | F111: =E111-D111 -> 0 | G111: =F111/D111 -> 0 | H111: =SUM(M111,P111,S111,V111,Y111) -> 323260 | I111: =D111-H111 -> 276740 | J111: =I111/D111 -> 0.46123333 | K111: 600000 | L111: 600000 | M111: 323260 | N111: - | O111: - | Q111: - | R111: - | T111: - | U111: - | W111: - | X111: - | Z111: -
C112: 수선비 | D112: 80000 | E112: 80000 | F112: =E112-D112 -> 0 | G112: =F112/D112 -> 0 | H112: =SUM(M112,P112,S112,V112,Y112) -> 113550 | I112: =D112-H112 -> -33550 | J112: =I112/D112 -> -0.419375 | K112: 80000 | L112: 80000 | M112: 110550 | N112: - | O112: - | P112: 3000 | Q112: - | R112: - | T112: - | U112: - | W112: - | X112: - | Z112: -
C113: 도서인쇄비 | D113: 140000 | E113: 120000 | F113: =E113-D113 -> -20000 | G113: =F113/D113 -> -0.14285714 | H113: =SUM(M113,P113,S113,V113,Y113) -> 347990 | I113: =D113-H113 -> -207990 | J113: =I113/D113 -> -1.4856429 | K113: - | L113: - | N113: 140000 | O113: 120000 | P113: 132000 | Q113: - | R113: - | S113: 215990 | T113: - | U113: - | W113: - | X113: - | Z113: -
C114: 여비교통비 | D114: 640000 | E114: 960000 | F114: =E114-D114 -> 320000 | G114: =F114/D114 -> 0.5 | H114: =SUM(M114,P114,S114,V114,Y114) -> 2159860 | I114: =D114-H114 -> -1519860 | J114: =I114/D114 -> -2.3747812 | K114: - | L114: - | M114: 539400 | N114: 300000 | O114: 240000 | P114: 539400 | Q114: 340000 | R114: 720000 | S114: 315260 | T114: - | U114: - | V114: 765800 | W114: - | X114: - | Z114: -
C115: 차량유지비 | D115: 2200000 | E115: 2770000 | F115: =E115-D115 -> 570000 | G115: =F115/D115 -> 0.25909091 | H115: =SUM(M115,P115,S115,V115,Y115) -> 3382120 | I115: =D115-H115 -> -1182120 | J115: =I115/D115 -> -0.53732727 | K115: 2200000 | L115: 2770000 | N115: - | O115: - | P115: 1280600 | R115: - | S115: 2101520 | T115: - | U115: - | W115: - | X115: - | Z115: -
C116: 회의비 | D116: 0 | E116: 0 | F116: =E116-D116 -> 0 | H116: =SUM(M116,P116,S116,V116,Y116) -> 0 | I116: =D116-H116 -> 0 | K116: - | L116: - | N116: - | O116: - | Q116: - | R116: - | T116: - | U116: - | W116: - | X116: - | Z116: -
C117: 지급수수료 | D117: 4128000 | E117: 4368000 | F117: =E117-D117 -> 240000 | G117: =F117/D117 -> 0.058139535 | H117: =SUM(M117,P117,S117,V117,Y117) -> 3549913 | I117: =D117-H117 -> 578087 | J117: =I117/D117 -> 0.14004046 | K117: 4128000 | L117: 4368000 | M117: 3549913 | N117: - | O117: - | Q117: - | R117: - | T117: - | U117: - | X117: -
C118: 비품구입비 | D118: 500000 | E118: 800000 | F118: =E118-D118 -> 300000 | G118: =F118/D118 -> 0.6 | H118: =SUM(M118,P118,S118,V118,Y118) -> 1823150 | I118: =D118-H118 -> -1323150 | J118: =I118/D118 -> -2.6463 | K118: 500000 | L118: 800000 | M118: 1823150 | N118: - | O118: - | Q118: - | R118: - | T118: - | U118: - | W118: - | X118: - | Z118: -
C119: 임차료 | D119: 금년과 동일
C120: 공공요금 | D120: 하양 조절함
C121: 정수기관리비 | D121: 금년과 동일
...

Sheet 11'세출예산(산출기초종합) (2)
H1: =G7-G4 -> -1.48e+08 | AD1: 2-2. 2011예산 - 세출종합( 산출기초 )
G4: 298000000 | H4: =G8/G7 -> 0.30106667 | N4: (단위:원) | U4: (단위:원) | AB4: (단위:원) | AG4: (단위:원) | AL4: (단위:원)
A5: 과 목 | G5: 2010년예산 | H5: 사무국 | O5: 가정방문 보건의료 | V5: 공부방아동 건강검진 | AC5: 동남아시아 보건의료사업 | AH5: 생명사랑의료 교육·연구사업
A6: 관 | C6: 항 | E6: 목 | G6: (A) | AM6: 298000000
A7: 총 계 | G7: =SUM(G8,G73,G97,G140,G141) -> 1.5e+08 | N7: =SUM(N8,N73,N97,N140,N141) -> 1.194e+08 | U7: =SUM(U8,U73,U97,U140,U141) -> 12300000 | AB7: =SUM(AB8,AB73,AB97,AB140,AB141) -> 12300000 | AG7: =SUM(AG8,AG73,AG97,AG140,AG141) -> 3000000 | AL7: =SUM(AL8,AL73,AL97,AL140,AL141) -> 3000000 | AM7: =SUM(AL7,AG7,AB7,U7,N7) -> 1.5e+08 | AN7: =AM7-AM6 -> -1.48e+08
A8: 730 | B8: 사업 운영비 | C8: 732 | D8: 진행비 | E8: 소 계 | G8: =SUM(G9:G72) -> 45160000 | N8: =SUM(N9,N13,N17,N20,N24,N27,N31,N34,N41,N44,N47,N50,N53,N61,N68) -> 16660000 | U8: =SUM(U9,U13,U17,U20,U24,U27,U31,U34,U41,U44,U47,U50,U53,U61,U68) -> 11260000 | AB8: =SUM(AB9,AB13,AB17,AB20,AB24,AB27,AB31,AB34,AB2,AB41,AB44,AB47,AB50,AB53,AB61,AB68) -> 11240000 | AG8: =SUM(AG9,AG13,AG17,AG20,AG24,AG27,AG31,AG34,AG41,AG44,AG47,AG50,AG53,AG61,AG68) -> 3000000 | AL8: =SUM(AL9,AL13,AL17,AL20,AL24,AL27,AL31,AL34,AL41,AL44,AL47,AL50,AL53,AL61,AL68) -> 3000000 | AM8: =SUM(AL8,AG8,AB8,U8,N8) -> 45160000
E9: 732-01-00 | F9: 치과의료지원비 | G9: =SUM(N9,U9,AB9,AG9,AL9) -> 4000000 | N9: =SUM(N10:N11) -> 0 | U9: =SUM(U10:U11) -> 1000000 | AB9: =SUM(AB10:AB11) -> 3000000 | AG9: =SUM(AG10:AG11) -> 0 | AL9: =SUM(AL10:AL11) -> 0 | AM9: =SUM(AL9,AG9,AB9,U9,N9) -> 4000000
O10: 치지원1 | P10: 500000 | Q10: × | R10: 2 | U10: =SUM(P10*R10) -> 1000000 | V10: 치지원1 | W10: 100000 | X10: × | Y10: 30 | AB10: =SUM(W10*Y10) -> 3000000 | AM10: =SUM(AL10,AG10,AB10,U10,N10) -> 4000000
U11: =SUM(P11*R11) -> 0 | AM11: =SUM(AL11,AG11,AB11,U11,N11) -> 0
E13: 732-02-00 | F13: 의과의료지원비 | G13: =SUM(N13,U13,AB13,AG13,AL13) -> 3000000 | N13: =SUM(N14:N15) -> 0 | U13: =SUM(U14:U16) -> 2000000 | AB13: =SUM(AB14:AB15) -> 1000000 | AG13: =SUM(AG14:AG15) -> 0 | AL13: =SUM(AL14:AL15) -> 0 | AM13: =SUM(AL13,AG13,AB13,U13,N13) -> 3000000
O14: 외래치료및검사 | P14: 200000 | Q14: × | R14: 10 | U14: =SUM(P14*R14) -> 2000000 | V14: 아동및 가족원 | W14: 50000 | X14: × | Y14: 20 | AB14: =SUM(W14*Y14) -> 1000000 | AG14: =SUM(AD14*AF14) -> 0 | AM14: =SUM(AL14,AG14,AB14,U14,N14) -> 3000000
AB15: =SUM(W15*Y15) -> 0 | AM15: =SUM(AL15,AG15,AB15,U15,N15) -> 0
AM16: =SUM(AL16,AG16,AB16,U16,N16) -> 0
E17: 732-03-00 | F17: 안과의료지원비 | G17: =SUM(N17,U17,AB17,AG17,AL17) -> 1000000 | N17: =SUM(N18) -> 0 | U17: =SUM(U18) -> 1000000 | AG17: =SUM(AG18) -> 0 | AL17: =SUM(AL18) -> 0 | AM17: =SUM(AL17,AG17,AB17,U17,N17) -> 1000000
O18: 안과의료비 | P18: 200000 | Q18: × | R18: 5 | U18: =SUM(P18*R18) -> 1000000 | AM18: =SUM(AL18,AG18,AB18,U18,N18) -> 1000000
E20: 732-04-00 | F20: 심리검사및치료 | G20: =SUM(N20,U20,AB20,AG20,AL20) -> 3800000 | N20: =SUM(N22:N25) -> 0 | U20: =SUM(U21:U22) -> 0 | AB20: =AB21+AB22 -> 3800000 | AG20: =SUM(AG22:AG22) -> 0 | AL20: =SUM(AL22:AL22) -> 0 | AM20: =SUM(AL20,AG20,AB20,U20,N20) -> 3800000
V21: 심리상담 및 치료 | W21: 120000 | X21: × | Y21: 5 | Z21: × | AA21: 6 | AB21: =SUM(W21*Y21*AA21) -> 3600000 | AM21: =SUM(AL21,AG21,AB21,U21,N21) -> 3600000
V22: 심리검사비 | W22: 10000 | X22: × | Y22: 20 | AB22: =SUM(W22*Y22) -> 200000 | AM22: =SUM(AL22,AG22,AB22,U22,N22) -> 200000
E24: 732-05-00 | F24: 재가의료용품지원비 | G24: =SUM(N24,U24,AB24,AG24,AL24) -> 360000 | N24: =SUM(N25:N28) -> 0 | U24: =SUM(U25) -> 360000 | AB24: =SUM(AB25) -> 0 | AG24: =SUM(AG25) -> 0 | AL24: =SUM(AL25) -> 0 | AM24: =SUM(AL24,AG24,AB24,U24,N24) -> 360000
O25: 지팡이외 | P25: 30000 | Q25: × | R25: 12 | U25: =SUM(P25*R25) -> 360000 | AM25: =SUM(AL25,AG25,AB25,U25,N25) -> 360000
E27: 732-06-00 | F27: 재가복지용품지원비 | G27: =SUM(N27,U27,AB27,AG27,AL27) -> 300000 | N27: =SUM(N28:N31) -> 0 | U27: =SUM(U28:U29) -> 300000 | AG27: =SUM(AG28:AG29) -> 0 | AL27: =SUM(AL28:AL29) -> 0 | AM27: =SUM(AL27,AG27,AB27,U27,N27) -> 300000
O28: 생필품외 | P28: 30000 | Q28: × | R28: 10 | U28: =SUM(P28*R28) -> 300000 | AM28: =SUM(AL28,AG28,AB28,U28,N28) -> 300000
AM29: =SUM(AL29,AG29,AB29,U29,N29) -> 0
E31: 732-07-00 | F31: 가정환경지원비 | G31: =SUM(N31,U31,AB31,AG31,AL31) -> 840000 | N31: =SUM(N32:N35) -> 0 | U31: =SUM(U32) -> 0 | AB31: =SUM(AB32) -> 840000 | AG31: =SUM(AG32) -> 0 | AL31: =SUM(AL32) -> 0 | AM31: =SUM(AL31,AG31,AB31,U31,N31) -> 840000
V32: 김재환아동 | W32: 70000 | X32: × | Y32: 12 | AB32: =SUM(W32*Y32) -> 840000 | AM32: =SUM(AL32,AG32,AB32,U32,N32) -> 840000
E34: 732-08-00 | F34: 건강교육용품구입비 | G34: =SUM(N34,U34,AB34,AG34,AL34) -> 200000 | N34: =SUM(N35:N40) -> 0 | O34: 건강교육용품관련 | P34: 200000 | Q34: × | R34: 1 | U34: =SUM(P34*R34) -> 200000 | AG34: =SUM(AG35:AG40) -> 0 | AM34: =SUM(AL34,AG34,AB34,U34,N34) -> 200000
AM35: =SUM(AL35,AG35,AB35,U35,N35) -> 0
AM36: =SUM(AL36,AG36,AB36,U36,N36) -> 0
